Workbook

Sheet 30315
B1: کاربرگ اطلاعات درآمد 1393
B2: نام واحد
B3: برنامه:30315000
B4: دوره | C4: درامد | D4: بیمه ای | L4: کارت بهداشت | M4: سایر درآمد ها | N4: کنترل نسخ دریافتی ارسال نشده | O4: درامد نقدی (صندوق) | P4: بدهکاران اشخاص (بیماران تسویه نشده) | Q4: نیازمندان | R4: ترافیکی | S4: منازل سازمانی | T4: سایر قراردادها ودرامدها | U4: جمع کل درآمد
D5: تامین اجتماعی | E5: خدمات درمانی | F5: کمیته امداد | G5: نیروهای مسلح | H5: بیمه ذغال سنگ | I5: بیمه فولاد | J5: سایر بیمه ها | K5: جمع کل درامد بیمه ای
B6: فروردين | C6: ارسالی | D6: =فروردین!C6 -> 0 | E6: =فروردین!D6 -> 0 | F6: =فروردین!E6 -> 0 | G6: =فروردین!F6 -> 0 | H6: =فروردین!G6 -> 0 | I6: =فروردین!H6 -> 0 | J6: =فروردین!I6 -> 0 | K6: =D6+E6+F6+G6+H6+I6+J6 -> 0 | L6: =اردیبهشت!K3 -> 0 | M6: =فروردین!L6 -> 0 | N6: =فروردین!M6 -> 0 | O6: =فروردین!N6 -> 0 | P6: =فروردین!O6 -> 0 | Q6: =فروردین!P6 -> 0 | R6: =فروردین!Q6 -> 0 | S6: =فروردین!R6 -> 0 | T6: =فروردین!S6 -> 0 | U6: =SUM(K6:T8)-N6-K7-K8 -> 0
C7: وصولی | D7: =فروردین!C7 -> 0 | E7: =فروردین!D7 -> 0 | F7: =فروردین!E7 -> 0 | G7: =فروردین!F7 -> 0 | H7: =فروردین!G7 -> 0 | I7: =فروردین!H7 -> 0 | J7: =فروردین!I7 -> 0 | K7: =D7+E7+F7+G7+H7+I7+J7 -> 0 | U7: =K7+N7+P7+Q7+R7+S7+#REF! -> #REF!
C8: کسورات | D8: =فروردین!C8 -> 0 | E8: =فروردین!D8 -> 0 | F8: =فروردین!E8 -> 0 | G8: =فروردین!F8 -> 0 | H8: =فروردین!G8 -> 0 | I8: =فروردین!H8 -> 0 | J8: =فروردین!I8 -> 0 | K8: =D8+E8+F8+G8+H8+I8+J8 -> 0 | U8: =K8+N8+P8+Q8+R8+S8+#REF! -> #REF!
B9: ارديبهشت | C9: ارسالی | D9: =اردیبهشت!C6 -> 0 | E9: =اردیبهشت!D6 -> 0 | F9: =اردیبهشت!E6 -> 0 | G9: =اردیبهشت!F6 -> 0 | H9: =اردیبهشت!G6 -> 0 | I9: =اردیبهشت!H6 -> 0 | J9: =اردیبهشت!I6 -> 0 | K9: =D9+E9+F9+G9+H9+I9+J9 -> 0 | L9: =اردیبهشت!K6 -> 0 | M9: =اردیبهشت!L6 -> 0 | N9: =اردیبهشت!M6 -> 0 | O9: =اردیبهشت!N6 -> 0 | P9: =اردیبهشت!O6 -> 0 | Q9: =اردیبهشت!P6 -> 0 | R9: =اردیبهشت!Q6 -> 0 | S9: =اردیبهشت!R6 -> 0 | T9: =فروردین!S9 -> 0 | U9: =SUM(K9:T11)-N9 -> 0
C10: وصولی | D10: =اردیبهشت!C7 -> 0 | E10: =اردیبهشت!D7 -> 0 | F10: =اردیبهشت!E7 -> 0 | G10: =اردیبهشت!F7 -> 0 | H10: =اردیبهشت!G7 -> 0 | I10: =اردیبهشت!H7 -> 0 | J10: =اردیبهشت!I7 -> 0 | K10: =D10+E10+F10+G10+H10+I10+J10 -> 0 | U10: =K10+N10+P10+Q10+R10+S10+#REF! -> #REF!
C11: کسورات | D11: =اردیبهشت!C8 -> 0 | E11: =اردیبهشت!D8 -> 0 | F11: =اردیبهشت!E8 -> 0 | G11: =اردیبهشت!F8 -> 0 | H11: =اردیبهشت!G8 -> 0 | I11: =اردیبهشت!H8 -> 0 | J11: =اردیبهشت!I8 -> 0 | K11: =D11+E11+F11+G11+H11+I11+J11 -> 0 | U11: =K11+N11+P11+Q11+R11+S11+#REF! -> #REF!
B12: خرداد | C12: ارسالی | D12: =خرداد!C6 -> 0 | E12: =خرداد!D6 -> 0 | F12: =خرداد!E6 -> 0 | G12: =خرداد!F6 -> 0 | H12: =خرداد!G6 -> 0 | I12: =خرداد!H6 -> 0 | J12: =خرداد!I6 -> 0 | K12: =D12+E12+F12+G12+H12+I12+J12 -> 0 | L12: =خرداد!K6 -> 0 | M12: =خرداد!L6 -> 0 | N12: =خرداد!M6 -> 0 | O12: =خرداد!N6 -> 0 | P12: =خرداد!O6 -> 0 | Q12: =خرداد!P6 -> 0 | R12: =خرداد!Q6 -> 0 | S12: =خرداد!R6 -> 0 | T12: =فروردین!S12 -> 0 | U12: =SUM(K12:T14)-N12 -> 0
C13: وصولی | D13: =خرداد!C7 -> 0 | E13: =خرداد!D7 -> 0 | F13: =خرداد!E7 -> 0 | G13: =خرداد!F7 -> 0 | H13: =خرداد!G7 -> 0 | I13: =خرداد!H7 -> 0 | J13: =خرداد!I7 -> 0 | K13: =D13+E13+F13+G13+H13+I13+J13 -> 0 | U13: =K13+N13+P13+Q13+R13+S13+#REF! -> #REF!
C14: کسورات | D14: =خرداد!C8 -> 0 | E14: =خرداد!D8 -> 0 | F14: =خرداد!E8 -> 0 | G14: =خرداد!F8 -> 0 | H14: =خرداد!G8 -> 0 | I14: =خرداد!H8 -> 0 | J14: =خرداد!I8 -> 0 | K14: =D14+E14+F14+G14+H14+I14+J14 -> 0 | U14: =K14+N14+P14+Q14+R14+S14+#REF! -> #REF!
B15: تير | C15: ارسالی | D15: =تیر!C6 -> 0 | E15: =تیر!D6 -> 0 | F15: =تیر!E6 -> 0 | G15: =تیر!F6 -> 0 | H15: =تیر!G6 -> 0 | I15: =تیر!H6 -> 0 | J15: =تیر!I6 -> 0 | K15: =D15+E15+F15+G15+H15+I15+J15 -> 0 | L15: =تیر!K6 -> 0 | M15: =تیر!L6 -> 0 | N15: =تیر!M6 -> 0 | O15: =تیر!N6 -> 0 | P15: =تیر!O6 -> 0 | Q15: =تیر!P6 -> 0 | R15: =تیر!Q6 -> 0 | S15: =تیر!R6 -> 0 | T15: =فروردین!S15 -> 0 | U15: =SUM(K15:T17)-N15 -> 0
C16: وصولی | D16: =تیر!C7 -> 0 | E16: =تیر!D7 -> 0 | F16: =تیر!E7 -> 0 | G16: =تیر!F7 -> 0 | H16: =تیر!G7 -> 0 | I16: =تیر!H7 -> 0 | J16: =تیر!I7 -> 0 | K16: =D16+E16+F16+G16+H16+I16+J16 -> 0 | U16: =K16+N16+P16+Q16+R16+S16+#REF! -> #REF!
C17: کسورات | D17: =تیر!C8 -> 0 | E17: =تیر!D8 -> 0 | F17: =تیر!E8 -> 0 | G17: =تیر!F8 -> 0 | H17: =تیر!G8 -> 0 | I17: =تیر!H8 -> 0 | J17: =تیر!I8 -> 0 | K17: =D17+E17+F17+G17+H17+I17+J17 -> 0 | U17: =K17+N17+P17+Q17+R17+S17+#REF! -> #REF!
B18: مرداد | C18: ارسالی | D18: =مرداد!C6 -> 0 | E18: =مرداد!D6 -> 0 | F18: =مرداد!E6 -> 0 | G18: =مرداد!F6 -> 0 | H18: =مرداد!G6 -> 0 | I18: =مرداد!H6 -> 0 | J18: =مرداد!I6 -> 0 | K18: =D18+E18+F18+G18+H18+I18+J18 -> 0 | L18: =مرداد!K6 -> 0 | M18: =مرداد!L6 -> 0 | N18: =مرداد!M6 -> 0 | O18: =مرداد!N6 -> 0 | P18: =مرداد!O6 -> 0 | Q18: =مرداد!P6 -> 0 | R18: =مرداد!Q6 -> 0 | S18: =مرداد!R6 -> 0 | T18: =فروردین!S18 -> 0 | U18: =SUM(K18:T20)-N18 -> 0
C19: وصولی | D19: =مرداد!C7 -> 0 | E19: =مرداد!D7 -> 0 | F19: =مرداد!E7 -> 0 | G19: =مرداد!F7 -> 0 | H19: =مرداد!G7 -> 0 | I19: =مرداد!H7 -> 0 | J19: =مرداد!I7 -> 0 | K19: =D19+E19+F19+G19+H19+I19+J19 -> 0 | U19: =K19+N19+P19+Q19+R19+S19+#REF! -> #REF!
C20: کسورات | D20: =مرداد!C8 -> 0 | E20: =مرداد!D8 -> 0 | F20: =مرداد!E8 -> 0 | G20: =مرداد!F8 -> 0 | H20: =مرداد!G8 -> 0 | I20: =مرداد!H8 -> 0 | J20: =مرداد!I8 -> 0 | K20: =D20+E20+F20+G20+H20+I20+J20 -> 0 | U20: =K20+N20+P20+Q20+R20+S20+#REF! -> #REF!
B21: تغییر تعرفه | C21: ارسالی | D21: ='تغییر تعرفه'!C6 -> 0 | E21: ='تغییر تعرفه'!D6 -> 0 | F21: ='تغییر تعرفه'!E6 -> 0 | G21: ='تغییر تعرفه'!F6 -> 0 | H21: ='تغییر تعرفه'!G6 -> 0 | I21: ='تغییر تعرفه'!H6 -> 0 | J21: ='تغییر تعرفه'!I6 -> 0 | K21: =D21+E21+F21+G21+H21+I21+J21 -> 0 | L21: ='تغییر تعرفه'!K6 -> 0 | M21: ='تغییر تعرفه'!L6 -> 0 | N21: ='تغییر تعرفه'!M6 -> 0 | O21: ='تغییر تعرفه'!N6 -> 0 | P21: ='تغییر تعرفه'!O6 -> 0 | Q21: ='تغییر تعرفه'!P6 -> 0 | R21: ='تغییر تعرفه'!Q6 -> 0 | S21: ='تغییر تعرفه'!R6 -> 0 | T21: =فروردین!S21 -> 0 | U21: =SUM(K21:T23)-N21 -> 0
C22: وصولی | D22: ='تغییر تعرفه'!C7 -> 0 | E22: ='تغییر تعرفه'!D7 -> 0 | F22: ='تغییر تعرفه'!E7 -> 0 | G22: ='تغییر تعرفه'!F7 -> 0 | H22: ='تغییر تعرفه'!G7 -> 0 | I22: ='تغییر تعرفه'!H7 -> 0 | J22: ='تغییر تعرفه'!I7 -> 0 | K22: =D22+E22+F22+G22+H22+I22+J22 -> 0 | U22: =K22+N22+P22+Q22+R22+S22+#REF! -> #REF!
C23: کسورات | D23: ='تغییر تعرفه'!C8 -> 0 | E23: ='تغییر تعرفه'!D8 -> 0 | F23: ='تغییر تعرفه'!E8 -> 0 | G23: ='تغییر تعرفه'!F8 -> 0 | H23: ='تغییر تعرفه'!G8 -> 0 | I23: ='تغییر تعرفه'!H8 -> 0 | J23: ='تغییر تعرفه'!I8 -> 0 | K23: =D23+E23+F23+G23+H23+I23+J23 -> 0 | U23: =K23+N23+P23+Q23+R23+S23+#REF! -> #REF!
B24: شهريور | C24: ارسالی | D24: =شهریور!C6 -> 0 | E24: =شهریور!D6 -> 0 | F24: =شهریور!E6 -> 0 | G24: =شهریور!F6 -> 0 | H24: =شهریور!G6 -> 0 | I24: =شهریور!H6 -> 0 | J24: =شهریور!I6 -> 0 | K24: =D24+E24+F24+G24+H24+I24+J24 -> 0 | L24: =شهریور!K6 -> 0 | M24: =شهریور!L6 -> 0 | N24: =شهریور!M6 -> 0 | O24: =شهریور!N6 -> 0 | P24: =شهریور!O6 -> 0 | Q24: =شهریور!P6 -> 0 | R24: =شهریور!Q6 -> 0 | S24: =شهریور!R6 -> 0 | T24: =فروردین!S24 -> 0 | U24: =SUM(K24:T26)-N24 -> 0
C25: وصولی | D25: =شهریور!C7 -> 0 | E25: =شهریور!D7 -> 0 | F25: =شهریور!E7 -> 0 | G25: =شهریور!F7 -> 0 | H25: =شهریور!G7 -> 0 | I25: =شهریور!H7 -> 0 | J25: =شهریور!I7 -> 0 | K25: =D25+E25+F25+G25+H25+I25+J25 -> 0 | U25: =K25+N25+P25+Q25+R25+S25+#REF! -> #REF!
C26: کسورات | D26: =شهریور!C8 -> 0 | E26: =شهریور!D8 -> 0 | F26: =شهریور!E8 -> 0 | G26: =شهریور!F8 -> 0 | H26: =شهریور!G8 -> 0 | I26: =شهریور!H8 -> 0 | J26: =شهریور!I8 -> 0 | K26: =D26+E26+F26+G26+H26+I26+J26 -> 0 | U26: =K26+N26+P26+Q26+R26+S26+#REF! -> #REF!
B27: مهر | C27: ارسالی | D27: =مهر!C6 -> 0 | E27: =مهر!D6 -> 0 | F27: =مهر!E6 -> 0 | G27: =مهر!F6 -> 0 | H27: =مهر!G6 -> 0 | I27: =مهر!H6 -> 0 | J27: =مهر!I6 -> 0 | K27: =D27+E27+F27+G27+H27+I27+J27 -> 0 | L27: =مهر!K6 -> 0 | M27: =مهر!L6 -> 0 | N27: =مهر!M6 -> 0 | O27: =مهر!N6 -> 0 | P27: =مهر!O6 -> 0 | Q27: =مهر!P6 -> 0 | R27: =مهر!Q6 -> 0 | S27: =مهر!R6 -> 0 | T27: =فروردین!S27 -> 0 | U27: =SUM(K27:T29)-N27 -> 0
C28: وصولی | D28: =مهر!C7 -> 0 | E28: =مهر!D7 -> 0 | F28: =مهر!E7 -> 0 | G28: =مهر!F7 -> 0 | H28: =مهر!G7 -> 0 | I28: =مهر!H7 -> 0 | J28: =مهر!I7 -> 0 | K28: =D28+E28+F28+G28+H28+I28+J28 -> 0 | U28: =K28+N28+P28+Q28+R28+S28+#REF! -> #REF!
C29: کسورات | D29: =مهر!C8 -> 0 | E29: =مهر!D8 -> 0 | F29: =مهر!E8 -> 0 | G29: =مهر!F8 -> 0 | H29: =مهر!G8 -> 0 | I29: =مهر!H8 -> 0 | J29: =مهر!I8 -> 0 | K29: =D29+E29+F29+G29+H29+I29+J29 -> 0 | U29: =K29+N29+P29+Q29+R29+S29+#REF! -> #REF!
B30: آبان | C30: ارسالی | D30: =آبان!C6 -> 0 | E30: =آبان!D6 -> 0 | F30: =آبان!E6 -> 0 | G30: =آبان!F6 -> 0 | H30: =آبان!G6 -> 0 | I30: =آبان!H6 -> 0 | J30: =آبان!I6 -> 0 | K30: =D30+E30+F30+G30+H30+I30+J30 -> 0 | L30: =آبان!K6 -> 0 | M30: =آبان!L6 -> 0 | N30: =آبان!M6 -> 0 | O30: =آبان!N6 -> 0 | P30: =آبان!O6 -> 0 | Q30: =آبان!P6 -> 0 | R30: =آبان!Q6 -> 0 | S30: =آبان!R6 -> 0 | T30: =فروردین!S30 -> 0 | U30: =SUM(K30:T32)-N30 -> 0
C31: وصولی | D31: =آبان!C7 -> 0 | E31: =آبان!D7 -> 0 | F31: =آبان!E7 -> 0 | G31: =آبان!F7 -> 0 | H31: =آبان!G7 -> 0 | I31: =آبان!H7 -> 0 | J31: =آبان!I7 -> 0 | K31: =D31+E31+F31+G31+H31+I31+J31 -> 0 | U31: =K31+N31+P31+Q31+R31+S31+#REF! -> #REF!
C32: کسورات | D32: =آبان!C8 -> 0 | E32: =آبان!D8 -> 0 | F32: =آبان!E8 -> 0 | G32: =آبان!F8 -> 0 | H32: =آبان!G8 -> 0 | I32: =آبان!H8 -> 0 | J32: =آبان!I8 -> 0 | K32: =D32+E32+F32+G32+H32+I32+J32 -> 0 | U32: =K32+N32+P32+Q32+R32+S32+#REF! -> #REF!
B33: آذر | C33: ارسالی | D33: =آذر!C6 -> 0 | E33: =آذر!D6 -> 0 | F33: =آذر!E6 -> 0 | G33: =آذر!F6 -> 0 | H33: =آذر!G6 -> 0 | I33: =آذر!H6 -> 0 | J33: =آذر!I6 -> 0 | K33: =D33+E33+F33+G33+H33+I33+J33 -> 0 | L33: =آذر!K6 -> 0 | M33: =آذر!L6 -> 0 | N33: =آذر!M6 -> 0 | O33: =آذر!N6 -> 0 | P33: =آذر!O6 -> 0 | Q33: =آذر!P6 -> 0 | R33: =آذر!Q6 -> 0 | S33: =آذر!R6 -> 0 | T33: =فروردین!S33 -> 0 | U33: =SUM(K33:T35)-N33 -> 0
C34: وصولی | D34: =آذر!C7 -> 0 | E34: =آذر!D7 -> 0 | F34: =آذر!E7 -> 0 | G34: =آذر!F7 -> 0 | H34: =آذر!G7 -> 0 | I34: =آذر!H7 -> 0 | J34: =آذر!I7 -> 0 | K34: =D34+E34+F34+G34+H34+I34+J34 -> 0 | U34: =K34+N34+P34+Q34+R34+S34+#REF! -> #REF!
C35: کسورات | D35: =آذر!C8 -> 0 | E35: =آذر!D8 -> 0 | F35: =آذر!E8 -> 0 | G35: =آذر!F8 -> 0 | H35: =آذر!G8 -> 0 | I35: =آذر!H8 -> 0 | J35: =آذر!I8 -> 0 | K35: =D35+E35+F35+G35+H35+I35+J35 -> 0 | U35: =K35+N35+P35+Q35+R35+S35+#REF! -> #REF!
B36: دي | C36: ارسالی | D36: =دی!C6 -> 0 | E36: =دی!D6 -> 0 | F36: =دی!E6 -> 0 | G36: =دی!F6 -> 0 | H36: =دی!G6 -> 0 | I36: =دی!H6 -> 0 | J36: =دی!I6 -> 0 | K36: =D36+E36+F36+G36+H36+I36+J36 -> 0 | L36: =دی!K6 -> 0 | M36: =دی!L6 -> 0 | N36: =دی!M6 -> 0 | O36: =دی!N6 -> 0 | P36: =دی!O6 -> 0 | Q36: =دی!P6 -> 0 | R36: =دی!Q6 -> 0 | S36: =دی!R6 -> 0 | T36: =فروردین!S36 -> 0 | U36: =SUM(K36:T38)-N36 -> 0
C37: وصولی | D37: =دی!C7 -> 0 | E37: =دی!D7 -> 0 | F37: =دی!E7 -> 0 | G37: =دی!F7 -> 0 | H37: =دی!G7 -> 0 | I37: =دی!H7 -> 0 | J37: =دی!I7 -> 0 | K37: =D37+E37+F37+G37+H37+I37+J37 -> 0 | U37: =K37+N37+P37+Q37+R37+S37+#REF! -> #REF!
C38: کسورات | D38: =دی!C8 -> 0 | E38: =دی!D8 -> 0 | F38: =دی!E8 -> 0 | G38: =دی!F8 -> 0 | H38: =دی!G8 -> 0 | I38: =دی!H8 -> 0 | J38: =دی!I8 -> 0 | K38: =D38+E38+F38+G38+H38+I38+J38 -> 0 | U38: =K38+N38+P38+Q38+R38+S38+#REF! -> #REF!
B39: بهمن | C39: ارسالی | D39: =بهمن!C6 -> 0 | E39: =بهمن!D6 -> 0 | F39: =بهمن!E6 -> 0 | G39: =بهمن!F6 -> 0 | H39: =بهمن!G6 -> 0 | I39: =بهمن!H6 -> 0 | J39: =بهمن!I6 -> 0 | K39: =D39+E39+F39+G39+H39+I39+J39 -> 0 | L39: =بهمن!K6 -> 0 | M39: =بهمن!L6 -> 0 | N39: =بهمن!M6 -> 0 | O39: =بهمن!N6 -> 0 | P39: =بهمن!O6 -> 0 | Q39: =بهمن!P6 -> 0 | R39: =بهمن!Q6 -> 0 | S39: =بهمن!R6 -> 0 | T39: =فروردین!S39 -> 0 | U39: =SUM(K39:T41)-N39 -> 0
C40: وصولی | D40: =بهمن!C7 -> 0 | E40: =بهمن!D7 -> 0 | F40: =بهمن!E7 -> 0 | G40: =بهمن!F7 -> 0 | H40: =بهمن!G7 -> 0 | I40: =بهمن!H7 -> 0 | J40: =بهمن!I7 -> 0 | K40: =D40+E40+F40+G40+H40+I40+J40 -> 0 | U40: =K40+N40+P40+Q40+R40+S40+#REF! -> #REF!
...

Sheet 30316
B1: کاربرگ اطلاعات درآمد 1393
B2: نام واحد
B3: برنامه:30316000
B4: دوره | C4: درامد | D4: بیمه ای | L4: کارت بهداشت | M4: سایر درآمد ها | N4: کنترل نسخ دریافتی ارسال نشده | O4: درامد نقدی (صندوق) | P4: بدهکاران اشخاص (بیماران تسویه نشده) | Q4: نیازمندان | R4: ترافیکی | S4: منازل سازمانی | T4: سایر قراردادها ودرامدها | U4: جمع کل درآمد
D5: تامین اجتماعی | E5: خدمات درمانی | F5: کمیته امداد | G5: نیروهای مسلح | H5: بیمه ذغال سنگ | I5: بیمه فولاد | J5: سایر بیمه ها | K5: جمع کل درامد بیمه ای
B6: فروردين | C6: ارسالی | D6: =فروردین!C9 -> 0 | E6: =فروردین!D9 -> 0 | F6: =فروردین!E9 -> 0 | G6: =فروردین!F9 -> 0 | H6: =فروردین!G9 -> 0 | I6: =فروردین!H9 -> 0 | J6: =فروردین!I9 -> 0 | K6: =D6+E6+F6+G6+H6+I6+J6 -> 0 | L6: =فروردین!K9 -> 0 | M6: =فروردین!L9 -> 0 | N6: =فروردین!M9 -> 0 | O6: =فروردین!N9 -> 0 | P6: =فروردین!O9 -> 0 | Q6: =فروردین!P9 -> 0 | R6: =فروردین!Q9 -> 0 | S6: =فروردین!R9 -> 0 | T6: =فروردین!S9 -> 0 | U6: =SUM(K6:T8)-N6-K7-K8 -> 0
C7: وصولی | D7: =فروردین!C10 -> 0 | E7: =فروردین!D10 -> 0 | F7: =فروردین!E10 -> 0 | G7: =فروردین!F10 -> 0 | H7: =فروردین!G10 -> 0 | I7: =فروردین!H10 -> 0 | J7: =فروردین!I10 -> 0 | K7: =D7+E7+F7+G7+H7+I7+J7 -> 0 | U7: =K7+N7+P7+Q7+R7+S7+T7 -> 0
C8: کسورات | D8: =فروردین!C11 -> 0 | E8: =فروردین!D11 -> 0 | F8: =فروردین!E11 -> 0 | G8: =فروردین!F11 -> 0 | H8: =فروردین!G11 -> 0 | I8: =فروردین!H11 -> 0 | J8: =فروردین!I11 -> 0 | K8: =D8+E8+F8+G8+H8+I8+J8 -> 0 | U8: =K8+N8+P8+Q8+R8+S8+T8 -> 0
B9: ارديبهشت | C9: ارسالی | D9: =اردیبهشت!C9 -> 0 | E9: =اردیبهشت!D9 -> 0 | F9: =اردیبهشت!E9 -> 0 | G9: =اردیبهشت!F9 -> 0 | H9: =اردیبهشت!G9 -> 0 | I9: =اردیبهشت!H9 -> 0 | J9: =اردیبهشت!I9 -> 0 | K9: =D9+E9+F9+G9+H9+I9+J9 -> 0 | L9: =اردیبهشت!K9 -> 0 | M9: =اردیبهشت!L9 -> 0 | N9: =اردیبهشت!M9 -> 0 | O9: =اردیبهشت!N9 -> 0 | P9: =اردیبهشت!O9 -> 0 | Q9: =اردیبهشت!P9 -> 0 | R9: =اردیبهشت!Q9 -> 0 | S9: =اردیبهشت!R9 -> 0 | T9: =اردیبهشت!S9 -> 0 | U9: =SUM(K9:T11)-N9 -> 0
C10: وصولی | D10: =اردیبهشت!C10 -> 0 | E10: =اردیبهشت!D10 -> 0 | F10: =اردیبهشت!E10 -> 0 | G10: =اردیبهشت!F10 -> 0 | H10: =اردیبهشت!G10 -> 0 | I10: =اردیبهشت!H10 -> 0 | J10: =اردیبهشت!I10 -> 0 | K10: =D10+E10+F10+G10+H10+I10+J10 -> 0 | U10: =K10+N10+P10+Q10+R10+S10+T10 -> 0
C11: کسورات | D11: =اردیبهشت!C8 -> 0 | E11: =اردیبهشت!D8 -> 0 | F11: =اردیبهشت!E8 -> 0 | G11: =اردیبهشت!F8 -> 0 | H11: =اردیبهشت!G8 -> 0 | I11: =اردیبهشت!H8 -> 0 | J11: =اردیبهشت!I8 -> 0 | K11: =D11+E11+F11+G11+H11+I11+J11 -> 0 | U11: =K11+N11+P11+Q11+R11+S11+T11 -> 0
B12: خرداد | C12: ارسالی | D12: =خرداد!C9 -> 0 | E12: =خرداد!D9 -> 0 | F12: =خرداد!E9 -> 0 | G12: =خرداد!F9 -> 0 | H12: =خرداد!G9 -> 0 | I12: =خرداد!H9 -> 0 | J12: =خرداد!I9 -> 0 | K12: =D12+E12+F12+G12+H12+I12+J12 -> 0 | L12: =خرداد!K9 -> 0 | M12: =خرداد!L9 -> 0 | N12: =خرداد!M9 -> 0 | O12: =خرداد!N9 -> 0 | P12: =خرداد!O9 -> 0 | Q12: =خرداد!P9 -> 0 | R12: =خرداد!Q9 -> 0 | S12: =خرداد!R9 -> 0 | T12: =خرداد!S9 -> 0 | U12: =SUM(K12:T14)-N12 -> 0
C13: وصولی | D13: =خرداد!C10 -> 0 | E13: =خرداد!D10 -> 0 | F13: =خرداد!E10 -> 0 | G13: =خرداد!F10 -> 0 | H13: =خرداد!G10 -> 0 | I13: =خرداد!H10 -> 0 | J13: =خرداد!I10 -> 0 | K13: =D13+E13+F13+G13+H13+I13+J13 -> 0 | U13: =K13+N13+P13+Q13+R13+S13+T13 -> 0
C14: کسورات | D14: =خرداد!C11 -> 0 | E14: =خرداد!D11 -> 0 | F14: =خرداد!E11 -> 0 | G14: =خرداد!F11 -> 0 | H14: =خرداد!G11 -> 0 | I14: =خرداد!H11 -> 0 | J14: =خرداد!I11 -> 0 | K14: =D14+E14+F14+G14+H14+I14+J14 -> 0 | U14: =K14+N14+P14+Q14+R14+S14+T14 -> 0
B15: تير | C15: ارسالی | D15: =تیر!C9 -> 0 | E15: =تیر!D9 -> 0 | F15: =تیر!E9 -> 0 | G15: =تیر!F9 -> 0 | H15: =تیر!G9 -> 0 | I15: =تیر!H9 -> 0 | J15: =تیر!I9 -> 0 | K15: =D15+E15+F15+G15+H15+I15+J15 -> 0 | L15: =تیر!K9 -> 0 | M15: =تیر!L9 -> 0 | N15: =تیر!M9 -> 0 | O15: =تیر!N9 -> 0 | P15: =تیر!O9 -> 0 | Q15: =تیر!P9 -> 0 | R15: =تیر!Q9 -> 0 | S15: =تیر!R9 -> 0 | T15: =تیر!S9 -> 0 | U15: =SUM(K15:T17)-N15 -> 0
C16: وصولی | D16: =تیر!C10 -> 0 | E16: =تیر!D10 -> 0 | F16: =تیر!E10 -> 0 | G16: =تیر!F10 -> 0 | H16: =تیر!G10 -> 0 | I16: =تیر!H10 -> 0 | J16: =تیر!I10 -> 0 | K16: =D16+E16+F16+G16+H16+I16+J16 -> 0 | U16: =K16+N16+P16+Q16+R16+S16+T16 -> 0
C17: کسورات | D17: =تیر!C11 -> 0 | E17: =تیر!D11 -> 0 | F17: =تیر!E11 -> 0 | G17: =تیر!F11 -> 0 | H17: =تیر!G11 -> 0 | I17: =تیر!H11 -> 0 | J17: =تیر!I11 -> 0 | K17: =D17+E17+F17+G17+H17+I17+J17 -> 0 | U17: =K17+N17+P17+Q17+R17+S17+T17 -> 0
B18: مرداد | C18: ارسالی | D18: =مرداد!C9 -> 0 | E18: =مرداد!D9 -> 0 | F18: =مرداد!E9 -> 0 | G18: =مرداد!F9 -> 0 | H18: =مرداد!G9 -> 0 | I18: =مرداد!H9 -> 0 | J18: =مرداد!I9 -> 0 | K18: =D18+E18+F18+G18+H18+I18+J18 -> 0 | L18: =مرداد!K9 -> 0 | M18: =مرداد!L9 -> 0 | N18: =مرداد!M9 -> 0 | O18: =مرداد!N9 -> 0 | P18: =مرداد!O9 -> 0 | Q18: =مرداد!P9 -> 0 | R18: =مرداد!Q9 -> 0 | S18: =مرداد!R9 -> 0 | T18: =مرداد!S9 -> 0 | U18: =SUM(K18:T20)-N18 -> 0
C19: وصولی | D19: =مرداد!C10 -> 0 | E19: =مرداد!D10 -> 0 | F19: =مرداد!E10 -> 0 | G19: =مرداد!F10 -> 0 | H19: =مرداد!G10 -> 0 | I19: =مرداد!H10 -> 0 | J19: =مرداد!I10 -> 0 | K19: =D19+E19+F19+G19+H19+I19+J19 -> 0 | U19: =K19+N19+P19+Q19+R19+S19+T19 -> 0
C20: کسورات | D20: =مرداد!C11 -> 0 | E20: =مرداد!D11 -> 0 | F20: =مرداد!E11 -> 0 | G20: =مرداد!F11 -> 0 | H20: =مرداد!G11 -> 0 | I20: =مرداد!H11 -> 0 | J20: =مرداد!I11 -> 0 | K20: =D20+E20+F20+G20+H20+I20+J20 -> 0 | U20: =K20+N20+P20+Q20+R20+S20+T20 -> 0
B21: تغییر تعرفه | C21: ارسالی | D21: ='تغییر تعرفه'!C9 -> 0 | E21: ='تغییر تعرفه'!D9 -> 0 | F21: ='تغییر تعرفه'!E9 -> 0 | G21: ='تغییر تعرفه'!F9 -> 0 | H21: ='تغییر تعرفه'!G9 -> 0 | I21: ='تغییر تعرفه'!H9 -> 0 | J21: ='تغییر تعرفه'!I9 -> 0 | K21: =D21+E21+F21+G21+H21+I21+J21 -> 0 | L21: ='تغییر تعرفه'!K9 -> 0 | M21: ='تغییر تعرفه'!L9 -> 0 | N21: ='تغییر تعرفه'!M9 -> 0 | O21: ='تغییر تعرفه'!N9 -> 0 | P21: ='تغییر تعرفه'!O9 -> 0 | Q21: ='تغییر تعرفه'!P9 -> 0 | R21: ='تغییر تعرفه'!Q9 -> 0 | S21: ='تغییر تعرفه'!R9 -> 0 | T21: ='تغییر تعرفه'!S9 -> 0 | U21: =SUM(K21:T23)-N21 -> 0
C22: وصولی | D22: ='تغییر تعرفه'!C10 -> 0 | E22: ='تغییر تعرفه'!D10 -> 0 | F22: ='تغییر تعرفه'!E10 -> 0 | G22: ='تغییر تعرفه'!F10 -> 0 | H22: ='تغییر تعرفه'!G10 -> 0 | I22: ='تغییر تعرفه'!H10 -> 0 | J22: ='تغییر تعرفه'!I10 -> 0 | K22: =D22+E22+F22+G22+H22+I22+J22 -> 0 | U22: =K22+N22+P22+Q22+R22+S22+T22 -> 0
C23: کسورات | D23: ='تغییر تعرفه'!C11 -> 0 | E23: ='تغییر تعرفه'!D11 -> 0 | F23: ='تغییر تعرفه'!E11 -> 0 | G23: ='تغییر تعرفه'!F11 -> 0 | H23: ='تغییر تعرفه'!G11 -> 0 | I23: ='تغییر تعرفه'!H11 -> 0 | J23: ='تغییر تعرفه'!I11 -> 0 | K23: =D23+E23+F23+G23+H23+I23+J23 -> 0 | U23: =K23+N23+P23+Q23+R23+S23+T23 -> 0
B24: شهريور | C24: ارسالی | D24: =شهریور!C9 -> 0 | E24: =شهریور!D9 -> 0 | F24: =شهریور!E9 -> 0 | G24: =شهریور!F9 -> 0 | H24: =شهریور!G9 -> 0 | I24: =شهریور!H9 -> 0 | J24: =شهریور!I9 -> 0 | K24: =D24+E24+F24+G24+H24+I24+J24 -> 0 | L24: =شهریور!K9 -> 0 | M24: =شهریور!L9 -> 0 | N24: =شهریور!M9 -> 0 | O24: =شهریور!N9 -> 0 | P24: =شهریور!O9 -> 0 | Q24: =شهریور!P9 -> 0 | R24: =شهریور!Q9 -> 0 | S24: =شهریور!R9 -> 0 | T24: =شهریور!S9 -> 0 | U24: =SUM(K24:T26)-N24 -> 0
C25: وصولی | D25: =شهریور!C10 -> 0 | E25: =شهریور!D10 -> 0 | F25: =شهریور!E10 -> 0 | G25: =شهریور!F10 -> 0 | H25: =شهریور!G10 -> 0 | I25: =شهریور!H10 -> 0 | J25: =شهریور!I10 -> 0 | K25: =D25+E25+F25+G25+H25+I25+J25 -> 0 | U25: =K25+N25+P25+Q25+R25+S25+T25 -> 0
C26: کسورات | D26: =شهریور!C11 -> 0 | E26: =شهریور!D11 -> 0 | F26: =شهریور!E11 -> 0 | G26: =شهریور!F11 -> 0 | H26: =شهریور!G11 -> 0 | I26: =شهریور!H11 -> 0 | J26: =شهریور!I11 -> 0 | K26: =D26+E26+F26+G26+H26+I26+J26 -> 0 | U26: =K26+N26+P26+Q26+R26+S26+T26 -> 0
B27: مهر | C27: ارسالی | D27: =مهر!C9 -> 0 | E27: =مهر!D9 -> 0 | F27: =مهر!E9 -> 0 | G27: =مهر!F9 -> 0 | H27: =مهر!G9 -> 0 | I27: =مهر!H9 -> 0 | J27: =مهر!I9 -> 0 | K27: =D27+E27+F27+G27+H27+I27+J27 -> 0 | L27: =مهر!K9 -> 0 | M27: =مهر!L9 -> 0 | N27: =مهر!M9 -> 0 | O27: =مهر!N9 -> 0 | P27: =مهر!O9 -> 0 | Q27: =مهر!P9 -> 0 | R27: =مهر!Q9 -> 0 | S27: =مهر!R9 -> 0 | T27: =مهر!S9 -> 0 | U27: =SUM(K27:T29)-N27 -> 0
C28: وصولی | D28: =مهر!C10 -> 0 | E28: =مهر!D10 -> 0 | F28: =مهر!E10 -> 0 | G28: =مهر!F10 -> 0 | H28: =مهر!G10 -> 0 | I28: =مهر!H10 -> 0 | J28: =مهر!I10 -> 0 | K28: =D28+E28+F28+G28+H28+I28+J28 -> 0 | U28: =K28+N28+P28+Q28+R28+S28+T28 -> 0
C29: کسورات | D29: =مهر!C11 -> 0 | E29: =مهر!D11 -> 0 | F29: =مهر!E11 -> 0 | G29: =مهر!F11 -> 0 | H29: =مهر!G11 -> 0 | I29: =مهر!H11 -> 0 | J29: =مهر!I11 -> 0 | K29: =D29+E29+F29+G29+H29+I29+J29 -> 0 | U29: =K29+N29+P29+Q29+R29+S29+T29 -> 0
B30: آبان | C30: ارسالی | D30: =آبان!C9 -> 0 | E30: =آبان!D9 -> 0 | F30: =آبان!E9 -> 0 | G30: =آبان!F9 -> 0 | H30: =آبان!G9 -> 0 | I30: =آبان!H9 -> 0 | J30: =آبان!I9 -> 0 | K30: =D30+E30+F30+G30+H30+I30+J30 -> 0 | L30: =آبان!K9 -> 0 | M30: =آبان!L9 -> 0 | N30: =آبان!M9 -> 0 | O30: =آبان!N9 -> 0 | P30: =آبان!O9 -> 0 | Q30: =آبان!P9 -> 0 | R30: =آبان!Q9 -> 0 | S30: =آبان!R9 -> 0 | T30: =آبان!S9 -> 0 | U30: =SUM(K30:T32)-N30 -> 0
C31: وصولی | D31: =آبان!C10 -> 0 | E31: =آبان!D10 -> 0 | F31: =آبان!E10 -> 0 | G31: =آبان!F10 -> 0 | H31: =آبان!G10 -> 0 | I31: =آبان!H10 -> 0 | J31: =آبان!I10 -> 0 | K31: =D31+E31+F31+G31+H31+I31+J31 -> 0 | U31: =K31+N31+P31+Q31+R31+S31+T31 -> 0
C32: کسورات | D32: =آبان!C11 -> 0 | E32: =آبان!D11 -> 0 | F32: =آبان!E11 -> 0 | G32: =آبان!F11 -> 0 | H32: =آبان!G11 -> 0 | I32: =آبان!H11 -> 0 | J32: =آبان!I11 -> 0 | K32: =D32+E32+F32+G32+H32+I32+J32 -> 0 | U32: =K32+N32+P32+Q32+R32+S32+T32 -> 0
B33: آذر | C33: ارسالی | D33: =آذر!C9 -> 0 | E33: =آذر!D9 -> 0 | F33: =آذر!E9 -> 0 | G33: =آذر!F9 -> 0 | H33: =آذر!G9 -> 0 | I33: =آذر!H9 -> 0 | J33: =آذر!I9 -> 0 | K33: =D33+E33+F33+G33+H33+I33+J33 -> 0 | L33: =آذر!K9 -> 0 | M33: =آذر!L9 -> 0 | N33: =آذر!M9 -> 0 | O33: =آذر!N9 -> 0 | P33: =آذر!O9 -> 0 | Q33: =آذر!P9 -> 0 | R33: =آذر!Q9 -> 0 | S33: =آذر!R9 -> 0 | T33: =آذر!S9 -> 0 | U33: =SUM(K33:T35)-N33 -> 0
C34: وصولی | D34: =آذر!C10 -> 0 | E34: =آذر!D10 -> 0 | F34: =آذر!E10 -> 0 | G34: =آذر!F10 -> 0 | H34: =آذر!G10 -> 0 | I34: =آذر!H10 -> 0 | J34: =آذر!I10 -> 0 | K34: =D34+E34+F34+G34+H34+I34+J34 -> 0 | U34: =K34+N34+P34+Q34+R34+S34+T34 -> 0
C35: کسورات | D35: =آذر!C11 -> 0 | E35: =آذر!D11 -> 0 | F35: =آذر!E11 -> 0 | G35: =آذر!F11 -> 0 | H35: =آذر!G11 -> 0 | I35: =آذر!H11 -> 0 | J35: =آذر!I11 -> 0 | K35: =D35+E35+F35+G35+H35+I35+J35 -> 0 | U35: =K35+N35+P35+Q35+R35+S35+T35 -> 0
B36: دي | C36: ارسالی | D36: =دی!C9 -> 0 | E36: =دی!D9 -> 0 | F36: =دی!E9 -> 0 | G36: =دی!F9 -> 0 | H36: =دی!G9 -> 0 | I36: =دی!H9 -> 0 | J36: =دی!I9 -> 0 | K36: =D36+E36+F36+G36+H36+I36+J36 -> 0 | L36: =دی!K9 -> 0 | M36: =دی!L9 -> 0 | N36: =دی!M9 -> 0 | O36: =دی!N9 -> 0 | P36: =دی!O9 -> 0 | Q36: =دی!P9 -> 0 | R36: =دی!Q9 -> 0 | S36: =دی!R9 -> 0 | T36: =دی!S9 -> 0 | U36: =SUM(K36:T38)-N36 -> 0
C37: وصولی | D37: =دی!C10 -> 0 | E37: =دی!D10 -> 0 | F37: =دی!E10 -> 0 | G37: =دی!F10 -> 0 | H37: =دی!G10 -> 0 | I37: =دی!H10 -> 0 | J37: =دی!I10 -> 0 | K37: =D37+E37+F37+G37+H37+I37+J37 -> 0 | U37: =K37+N37+P37+Q37+R37+S37+T37 -> 0
C38: کسورات | D38: =دی!C11 -> 0 | E38: =دی!D11 -> 0 | F38: =دی!E11 -> 0 | G38: =دی!F11 -> 0 | H38: =دی!G11 -> 0 | I38: =دی!H11 -> 0 | J38: =دی!I11 -> 0 | K38: =D38+E38+F38+G38+H38+I38+J38 -> 0 | U38: =K38+N38+P38+Q38+R38+S38+T38 -> 0
B39: بهمن | C39: ارسالی | D39: =بهمن!C9 -> 0 | E39: =بهمن!D9 -> 0 | F39: =بهمن!E9 -> 0 | G39: =بهمن!F9 -> 0 | H39: =بهمن!G9 -> 0 | I39: =بهمن!H9 -> 0 | J39: =بهمن!I9 -> 0 | K39: =D39+E39+F39+G39+H39+I39+J39 -> 0 | L39: =بهمن!K9 -> 0 | M39: =بهمن!L9 -> 0 | N39: =بهمن!M9 -> 0 | O39: =بهمن!N9 -> 0 | P39: =بهمن!O9 -> 0 | Q39: =بهمن!P9 -> 0 | R39: =بهمن!Q9 -> 0 | S39: =بهمن!R9 -> 0 | T39: =بهمن!S9 -> 0 | U39: =SUM(K39:T41)-N39 -> 0
C40: وصولی | D40: =بهمن!C10 -> 0 | E40: =بهمن!D10 -> 0 | F40: =بهمن!E10 -> 0 | G40: =بهمن!F10 -> 0 | H40: =بهمن!G10 -> 0 | I40: =بهمن!H10 -> 0 | J40: =بهمن!I10 -> 0 | K40: =D40+E40+F40+G40+H40+I40+J40 -> 0 | U40: =K40+N40+P40+Q40+R40+S40+T40 -> 0
...

Sheet 30303
B1: کاربرگ اطلاعات درآمد 1393
B2: نام واحد
B3: برنامه:30303000
B4: دوره | C4: درامد | D4: بیمه ای | L4: کارت بهداشت | M4: سایر درآمد ها | N4: کنترل نسخ دریافتی ارسال نشده | O4: درامد نقدی (صندوق) | P4: بدهکاران اشخاص (بیماران تسویه نشده) | Q4: نیازمندان | R4: ترافیکی | S4: منازل سازمانی | T4: سایر قراردادها ودرامدها | U4: جمع کل درآمد
D5: تامین اجتماعی | E5: خدمات درمانی | F5: کمیته امداد | G5: نیروهای مسلح | H5: بیمه ذغال سنگ | I5: بیمه فولاد | J5: سایر بیمه ها | K5: جمع کل درامد بیمه ای
B6: فروردين | C6: ارسالی | D6: =فروردین!C12 -> 0 | E6: =فروردین!D12 -> 0 | F6: =فروردین!E12 -> 0 | G6: =فروردین!F12 -> 0 | H6: =فروردین!G12 -> 0 | I6: =فروردین!H12 -> 0 | J6: =فروردین!I12 -> 0 | K6: =D6+E6+F6+G6+H6+I6+J6 -> 0 | L6: =فروردین!K12 -> 0 | M6: =فروردین!L12 -> 0 | N6: =فروردین!M12 -> 0 | O6: =فروردین!N12 -> 0 | P6: =فروردین!O12 -> 0 | Q6: =فروردین!P12 -> 0 | R6: =فروردین!Q12 -> 0 | S6: =فروردین!R12 -> 0 | T6: =فروردین!S12 -> 0 | U6: =SUM(K6:T8)-N6-K7-K8 -> 0
C7: وصولی | D7: =فروردین!C13 -> 0 | E7: =فروردین!D13 -> 0 | F7: =فروردین!E13 -> 0 | G7: =فروردین!F13 -> 0 | H7: =فروردین!G13 -> 0 | I7: =فروردین!H13 -> 0 | J7: =فروردین!I13 -> 0 | K7: =D7+E7+F7+G7+H7+I7+J7 -> 0 | U7: =K7+N7+P7+Q7+R7+S7+T7 -> 0
C8: کسورات | D8: =فروردین!C14 -> 0 | E8: =فروردین!D14 -> 0 | F8: =فروردین!E14 -> 0 | G8: =فروردین!F14 -> 0 | H8: =فروردین!G14 -> 0 | I8: =فروردین!H14 -> 0 | J8: =فروردین!I14 -> 0 | K8: =D8+E8+F8+G8+H8+I8+J8 -> 0 | U8: =K8+N8+P8+Q8+R8+S8+T8 -> 0
B9: ارديبهشت | C9: ارسالی | D9: =اردیبهشت!C12 -> 0 | E9: =اردیبهشت!D12 -> 0 | F9: =اردیبهشت!E12 -> 0 | G9: =اردیبهشت!F12 -> 0 | H9: =اردیبهشت!G12 -> 0 | I9: =اردیبهشت!H12 -> 0 | J9: =اردیبهشت!I12 -> 0 | K9: =D9+E9+F9+G9+H9+I9+J9 -> 0 | L9: =اردیبهشت!K12 -> 0 | M9: =اردیبهشت!L12 -> 0 | N9: =اردیبهشت!M12 -> 0 | O9: =اردیبهشت!N12 -> 0 | P9: =اردیبهشت!O12 -> 0 | Q9: =اردیبهشت!P12 -> 0 | R9: =اردیبهشت!Q12 -> 0 | S9: =اردیبهشت!R12 -> 0 | T9: =اردیبهشت!S12 -> 0 | U9: =SUM(K9:T11)-N9 -> 0
C10: وصولی | D10: =اردیبهشت!C13 -> 0 | E10: =اردیبهشت!D13 -> 0 | F10: =اردیبهشت!E13 -> 0 | G10: =اردیبهشت!F13 -> 0 | H10: =اردیبهشت!G13 -> 0 | I10: =اردیبهشت!H13 -> 0 | J10: =اردیبهشت!I13 -> 0 | K10: =D10+E10+F10+G10+H10+I10+J10 -> 0 | U10: =K10+N10+P10+Q10+R10+S10+T10 -> 0
C11: کسورات | D11: =اردیبهشت!C14 -> 0 | E11: =اردیبهشت!D14 -> 0 | F11: =اردیبهشت!E14 -> 0 | G11: =اردیبهشت!F14 -> 0 | H11: =اردیبهشت!G14 -> 0 | I11: =اردیبهشت!H14 -> 0 | J11: =اردیبهشت!I14 -> 0 | K11: =D11+E11+F11+G11+H11+I11+J11 -> 0 | U11: =K11+N11+P11+Q11+R11+S11+T11 -> 0
B12: خرداد | C12: ارسالی | D12: =خرداد!C12 -> 0 | E12: =خرداد!D12 -> 0 | F12: =خرداد!E12 -> 0 | G12: =خرداد!F12 -> 0 | H12: =خرداد!G12 -> 0 | I12: =خرداد!H12 -> 0 | J12: =خرداد!I12 -> 0 | K12: =D12+E12+F12+G12+H12+I12+J12 -> 0 | L12: =خرداد!K12 -> 0 | M12: =خرداد!L12 -> 0 | N12: =خرداد!M12 -> 0 | O12: =خرداد!N12 -> 0 | P12: =خرداد!O12 -> 0 | Q12: =خرداد!P12 -> 0 | R12: =خرداد!Q12 -> 0 | S12: =خرداد!R12 -> 0 | T12: =خرداد!S12 -> 0 | U12: =SUM(K12:T14)-N12 -> 0
C13: وصولی | D13: =خرداد!C13 -> 0 | E13: =خرداد!D13 -> 0 | F13: =خرداد!E13 -> 0 | G13: =خرداد!F13 -> 0 | H13: =خرداد!G13 -> 0 | I13: =خرداد!H13 -> 0 | J13: =خرداد!I13 -> 0 | K13: =D13+E13+F13+G13+H13+I13+J13 -> 0 | U13: =K13+N13+P13+Q13+R13+S13+T13 -> 0
C14: کسورات | D14: =خرداد!C14 -> 0 | E14: =خرداد!D14 -> 0 | F14: =خرداد!E14 -> 0 | G14: =خرداد!F14 -> 0 | H14: =خرداد!G14 -> 0 | I14: =خرداد!H14 -> 0 | J14: =خرداد!I14 -> 0 | K14: =D14+E14+F14+G14+H14+I14+J14 -> 0 | U14: =K14+N14+P14+Q14+R14+S14+T14 -> 0
B15: تير | C15: ارسالی | D15: =تیر!C12 -> 0 | E15: =تیر!D12 -> 0 | F15: =تیر!E12 -> 0 | G15: =تیر!F12 -> 0 | H15: =تیر!G12 -> 0 | I15: =تیر!H12 -> 0 | J15: =تیر!I12 -> 0 | K15: =D15+E15+F15+G15+H15+I15+J15 -> 0 | L15: =تیر!K12 -> 0 | M15: =تیر!L12 -> 0 | N15: =تیر!M12 -> 0 | O15: =تیر!N12 -> 0 | P15: =تیر!O12 -> 0 | Q15: =تیر!P12 -> 0 | R15: =تیر!Q12 -> 0 | S15: =تیر!R12 -> 0 | T15: =تیر!S12 -> 0 | U15: =SUM(K15:T17)-N15 -> 0
C16: وصولی | D16: =تیر!C13 -> 0 | E16: =تیر!D13 -> 0 | F16: =تیر!E13 -> 0 | G16: =تیر!F13 -> 0 | H16: =تیر!G13 -> 0 | I16: =تیر!H13 -> 0 | J16: =تیر!I13 -> 0 | K16: =D16+E16+F16+G16+H16+I16+J16 -> 0 | U16: =K16+N16+P16+Q16+R16+S16+T16 -> 0
C17: کسورات | D17: =تیر!C14 -> 0 | E17: =تیر!D14 -> 0 | F17: =تیر!E14 -> 0 | G17: =تیر!F14 -> 0 | H17: =تیر!G14 -> 0 | I17: =تیر!H14 -> 0 | J17: =تیر!I14 -> 0 | K17: =D17+E17+F17+G17+H17+I17+J17 -> 0 | U17: =K17+N17+P17+Q17+R17+S17+T17 -> 0
B18: مرداد | C18: ارسالی | D18: =مرداد!C12 -> 0 | E18: =مرداد!D12 -> 0 | F18: =مرداد!E12 -> 0 | G18: =مرداد!F12 -> 0 | H18: =مرداد!G12 -> 0 | I18: =مرداد!H12 -> 0 | J18: =مرداد!I12 -> 0 | K18: =D18+E18+F18+G18+H18+I18+J18 -> 0 | L18: =مرداد!K12 -> 0 | M18: =مرداد!L12 -> 0 | N18: =مرداد!M12 -> 0 | O18: =مرداد!N12 -> 0 | P18: =مرداد!O12 -> 0 | Q18: =مرداد!P12 -> 0 | R18: =مرداد!Q12 -> 0 | S18: =مرداد!R12 -> 0 | T18: =مرداد!S12 -> 0 | U18: =SUM(K18:T20)-N18 -> 0
C19: وصولی | D19: =مرداد!C13 -> 0 | E19: =مرداد!D13 -> 0 | F19: =مرداد!E13 -> 0 | G19: =مرداد!F13 -> 0 | H19: =مرداد!G13 -> 0 | I19: =مرداد!H13 -> 0 | J19: =مرداد!I13 -> 0 | K19: =D19+E19+F19+G19+H19+I19+J19 -> 0 | U19: =K19+N19+P19+Q19+R19+S19+T19 -> 0
C20: کسورات | D20: =مرداد!C14 -> 0 | E20: =مرداد!D14 -> 0 | F20: =مرداد!E14 -> 0 | G20: =مرداد!F14 -> 0 | H20: =مرداد!G14 -> 0 | I20: =مرداد!H14 -> 0 | J20: =مرداد!I14 -> 0 | K20: =D20+E20+F20+G20+H20+I20+J20 -> 0 | U20: =K20+N20+P20+Q20+R20+S20+T20 -> 0
B21: تغییر تعرفه | C21: ارسالی | D21: ='تغییر تعرفه'!C12 -> 0 | E21: ='تغییر تعرفه'!D12 -> 0 | F21: ='تغییر تعرفه'!E12 -> 0 | G21: ='تغییر تعرفه'!F12 -> 0 | H21: ='تغییر تعرفه'!G12 -> 0 | I21: ='تغییر تعرفه'!H12 -> 0 | J21: ='تغییر تعرفه'!I12 -> 0 | K21: =D21+E21+F21+G21+H21+I21+J21 -> 0 | L21: ='تغییر تعرفه'!K12 -> 0 | M21: ='تغییر تعرفه'!L12 -> 0 | N21: ='تغییر تعرفه'!M12 -> 0 | O21: ='تغییر تعرفه'!N12 -> 0 | P21: ='تغییر تعرفه'!O12 -> 0 | Q21: ='تغییر تعرفه'!P12 -> 0 | R21: ='تغییر تعرفه'!Q12 -> 0 | S21: ='تغییر تعرفه'!R12 -> 0 | T21: ='تغییر تعرفه'!S12 -> 0 | U21: =SUM(K21:T23)-N21 -> 0
C22: وصولی | D22: ='تغییر تعرفه'!C13 -> 0 | E22: ='تغییر تعرفه'!D13 -> 0 | F22: ='تغییر تعرفه'!E13 -> 0 | G22: ='تغییر تعرفه'!F13 -> 0 | H22: ='تغییر تعرفه'!G13 -> 0 | I22: ='تغییر تعرفه'!H13 -> 0 | J22: ='تغییر تعرفه'!I13 -> 0 | K22: =D22+E22+F22+G22+H22+I22+J22 -> 0 | U22: =K22+N22+P22+Q22+R22+S22+T22 -> 0
C23: کسورات | D23: ='تغییر تعرفه'!C14 -> 0 | E23: ='تغییر تعرفه'!D14 -> 0 | F23: ='تغییر تعرفه'!E14 -> 0 | G23: ='تغییر تعرفه'!F14 -> 0 | H23: ='تغییر تعرفه'!G14 -> 0 | I23: ='تغییر تعرفه'!H14 -> 0 | J23: ='تغییر تعرفه'!I14 -> 0 | K23: =D23+E23+F23+G23+H23+I23+J23 -> 0 | U23: =K23+N23+P23+Q23+R23+S23+T23 -> 0
B24: شهريور | C24: ارسالی | D24: =شهریور!C12 -> 0 | E24: =شهریور!D12 -> 0 | F24: =شهریور!E12 -> 0 | G24: =شهریور!F12 -> 0 | H24: =شهریور!G12 -> 0 | I24: =شهریور!H12 -> 0 | J24: =شهریور!I12 -> 0 | K24: =D24+E24+F24+G24+H24+I24+J24 -> 0 | L24: =شهریور!K12 -> 0 | M24: =شهریور!L12 -> 0 | N24: =شهریور!M12 -> 0 | O24: =شهریور!N12 -> 0 | P24: =شهریور!O12 -> 0 | Q24: =شهریور!P12 -> 0 | R24: =شهریور!Q12 -> 0 | S24: =شهریور!R12 -> 0 | T24: =شهریور!S12 -> 0 | U24: =SUM(K24:T26)-N24 -> 0
C25: وصولی | D25: =شهریور!C13 -> 0 | E25: =شهریور!D13 -> 0 | F25: =شهریور!E13 -> 0 | G25: =شهریور!F13 -> 0 | H25: =شهریور!G13 -> 0 | I25: =شهریور!H13 -> 0 | J25: =شهریور!I13 -> 0 | K25: =D25+E25+F25+G25+H25+I25+J25 -> 0 | U25: =K25+N25+P25+Q25+R25+S25+T25 -> 0
C26: کسورات | D26: =شهریور!C14 -> 0 | E26: =شهریور!D14 -> 0 | F26: =شهریور!E14 -> 0 | G26: =شهریور!F14 -> 0 | H26: =شهریور!G14 -> 0 | I26: =شهریور!H14 -> 0 | J26: =شهریور!I14 -> 0 | K26: =D26+E26+F26+G26+H26+I26+J26 -> 0 | U26: =K26+N26+P26+Q26+R26+S26+T26 -> 0
B27: مهر | C27: ارسالی | D27: =مهر!C12 -> 0 | E27: =مهر!D12 -> 0 | F27: =مهر!E12 -> 0 | G27: =مهر!F12 -> 0 | H27: =مهر!G12 -> 0 | I27: =مهر!H12 -> 0 | J27: =مهر!I12 -> 0 | K27: =D27+E27+F27+G27+H27+I27+J27 -> 0 | L27: =مهر!K12 -> 0 | M27: =مهر!L12 -> 0 | N27: =مهر!M12 -> 0 | O27: =مهر!N12 -> 0 | P27: =مهر!O12 -> 0 | Q27: =مهر!P12 -> 0 | R27: =مهر!Q12 -> 0 | S27: =مهر!R12 -> 0 | T27: =مهر!S12 -> 0 | U27: =SUM(K27:T29)-N27 -> 0
C28: وصولی | D28: =مهر!C13 -> 0 | E28: =مهر!D13 -> 0 | F28: =مهر!E13 -> 0 | G28: =مهر!F13 -> 0 | H28: =مهر!G13 -> 0 | I28: =مهر!H13 -> 0 | J28: =مهر!I13 -> 0 | K28: =D28+E28+F28+G28+H28+I28+J28 -> 0 | U28: =K28+N28+P28+Q28+R28+S28+T28 -> 0
C29: کسورات | D29: =مهر!C14 -> 0 | E29: =مهر!D14 -> 0 | F29: =مهر!E14 -> 0 | G29: =مهر!F14 -> 0 | H29: =مهر!G14 -> 0 | I29: =مهر!H14 -> 0 | J29: =مهر!I14 -> 0 | K29: =D29+E29+F29+G29+H29+I29+J29 -> 0 | U29: =K29+N29+P29+Q29+R29+S29+T29 -> 0
B30: آبان | C30: ارسالی | D30: =آبان!C12 -> 0 | E30: =آبان!D12 -> 0 | F30: =آبان!E12 -> 0 | G30: =آبان!F12 -> 0 | H30: =آبان!G12 -> 0 | I30: =آبان!H12 -> 0 | J30: =آبان!I12 -> 0 | K30: =D30+E30+F30+G30+H30+I30+J30 -> 0 | L30: =آبان!K12 -> 0 | M30: =آبان!L12 -> 0 | N30: =آبان!M12 -> 0 | O30: =آبان!N12 -> 0 | P30: =آبان!O12 -> 0 | Q30: =آبان!P12 -> 0 | R30: =آبان!Q12 -> 0 | S30: =آبان!R12 -> 0 | T30: =آبان!S12 -> 0 | U30: =SUM(K30:T32)-N30 -> 0
C31: وصولی | D31: =آبان!C13 -> 0 | E31: =آبان!D13 -> 0 | F31: =آبان!E13 -> 0 | G31: =آبان!F13 -> 0 | H31: =آبان!G13 -> 0 | I31: =آبان!H13 -> 0 | J31: =آبان!I13 -> 0 | K31: =D31+E31+F31+G31+H31+I31+J31 -> 0 | U31: =K31+N31+P31+Q31+R31+S31+T31 -> 0
C32: کسورات | D32: =آبان!C14 -> 0 | E32: =آبان!D14 -> 0 | F32: =آبان!E14 -> 0 | G32: =آبان!F14 -> 0 | H32: =آبان!G14 -> 0 | I32: =آبان!H14 -> 0 | J32: =آبان!I14 -> 0 | K32: =D32+E32+F32+G32+H32+I32+J32 -> 0 | U32: =K32+N32+P32+Q32+R32+S32+T32 -> 0
B33: آذر | C33: ارسالی | D33: =آذر!C12 -> 0 | E33: =آذر!D12 -> 0 | F33: =آذر!E12 -> 0 | G33: =آذر!F12 -> 0 | H33: =آذر!G12 -> 0 | I33: =آذر!H12 -> 0 | J33: =آذر!I12 -> 0 | K33: =D33+E33+F33+G33+H33+I33+J33 -> 0 | L33: =آذر!K12 -> 0 | M33: =آذر!L12 -> 0 | N33: =آذر!M12 -> 0 | O33: =آذر!N12 -> 0 | P33: =آذر!O12 -> 0 | Q33: =آذر!P12 -> 0 | R33: =آذر!Q12 -> 0 | S33: =آذر!R12 -> 0 | T33: =آذر!S12 -> 0 | U33: =SUM(K33:T35)-N33 -> 0
C34: وصولی | D34: =آذر!C13 -> 0 | E34: =آذر!D13 -> 0 | F34: =آذر!E13 -> 0 | G34: =آذر!F13 -> 0 | H34: =آذر!G13 -> 0 | I34: =آذر!H13 -> 0 | J34: =آذر!I13 -> 0 | K34: =D34+E34+F34+G34+H34+I34+J34 -> 0 | U34: =K34+N34+P34+Q34+R34+S34+T34 -> 0
C35: کسورات | D35: =آذر!C14 -> 0 | E35: =آذر!D14 -> 0 | F35: =آذر!E14 -> 0 | G35: =آذر!F14 -> 0 | H35: =آذر!G14 -> 0 | I35: =آذر!H14 -> 0 | J35: =آذر!I14 -> 0 | K35: =D35+E35+F35+G35+H35+I35+J35 -> 0 | U35: =K35+N35+P35+Q35+R35+S35+T35 -> 0
B36: دي | C36: ارسالی | D36: =دی!C12 -> 0 | E36: =دی!D12 -> 0 | F36: =دی!E12 -> 0 | G36: =دی!F12 -> 0 | H36: =دی!G12 -> 0 | I36: =دی!H12 -> 0 | J36: =دی!I12 -> 0 | K36: =D36+E36+F36+G36+H36+I36+J36 -> 0 | L36: =دی!K12 -> 0 | M36: =دی!L12 -> 0 | N36: =دی!M12 -> 0 | O36: =دی!N12 -> 0 | P36: =دی!O12 -> 0 | Q36: =دی!P12 -> 0 | R36: =دی!Q12 -> 0 | S36: =دی!R12 -> 0 | T36: =دی!S12 -> 0 | U36: =SUM(K36:T38)-N36 -> 0
C37: وصولی | D37: =دی!C13 -> 0 | E37: =دی!D13 -> 0 | F37: =دی!E13 -> 0 | G37: =دی!F13 -> 0 | H37: =دی!G13 -> 0 | I37: =دی!H13 -> 0 | J37: =دی!I13 -> 0 | K37: =D37+E37+F37+G37+H37+I37+J37 -> 0 | U37: =K37+N37+P37+Q37+R37+S37+T37 -> 0
C38: کسورات | D38: =دی!C14 -> 0 | E38: =دی!D14 -> 0 | F38: =دی!E14 -> 0 | G38: =دی!F14 -> 0 | H38: =دی!G14 -> 0 | I38: =دی!H14 -> 0 | J38: =دی!I14 -> 0 | K38: =D38+E38+F38+G38+H38+I38+J38 -> 0 | U38: =K38+N38+P38+Q38+R38+S38+T38 -> 0
B39: بهمن | C39: ارسالی | D39: =بهمن!C12 -> 0 | E39: =بهمن!D12 -> 0 | F39: =بهمن!E12 -> 0 | G39: =بهمن!F12 -> 0 | H39: =بهمن!G12 -> 0 | I39: =بهمن!H12 -> 0 | J39: =بهمن!I12 -> 0 | K39: =D39+E39+F39+G39+H39+I39+J39 -> 0 | L39: =بهمن!K12 -> 0 | M39: =بهمن!L12 -> 0 | N39: =بهمن!M12 -> 0 | O39: =بهمن!N12 -> 0 | P39: =بهمن!O12 -> 0 | Q39: =بهمن!P12 -> 0 | R39: =بهمن!Q12 -> 0 | S39: =بهمن!R12 -> 0 | T39: =بهمن!S12 -> 0 | U39: =SUM(K39:T41)-N39 -> 0
C40: وصولی | D40: =بهمن!C13 -> 0 | E40: =بهمن!D13 -> 0 | F40: =بهمن!E13 -> 0 | G40: =بهمن!F13 -> 0 | H40: =بهمن!G13 -> 0 | I40: =بهمن!H13 -> 0 | J40: =بهمن!I13 -> 0 | K40: =D40+E40+F40+G40+H40+I40+J40 -> 0 | U40: =K40+N40+P40+Q40+R40+S40+T40 -> 0
...

Sheet 30301
B1: کاربرگ اطلاعات درآمد 1393
B2: نام واحد
B3: برنامه:30301000
B4: دوره | C4: درامد | D4: بیمه ای | L4: کارت بهداشت | M4: سایر درآمد ها | N4: کنترل نسخ دریافتی ارسال نشده | O4: درامد نقدی (صندوق) | P4: بدهکاران اشخاص (بیماران تسویه نشده) | Q4: نیازمندان | R4: ترافیکی | S4: منازل سازمانی | T4: سایر قراردادها ودرامدها | U4: جمع کل درآمد
D5: تامین اجتماعی | E5: خدمات درمانی | F5: کمیته امداد | G5: نیروهای مسلح | H5: بیمه ذغال سنگ | I5: بیمه فولاد | J5: سایر بیمه ها | K5: جمع کل درامد بیمه ای
B6: فروردين | C6: ارسالی | D6: =فروردین!C15 -> 0 | E6: =فروردین!D15 -> 0 | F6: =فروردین!E15 -> 0 | G6: =فروردین!F15 -> 0 | H6: =فروردین!G15 -> 0 | I6: =فروردین!H15 -> 0 | J6: =فروردین!I15 -> 0 | K6: =D6+E6+F6+G6+H6+I6+J6 -> 0 | L6: =فروردین!K15 -> 0 | M6: =فروردین!L15 -> 0 | N6: =فروردین!M15 -> 0 | O6: =فروردین!N15 -> 0 | P6: =فروردین!O15 -> 0 | Q6: =فروردین!P15 -> 0 | R6: =فروردین!Q15 -> 0 | S6: =فروردین!R15 -> 0 | T6: =فروردین!S15 -> 0 | U6: =SUM(K6:T8)-N6-K7-K8 -> 0
C7: وصولی | D7: =فروردین!C16 -> 0 | E7: =فروردین!D16 -> 0 | F7: =فروردین!E16 -> 0 | G7: =فروردین!F16 -> 0 | H7: =فروردین!G16 -> 0 | I7: =فروردین!H16 -> 0 | J7: =فروردین!I16 -> 0 | K7: =D7+E7+F7+G7+H7+I7+J7 -> 0 | U7: =K7+N7+P7+Q7+R7+S7+T7 -> 0
C8: کسورات | D8: =فروردین!C17 -> 0 | E8: =فروردین!D17 -> 0 | F8: =فروردین!E17 -> 0 | G8: =فروردین!F17 -> 0 | H8: =فروردین!G17 -> 0 | I8: =فروردین!H17 -> 0 | J8: =فروردین!I17 -> 0 | K8: =D8+E8+F8+G8+H8+I8+J8 -> 0 | U8: =K8+N8+P8+Q8+R8+S8+T8 -> 0
B9: ارديبهشت | C9: ارسالی | D9: =اردیبهشت!C15 -> 0 | E9: =اردیبهشت!D15 -> 0 | F9: =اردیبهشت!E15 -> 0 | G9: =اردیبهشت!F15 -> 0 | H9: =اردیبهشت!G15 -> 0 | I9: =اردیبهشت!H15 -> 0 | J9: =اردیبهشت!I15 -> 0 | K9: =D9+E9+F9+G9+H9+I9+J9 -> 0 | L9: =اردیبهشت!K15 -> 0 | M9: =اردیبهشت!L15 -> 0 | N9: =اردیبهشت!M15 -> 0 | O9: =اردیبهشت!N15 -> 0 | P9: =اردیبهشت!O15 -> 0 | Q9: =اردیبهشت!P15 -> 0 | R9: =اردیبهشت!Q15 -> 0 | S9: =اردیبهشت!R15 -> 0 | T9: =اردیبهشت!S15 -> 0 | U9: =SUM(K9:T11)-N9 -> 0
C10: وصولی | D10: =اردیبهشت!C16 -> 0 | E10: =اردیبهشت!D16 -> 0 | F10: =اردیبهشت!E16 -> 0 | G10: =اردیبهشت!F16 -> 0 | H10: =اردیبهشت!G16 -> 0 | I10: =اردیبهشت!H16 -> 0 | J10: =اردیبهشت!I16 -> 0 | K10: =D10+E10+F10+G10+H10+I10+J10 -> 0 | U10: =K10+N10+P10+Q10+R10+S10+T10 -> 0
C11: کسورات | D11: =اردیبهشت!C17 -> 0 | E11: =اردیبهشت!D17 -> 0 | F11: =اردیبهشت!E17 -> 0 | G11: =اردیبهشت!F17 -> 0 | H11: =اردیبهشت!G17 -> 0 | I11: =اردیبهشت!H17 -> 0 | J11: =اردیبهشت!I17 -> 0 | K11: =D11+E11+F11+G11+H11+I11+J11 -> 0 | U11: =K11+N11+P11+Q11+R11+S11+T11 -> 0
B12: خرداد | C12: ارسالی | D12: =خرداد!C15 -> 0 | E12: =خرداد!D15 -> 0 | F12: =خرداد!E15 -> 0 | G12: =خرداد!F15 -> 0 | H12: =خرداد!G15 -> 0 | I12: =خرداد!H15 -> 0 | J12: =خرداد!I15 -> 0 | K12: =D12+E12+F12+G12+H12+I12+J12 -> 0 | L12: =خرداد!K15 -> 0 | M12: =خرداد!L15 -> 0 | N12: =خرداد!M15 -> 0 | O12: =خرداد!N15 -> 0 | P12: =خرداد!O15 -> 0 | Q12: =خرداد!P15 -> 0 | R12: =خرداد!Q15 -> 0 | S12: =خرداد!R15 -> 0 | T12: =خرداد!S15 -> 0 | U12: =SUM(K12:T14)-N12 -> 0
C13: وصولی | D13: =خرداد!C16 -> 0 | E13: =خرداد!D16 -> 0 | F13: =خرداد!E16 -> 0 | G13: =خرداد!F16 -> 0 | H13: =خرداد!G16 -> 0 | I13: =خرداد!H16 -> 0 | J13: =خرداد!I16 -> 0 | K13: =D13+E13+F13+G13+H13+I13+J13 -> 0 | U13: =K13+N13+P13+Q13+R13+S13+T13 -> 0
C14: کسورات | D14: =خرداد!C17 -> 0 | E14: =خرداد!D17 -> 0 | F14: =خرداد!E17 -> 0 | G14: =خرداد!F17 -> 0 | H14: =خرداد!G17 -> 0 | I14: =خرداد!H17 -> 0 | J14: =خرداد!I17 -> 0 | K14: =D14+E14+F14+G14+H14+I14+J14 -> 0 | U14: =K14+N14+P14+Q14+R14+S14+T14 -> 0
B15: تير | C15: ارسالی | D15: =تیر!C15 -> 0 | E15: =تیر!D15 -> 0 | F15: =تیر!E15 -> 0 | G15: =تیر!F15 -> 0 | H15: =تیر!G15 -> 0 | I15: =تیر!H15 -> 0 | J15: =تیر!I15 -> 0 | K15: =D15+E15+F15+G15+H15+I15+J15 -> 0 | L15: =تیر!K15 -> 0 | M15: =تیر!L15 -> 0 | N15: =تیر!M15 -> 0 | O15: =تیر!N15 -> 0 | P15: =تیر!O15 -> 0 | Q15: =تیر!P15 -> 0 | R15: =تیر!Q15 -> 0 | S15: =تیر!R15 -> 0 | T15: =تیر!S15 -> 0 | U15: =SUM(K15:T17)-N15 -> 0
C16: وصولی | D16: =تیر!C16 -> 0 | E16: =تیر!D16 -> 0 | F16: =تیر!E16 -> 0 | G16: =تیر!F16 -> 0 | H16: =تیر!G16 -> 0 | I16: =تیر!H16 -> 0 | J16: =تیر!I16 -> 0 | K16: =D16+E16+F16+G16+H16+I16+J16 -> 0 | U16: =K16+N16+P16+Q16+R16+S16+T16 -> 0
C17: کسورات | D17: =تیر!C17 -> 0 | E17: =تیر!D17 -> 0 | F17: =تیر!E17 -> 0 | G17: =تیر!F17 -> 0 | H17: =تیر!G17 -> 0 | I17: =تیر!H17 -> 0 | J17: =تیر!I17 -> 0 | K17: =D17+E17+F17+G17+H17+I17+J17 -> 0 | U17: =K17+N17+P17+Q17+R17+S17+T17 -> 0
B18: مرداد | C18: ارسالی | D18: =مرداد!C15 -> 0 | E18: =مرداد!D15 -> 0 | F18: =مرداد!E15 -> 0 | G18: =مرداد!F15 -> 0 | H18: =مرداد!G15 -> 0 | I18: =مرداد!H15 -> 0 | J18: =مرداد!I15 -> 0 | K18: =D18+E18+F18+G18+H18+I18+J18 -> 0 | L18: =مرداد!K15 -> 0 | M18: =مرداد!L15 -> 0 | N18: =مرداد!M15 -> 0 | O18: =مرداد!N15 -> 0 | P18: =مرداد!O15 -> 0 | Q18: =مرداد!P15 -> 0 | R18: =مرداد!Q15 -> 0 | S18: =مرداد!R15 -> 0 | T18: =مرداد!S15 -> 0 | U18: =SUM(K18:T20)-N18 -> 0
C19: وصولی | D19: =مرداد!C16 -> 0 | E19: =مرداد!D16 -> 0 | F19: =مرداد!E16 -> 0 | G19: =مرداد!F16 -> 0 | H19: =مرداد!G16 -> 0 | I19: =مرداد!H16 -> 0 | J19: =مرداد!I16 -> 0 | K19: =D19+E19+F19+G19+H19+I19+J19 -> 0 | U19: =K19+N19+P19+Q19+R19+S19+T19 -> 0
C20: کسورات | D20: =مرداد!C17 -> 0 | E20: =مرداد!D17 -> 0 | F20: =مرداد!E17 -> 0 | G20: =مرداد!F17 -> 0 | H20: =مرداد!G17 -> 0 | I20: =مرداد!H17 -> 0 | J20: =مرداد!I17 -> 0 | K20: =D20+E20+F20+G20+H20+I20+J20 -> 0 | U20: =K20+N20+P20+Q20+R20+S20+T20 -> 0
B21: تغییر تعرفه | C21: ارسالی | D21: ='تغییر تعرفه'!C15 -> 0 | E21: ='تغییر تعرفه'!D15 -> 0 | F21: ='تغییر تعرفه'!E15 -> 0 | G21: ='تغییر تعرفه'!F15 -> 0 | H21: ='تغییر تعرفه'!G15 -> 0 | I21: ='تغییر تعرفه'!H15 -> 0 | J21: ='تغییر تعرفه'!I15 -> 0 | K21: =D21+E21+F21+G21+H21+I21+J21 -> 0 | L21: ='تغییر تعرفه'!K15 -> 0 | M21: ='تغییر تعرفه'!L15 -> 0 | N21: ='تغییر تعرفه'!M15 -> 0 | O21: ='تغییر تعرفه'!N15 -> 0 | P21: ='تغییر تعرفه'!O15 -> 0 | Q21: ='تغییر تعرفه'!P15 -> 0 | R21: ='تغییر تعرفه'!Q15 -> 0 | S21: ='تغییر تعرفه'!R15 -> 0 | T21: ='تغییر تعرفه'!S15 -> 0 | U21: =SUM(K21:T23)-N21 -> 0
C22: وصولی | D22: ='تغییر تعرفه'!C16 -> 0 | E22: ='تغییر تعرفه'!D16 -> 0 | F22: ='تغییر تعرفه'!E16 -> 0 | G22: ='تغییر تعرفه'!F16 -> 0 | H22: ='تغییر تعرفه'!G16 -> 0 | I22: ='تغییر تعرفه'!H16 -> 0 | J22: ='تغییر تعرفه'!I16 -> 0 | K22: =D22+E22+F22+G22+H22+I22+J22 -> 0 | U22: =K22+N22+P22+Q22+R22+S22+T22 -> 0
C23: کسورات | D23: ='تغییر تعرفه'!C17 -> 0 | E23: ='تغییر تعرفه'!D17 -> 0 | F23: ='تغییر تعرفه'!E17 -> 0 | G23: ='تغییر تعرفه'!F17 -> 0 | H23: ='تغییر تعرفه'!G17 -> 0 | I23: ='تغییر تعرفه'!H17 -> 0 | J23: ='تغییر تعرفه'!I17 -> 0 | K23: =D23+E23+F23+G23+H23+I23+J23 -> 0 | U23: =K23+N23+P23+Q23+R23+S23+T23 -> 0
B24: شهريور | C24: ارسالی | D24: =شهریور!C15 -> 0 | E24: =شهریور!D15 -> 0 | F24: =شهریور!E15 -> 0 | G24: =شهریور!F15 -> 0 | H24: =شهریور!G15 -> 0 | I24: =شهریور!H15 -> 0 | J24: =شهریور!I15 -> 0 | K24: =D24+E24+F24+G24+H24+I24+J24 -> 0 | L24: =شهریور!K15 -> 0 | M24: =شهریور!L15 -> 0 | N24: =شهریور!M15 -> 0 | O24: =شهریور!N15 -> 0 | P24: =شهریور!O15 -> 0 | Q24: =شهریور!P15 -> 0 | R24: =شهریور!Q15 -> 0 | S24: =شهریور!R15 -> 0 | T24: =شهریور!S15 -> 0 | U24: =SUM(K24:T26)-N24 -> 0
C25: وصولی | D25: =شهریور!C16 -> 0 | E25: =شهریور!D16 -> 0 | F25: =شهریور!E16 -> 0 | G25: =شهریور!F16 -> 0 | H25: =شهریور!G16 -> 0 | I25: =شهریور!H16 -> 0 | J25: =شهریور!I16 -> 0 | K25: =D25+E25+F25+G25+H25+I25+J25 -> 0 | U25: =K25+N25+P25+Q25+R25+S25+T25 -> 0
C26: کسورات | D26: =شهریور!C17 -> 0 | E26: =شهریور!D17 -> 0 | F26: =شهریور!E17 -> 0 | G26: =شهریور!F17 -> 0 | H26: =شهریور!G17 -> 0 | I26: =شهریور!H17 -> 0 | J26: =شهریور!I17 -> 0 | K26: =D26+E26+F26+G26+H26+I26+J26 -> 0 | U26: =K26+N26+P26+Q26+R26+S26+T26 -> 0
B27: مهر | C27: ارسالی | D27: =مهر!C15 -> 0 | E27: =مهر!D15 -> 0 | F27: =مهر!E15 -> 0 | G27: =مهر!F15 -> 0 | H27: =مهر!G15 -> 0 | I27: =مهر!H15 -> 0 | J27: =مهر!I15 -> 0 | K27: =D27+E27+F27+G27+H27+I27+J27 -> 0 | L27: =مهر!K15 -> 0 | M27: =مهر!L15 -> 0 | N27: =مهر!M15 -> 0 | O27: =مهر!N15 -> 0 | P27: =مهر!O15 -> 0 | Q27: =مهر!P15 -> 0 | R27: =مهر!Q15 -> 0 | S27: =مهر!R15 -> 0 | T27: =مهر!S15 -> 0 | U27: =SUM(K27:T29)-N27 -> 0
C28: وصولی | D28: =مهر!C16 -> 0 | E28: =مهر!D16 -> 0 | F28: =مهر!E16 -> 0 | G28: =مهر!F16 -> 0 | H28: =مهر!G16 -> 0 | I28: =مهر!H16 -> 0 | J28: =مهر!I16 -> 0 | K28: =D28+E28+F28+G28+H28+I28+J28 -> 0 | U28: =K28+N28+P28+Q28+R28+S28+T28 -> 0
C29: کسورات | D29: =مهر!C17 -> 0 | E29: =مهر!D17 -> 0 | F29: =مهر!E17 -> 0 | G29: =مهر!F17 -> 0 | H29: =مهر!G17 -> 0 | I29: =مهر!H17 -> 0 | J29: =مهر!I17 -> 0 | K29: =D29+E29+F29+G29+H29+I29+J29 -> 0 | U29: =K29+N29+P29+Q29+R29+S29+T29 -> 0
B30: آبان | C30: ارسالی | D30: =آبان!C15 -> 0 | E30: =آبان!D15 -> 0 | F30: =آبان!E15 -> 0 | G30: =آبان!F15 -> 0 | H30: =آبان!G15 -> 0 | I30: =آبان!H15 -> 0 | J30: =آبان!I15 -> 0 | K30: =D30+E30+F30+G30+H30+I30+J30 -> 0 | L30: =آبان!K15 -> 0 | M30: =آبان!L15 -> 0 | N30: =آبان!M15 -> 0 | O30: =آبان!N15 -> 0 | P30: =آبان!O15 -> 0 | Q30: =آبان!P15 -> 0 | R30: =آبان!Q15 -> 0 | S30: =آبان!R15 -> 0 | T30: =آبان!S15 -> 0 | U30: =SUM(K30:T32)-N30 -> 0
C31: وصولی | D31: =آبان!C16 -> 0 | E31: =آبان!D16 -> 0 | F31: =آبان!E16 -> 0 | G31: =آبان!F16 -> 0 | H31: =آبان!G16 -> 0 | I31: =آبان!H16 -> 0 | J31: =آبان!I16 -> 0 | K31: =D31+E31+F31+G31+H31+I31+J31 -> 0 | U31: =K31+N31+P31+Q31+R31+S31+T31 -> 0
C32: کسورات | D32: =آبان!C17 -> 0 | E32: =آبان!D17 -> 0 | F32: =آبان!E17 -> 0 | G32: =آبان!F17 -> 0 | H32: =آبان!G17 -> 0 | I32: =آبان!H17 -> 0 | J32: =آبان!I17 -> 0 | K32: =D32+E32+F32+G32+H32+I32+J32 -> 0 | U32: =K32+N32+P32+Q32+R32+S32+T32 -> 0
B33: آذر | C33: ارسالی | D33: =آذر!C15 -> 0 | E33: =آذر!D15 -> 0 | F33: =آذر!E15 -> 0 | G33: =آذر!F15 -> 0 | H33: =آذر!G15 -> 0 | I33: =آذر!H15 -> 0 | J33: =آذر!I15 -> 0 | K33: =D33+E33+F33+G33+H33+I33+J33 -> 0 | L33: =آذر!K15 -> 0 | M33: =آذر!L15 -> 0 | N33: =آذر!M15 -> 0 | O33: =آذر!N15 -> 0 | P33: =آذر!O15 -> 0 | Q33: =آذر!P15 -> 0 | R33: =آذر!Q15 -> 0 | S33: =آذر!R15 -> 0 | T33: =آذر!S15 -> 0 | U33: =SUM(K33:T35)-N33 -> 0
C34: وصولی | D34: =آذر!C16 -> 0 | E34: =آذر!D16 -> 0 | F34: =آذر!E16 -> 0 | G34: =آذر!F16 -> 0 | H34: =آذر!G16 -> 0 | I34: =آذر!H16 -> 0 | J34: =آذر!I16 -> 0 | K34: =D34+E34+F34+G34+H34+I34+J34 -> 0 | U34: =K34+N34+P34+Q34+R34+S34+T34 -> 0
C35: کسورات | D35: =آذر!C17 -> 0 | E35: =آذر!D17 -> 0 | F35: =آذر!E17 -> 0 | G35: =آذر!F17 -> 0 | H35: =آذر!G17 -> 0 | I35: =آذر!H17 -> 0 | J35: =آذر!I17 -> 0 | K35: =D35+E35+F35+G35+H35+I35+J35 -> 0 | U35: =K35+N35+P35+Q35+R35+S35+T35 -> 0
B36: دي | C36: ارسالی | D36: =دی!C15 -> 0 | E36: =دی!D15 -> 0 | F36: =دی!E15 -> 0 | G36: =دی!F15 -> 0 | H36: =دی!G15 -> 0 | I36: =دی!H15 -> 0 | J36: =دی!I15 -> 0 | K36: =D36+E36+F36+G36+H36+I36+J36 -> 0 | L36: =دی!K15 -> 0 | M36: =دی!L15 -> 0 | N36: =دی!M15 -> 0 | O36: =دی!N15 -> 0 | P36: =دی!O15 -> 0 | Q36: =دی!P15 -> 0 | R36: =دی!Q15 -> 0 | S36: =دی!R15 -> 0 | T36: =دی!S15 -> 0 | U36: =SUM(K36:T38)-N36 -> 0
C37: وصولی | D37: =دی!C16 -> 0 | E37: =دی!D16 -> 0 | F37: =دی!E16 -> 0 | G37: =دی!F16 -> 0 | H37: =دی!G16 -> 0 | I37: =دی!H16 -> 0 | J37: =دی!I16 -> 0 | K37: =D37+E37+F37+G37+H37+I37+J37 -> 0 | U37: =K37+N37+P37+Q37+R37+S37+T37 -> 0
C38: کسورات | D38: =دی!C17 -> 0 | E38: =دی!D17 -> 0 | F38: =دی!E17 -> 0 | G38: =دی!F17 -> 0 | H38: =دی!G17 -> 0 | I38: =دی!H17 -> 0 | J38: =دی!I17 -> 0 | K38: =D38+E38+F38+G38+H38+I38+J38 -> 0 | U38: =K38+N38+P38+Q38+R38+S38+T38 -> 0
B39: بهمن | C39: ارسالی | D39: =بهمن!C15 -> 0 | E39: =بهمن!D15 -> 0 | F39: =بهمن!E15 -> 0 | G39: =بهمن!F15 -> 0 | H39: =بهمن!G15 -> 0 | I39: =بهمن!H15 -> 0 | J39: =بهمن!I15 -> 0 | K39: =D39+E39+F39+G39+H39+I39+J39 -> 0 | L39: =بهمن!K15 -> 0 | M39: =بهمن!L15 -> 0 | N39: =بهمن!M15 -> 0 | O39: =بهمن!N15 -> 0 | P39: =بهمن!O15 -> 0 | Q39: =بهمن!P15 -> 0 | R39: =بهمن!Q15 -> 0 | S39: =بهمن!R15 -> 0 | T39: =بهمن!S15 -> 0 | U39: =SUM(K39:T41)-N39 -> 0
C40: وصولی | D40: =بهمن!C16 -> 0 | E40: =بهمن!D16 -> 0 | F40: =بهمن!E16 -> 0 | G40: =بهمن!F16 -> 0 | H40: =بهمن!G16 -> 0 | I40: =بهمن!H16 -> 0 | J40: =بهمن!I16 -> 0 | K40: =D40+E40+F40+G40+H40+I40+J40 -> 0 | U40: =K40+N40+P40+Q40+R40+S40+T40 -> 0
...

Sheet 30327
B1: کاربرگ اطلاعات درآمد 1393
B2: نام واحد
B3: برنامه:30327000
B4: دوره | C4: درامد | D4: بیمه ای | L4: کارت بهداشت | M4: سایر درآمد ها | N4: کنترل نسخ دریافتی ارسال نشده | O4: درامد نقدی (صندوق) | P4: بدهکاران اشخاص (بیماران تسویه نشده) | Q4: نیازمندان | R4: ترافیکی | S4: منازل سازمانی | T4: سایر قراردادها ودرامدها | U4: جمع کل درآمد
D5: تامین اجتماعی | E5: خدمات درمانی | F5: کمیته امداد | G5: نیروهای مسلح | H5: بیمه ذغال سنگ | I5: بیمه فولاد | J5: سایر بیمه ها | K5: جمع کل درامد بیمه ای
B6: فروردين | C6: ارسالی | D6: =فروردین!C18 -> 0 | E6: =فروردین!D18 -> 0 | F6: =فروردین!E18 -> 0 | G6: =فروردین!F18 -> 0 | H6: =فروردین!G18 -> 0 | I6: =فروردین!H18 -> 0 | J6: =فروردین!I18 -> 0 | K6: =D6+E6+F6+G6+H6+I6+J6 -> 0 | L6: =فروردین!K18 -> 0 | M6: =فروردین!L18 -> 0 | N6: =فروردین!M18 -> 0 | O6: =فروردین!N18 -> 0 | P6: =فروردین!O18 -> 0 | Q6: =فروردین!P18 -> 0 | R6: =فروردین!Q18 -> 0 | S6: =فروردین!R18 -> 0 | T6: =فروردین!S18 -> 0 | U6: =SUM(K6:T8)-N6-K7-K8 -> 0
C7: وصولی | D7: =فروردین!C19 -> 0 | E7: =فروردین!D19 -> 0 | F7: =فروردین!E19 -> 0 | G7: =فروردین!F19 -> 0 | H7: =فروردین!G19 -> 0 | I7: =فروردین!H19 -> 0 | J7: =فروردین!I19 -> 0 | K7: =D7+E7+F7+G7+H7+I7+J7 -> 0 | U7: =K7+N7+P7+Q7+R7+S7+T7 -> 0
C8: کسورات | D8: =فروردین!C20 -> 0 | E8: =فروردین!D20 -> 0 | F8: =فروردین!E20 -> 0 | G8: =فروردین!F20 -> 0 | H8: =فروردین!G20 -> 0 | I8: =فروردین!H20 -> 0 | J8: =فروردین!I20 -> 0 | K8: =D8+E8+F8+G8+H8+I8+J8 -> 0 | U8: =K8+N8+P8+Q8+R8+S8+T8 -> 0
B9: ارديبهشت | C9: ارسالی | D9: =اردیبهشت!C18 -> 0 | E9: =اردیبهشت!D18 -> 0 | F9: =اردیبهشت!E18 -> 0 | G9: =اردیبهشت!F18 -> 0 | H9: =اردیبهشت!G18 -> 0 | I9: =اردیبهشت!H18 -> 0 | J9: =اردیبهشت!I18 -> 0 | K9: =D9+E9+F9+G9+H9+I9+J9 -> 0 | L9: =اردیبهشت!K18 -> 0 | M9: =اردیبهشت!L18 -> 0 | N9: =اردیبهشت!M18 -> 0 | O9: =اردیبهشت!N18 -> 0 | P9: =اردیبهشت!O18 -> 0 | Q9: =اردیبهشت!P18 -> 0 | R9: =اردیبهشت!Q18 -> 0 | S9: =اردیبهشت!R18 -> 0 | T9: =اردیبهشت!S18 -> 0 | U9: =SUM(K9:T11)-N9 -> 0
C10: وصولی | D10: =اردیبهشت!C19 -> 0 | E10: =اردیبهشت!D19 -> 0 | F10: =اردیبهشت!E19 -> 0 | G10: =اردیبهشت!F19 -> 0 | H10: =اردیبهشت!G19 -> 0 | I10: =اردیبهشت!H19 -> 0 | J10: =اردیبهشت!I19 -> 0 | K10: =D10+E10+F10+G10+H10+I10+J10 -> 0 | U10: =K10+N10+P10+Q10+R10+S10+T10 -> 0
C11: کسورات | D11: =اردیبهشت!C20 -> 0 | E11: =اردیبهشت!D20 -> 0 | F11: =اردیبهشت!E20 -> 0 | G11: =اردیبهشت!F20 -> 0 | H11: =اردیبهشت!G20 -> 0 | I11: =اردیبهشت!H20 -> 0 | J11: =اردیبهشت!I20 -> 0 | K11: =D11+E11+F11+G11+H11+I11+J11 -> 0 | U11: =K11+N11+P11+Q11+R11+S11+T11 -> 0
B12: خرداد | C12: ارسالی | D12: =خرداد!C18 -> 0 | E12: =خرداد!D18 -> 0 | F12: =خرداد!E18 -> 0 | G12: =خرداد!F18 -> 0 | H12: =خرداد!G18 -> 0 | I12: =خرداد!H18 -> 0 | J12: =خرداد!I18 -> 0 | K12: =D12+E12+F12+G12+H12+I12+J12 -> 0 | L12: =خرداد!K18 -> 0 | M12: =خرداد!L18 -> 0 | N12: =خرداد!M18 -> 0 | O12: =خرداد!N18 -> 0 | P12: =خرداد!O18 -> 0 | Q12: =خرداد!P18 -> 0 | R12: =خرداد!Q18 -> 0 | S12: =خرداد!R18 -> 0 | T12: =خرداد!S18 -> 0 | U12: =SUM(K12:T14)-N12 -> 0
C13: وصولی | D13: =خرداد!C19 -> 0 | E13: =خرداد!D19 -> 0 | F13: =خرداد!E19 -> 0 | G13: =خرداد!F19 -> 0 | H13: =خرداد!G19 -> 0 | I13: =خرداد!H19 -> 0 | J13: =خرداد!I19 -> 0 | K13: =D13+E13+F13+G13+H13+I13+J13 -> 0 | U13: =K13+N13+P13+Q13+R13+S13+T13 -> 0
C14: کسورات | D14: =خرداد!C20 -> 0 | E14: =خرداد!D20 -> 0 | F14: =خرداد!E20 -> 0 | G14: =خرداد!F20 -> 0 | H14: =خرداد!G20 -> 0 | I14: =خرداد!H20 -> 0 | J14: =خرداد!I20 -> 0 | K14: =D14+E14+F14+G14+H14+I14+J14 -> 0 | U14: =K14+N14+P14+Q14+R14+S14+T14 -> 0
B15: تير | C15: ارسالی | D15: =تیر!C18 -> 0 | E15: =تیر!D18 -> 0 | F15: =تیر!E18 -> 0 | G15: =تیر!F18 -> 0 | H15: =تیر!G18 -> 0 | I15: =تیر!H18 -> 0 | J15: =تیر!I18 -> 0 | K15: =D15+E15+F15+G15+H15+I15+J15 -> 0 | L15: =تیر!K18 -> 0 | M15: =تیر!L18 -> 0 | N15: =تیر!M18 -> 0 | O15: =تیر!N18 -> 0 | P15: =تیر!O18 -> 0 | Q15: =تیر!P18 -> 0 | R15: =تیر!Q18 -> 0 | S15: =تیر!R18 -> 0 | T15: =تیر!S18 -> 0 | U15: =SUM(K15:T17)-N15 -> 0
C16: وصولی | D16: =تیر!C19 -> 0 | E16: =تیر!D19 -> 0 | F16: =تیر!E19 -> 0 | G16: =تیر!F19 -> 0 | H16: =تیر!G19 -> 0 | I16: =تیر!H19 -> 0 | J16: =تیر!I19 -> 0 | K16: =D16+E16+F16+G16+H16+I16+J16 -> 0 | U16: =K16+N16+P16+Q16+R16+S16+T16 -> 0
C17: کسورات | D17: =تیر!C20 -> 0 | E17: =تیر!D20 -> 0 | F17: =تیر!E20 -> 0 | G17: =تیر!F20 -> 0 | H17: =تیر!G20 -> 0 | I17: =تیر!H20 -> 0 | J17: =تیر!I20 -> 0 | K17: =D17+E17+F17+G17+H17+I17+J17 -> 0 | U17: =K17+N17+P17+Q17+R17+S17+T17 -> 0
B18: مرداد | C18: ارسالی | D18: =مرداد!C18 -> 0 | E18: =مرداد!D18 -> 0 | F18: =مرداد!E18 -> 0 | G18: =مرداد!F18 -> 0 | H18: =مرداد!G18 -> 0 | I18: =مرداد!H18 -> 0 | J18: =مرداد!I18 -> 0 | K18: =D18+E18+F18+G18+H18+I18+J18 -> 0 | L18: =مرداد!K18 -> 0 | M18: =مرداد!L18 -> 0 | N18: =مرداد!M18 -> 0 | O18: =مرداد!N18 -> 0 | P18: =مرداد!O18 -> 0 | Q18: =مرداد!P18 -> 0 | R18: =مرداد!Q18 -> 0 | S18: =مرداد!R18 -> 0 | T18: =مرداد!S18 -> 0 | U18: =SUM(K18:T20)-N18 -> 0
C19: وصولی | D19: =مرداد!C19 -> 0 | E19: =مرداد!D19 -> 0 | F19: =مرداد!E19 -> 0 | G19: =مرداد!F19 -> 0 | H19: =مرداد!G19 -> 0 | I19: =مرداد!H19 -> 0 | J19: =مرداد!I19 -> 0 | K19: =D19+E19+F19+G19+H19+I19+J19 -> 0 | U19: =K19+N19+P19+Q19+R19+S19+T19 -> 0
C20: کسورات | D20: =مرداد!C20 -> 0 | E20: =مرداد!D20 -> 0 | F20: =مرداد!E20 -> 0 | G20: =مرداد!F20 -> 0 | H20: =مرداد!G20 -> 0 | I20: =مرداد!H20 -> 0 | J20: =مرداد!I20 -> 0 | K20: =D20+E20+F20+G20+H20+I20+J20 -> 0 | U20: =K20+N20+P20+Q20+R20+S20+T20 -> 0
B21: تغییر تعرفه | C21: ارسالی | D21: ='تغییر تعرفه'!C18 -> 0 | E21: ='تغییر تعرفه'!D18 -> 0 | F21: ='تغییر تعرفه'!E18 -> 0 | G21: ='تغییر تعرفه'!F18 -> 0 | H21: ='تغییر تعرفه'!G18 -> 0 | I21: ='تغییر تعرفه'!H18 -> 0 | J21: ='تغییر تعرفه'!I18 -> 0 | K21: =D21+E21+F21+G21+H21+I21+J21 -> 0 | L21: ='تغییر تعرفه'!K18 -> 0 | M21: ='تغییر تعرفه'!L18 -> 0 | N21: ='تغییر تعرفه'!M18 -> 0 | O21: ='تغییر تعرفه'!N18 -> 0 | P21: ='تغییر تعرفه'!O18 -> 0 | Q21: ='تغییر تعرفه'!P18 -> 0 | R21: ='تغییر تعرفه'!Q18 -> 0 | S21: ='تغییر تعرفه'!R18 -> 0 | T21: ='تغییر تعرفه'!S18 -> 0 | U21: =SUM(K21:T23)-N21 -> 0
C22: وصولی | D22: ='تغییر تعرفه'!C19 -> 0 | E22: ='تغییر تعرفه'!D19 -> 0 | F22: ='تغییر تعرفه'!E19 -> 0 | G22: ='تغییر تعرفه'!F19 -> 0 | H22: ='تغییر تعرفه'!G19 -> 0 | I22: ='تغییر تعرفه'!H19 -> 0 | J22: ='تغییر تعرفه'!I19 -> 0 | K22: =D22+E22+F22+G22+H22+I22+J22 -> 0 | U22: =K22+N22+P22+Q22+R22+S22+T22 -> 0
C23: کسورات | D23: ='تغییر تعرفه'!C20 -> 0 | E23: ='تغییر تعرفه'!D20 -> 0 | F23: ='تغییر تعرفه'!E20 -> 0 | G23: ='تغییر تعرفه'!F20 -> 0 | H23: ='تغییر تعرفه'!G20 -> 0 | I23: ='تغییر تعرفه'!H20 -> 0 | J23: ='تغییر تعرفه'!I20 -> 0 | K23: =D23+E23+F23+G23+H23+I23+J23 -> 0 | U23: =K23+N23+P23+Q23+R23+S23+T23 -> 0
B24: شهريور | C24: ارسالی | D24: =شهریور!C18 -> 0 | E24: =شهریور!D18 -> 0 | F24: =شهریور!E18 -> 0 | G24: =شهریور!F18 -> 0 | H24: =شهریور!G18 -> 0 | I24: =شهریور!H18 -> 0 | J24: =شهریور!I18 -> 0 | K24: =D24+E24+F24+G24+H24+I24+J24 -> 0 | L24: =شهریور!K18 -> 0 | M24: =شهریور!L18 -> 0 | N24: =شهریور!M18 -> 0 | O24: =شهریور!N18 -> 0 | P24: =شهریور!O18 -> 0 | Q24: =شهریور!P18 -> 0 | R24: =شهریور!Q18 -> 0 | S24: =شهریور!R18 -> 0 | T24: =شهریور!S18 -> 0 | U24: =SUM(K24:T26)-N24 -> 0
C25: وصولی | D25: =شهریور!C19 -> 0 | E25: =شهریور!D19 -> 0 | F25: =شهریور!E19 -> 0 | G25: =شهریور!F19 -> 0 | H25: =شهریور!G19 -> 0 | I25: =شهریور!H19 -> 0 | J25: =شهریور!I19 -> 0 | K25: =D25+E25+F25+G25+H25+I25+J25 -> 0 | U25: =K25+N25+P25+Q25+R25+S25+T25 -> 0
C26: کسورات | D26: =شهریور!C20 -> 0 | E26: =شهریور!D20 -> 0 | F26: =شهریور!E20 -> 0 | G26: =شهریور!F20 -> 0 | H26: =شهریور!G20 -> 0 | I26: =شهریور!H20 -> 0 | J26: =شهریور!I20 -> 0 | K26: =D26+E26+F26+G26+H26+I26+J26 -> 0 | U26: =K26+N26+P26+Q26+R26+S26+T26 -> 0
B27: مهر | C27: ارسالی | D27: =مهر!C18 -> 0 | E27: =مهر!D18 -> 0 | F27: =مهر!E18 -> 0 | G27: =مهر!F18 -> 0 | H27: =مهر!G18 -> 0 | I27: =مهر!H18 -> 0 | J27: =مهر!I18 -> 0 | K27: =D27+E27+F27+G27+H27+I27+J27 -> 0 | L27: =مهر!K18 -> 0 | M27: =مهر!L18 -> 0 | N27: =مهر!M18 -> 0 | O27: =مهر!N18 -> 0 | P27: =مهر!O18 -> 0 | Q27: =مهر!P18 -> 0 | R27: =مهر!Q18 -> 0 | S27: =مهر!R18 -> 0 | T27: =مهر!S18 -> 0 | U27: =SUM(K27:T29)-N27 -> 0
C28: وصولی | D28: =مهر!C19 -> 0 | E28: =مهر!D19 -> 0 | F28: =مهر!E19 -> 0 | G28: =مهر!F19 -> 0 | H28: =مهر!G19 -> 0 | I28: =مهر!H19 -> 0 | J28: =مهر!I19 -> 0 | K28: =D28+E28+F28+G28+H28+I28+J28 -> 0 | U28: =K28+N28+P28+Q28+R28+S28+T28 -> 0
C29: کسورات | D29: =مهر!C20 -> 0 | E29: =مهر!D20 -> 0 | F29: =مهر!E20 -> 0 | G29: =مهر!F20 -> 0 | H29: =مهر!G20 -> 0 | I29: =مهر!H20 -> 0 | J29: =مهر!I20 -> 0 | K29: =D29+E29+F29+G29+H29+I29+J29 -> 0 | U29: =K29+N29+P29+Q29+R29+S29+T29 -> 0
B30: آبان | C30: ارسالی | D30: =آبان!C18 -> 0 | E30: =آبان!D18 -> 0 | F30: =آبان!E18 -> 0 | G30: =آبان!F18 -> 0 | H30: =آبان!G18 -> 0 | I30: =آبان!H18 -> 0 | J30: =آبان!I18 -> 0 | K30: =D30+E30+F30+G30+H30+I30+J30 -> 0 | L30: =آبان!K18 -> 0 | M30: =آبان!L18 -> 0 | N30: =آبان!M18 -> 0 | O30: =آبان!N18 -> 0 | P30: =آبان!O18 -> 0 | Q30: =آبان!P18 -> 0 | R30: =آبان!Q18 -> 0 | S30: =آبان!R18 -> 0 | T30: =آبان!S18 -> 0 | U30: =SUM(K30:T32)-N30 -> 0
C31: وصولی | D31: =آبان!C19 -> 0 | E31: =آبان!D19 -> 0 | F31: =آبان!E19 -> 0 | G31: =آبان!F19 -> 0 | H31: =آبان!G19 -> 0 | I31: =آبان!H19 -> 0 | J31: =آبان!I19 -> 0 | K31: =D31+E31+F31+G31+H31+I31+J31 -> 0 | U31: =K31+N31+P31+Q31+R31+S31+T31 -> 0
C32: کسورات | D32: =آبان!C20 -> 0 | E32: =آبان!D20 -> 0 | F32: =آبان!E20 -> 0 | G32: =آبان!F20 -> 0 | H32: =آبان!G20 -> 0 | I32: =آبان!H20 -> 0 | J32: =آبان!I20 -> 0 | K32: =D32+E32+F32+G32+H32+I32+J32 -> 0 | U32: =K32+N32+P32+Q32+R32+S32+T32 -> 0
B33: آذر | C33: ارسالی | D33: =آذر!C18 -> 0 | E33: =آذر!D18 -> 0 | F33: =آذر!E18 -> 0 | G33: =آذر!F18 -> 0 | H33: =آذر!G18 -> 0 | I33: =آذر!H18 -> 0 | J33: =آذر!I18 -> 0 | K33: =D33+E33+F33+G33+H33+I33+J33 -> 0 | L33: =آذر!K18 -> 0 | M33: =آذر!L18 -> 0 | N33: =آذر!M18 -> 0 | O33: =آذر!N18 -> 0 | P33: =آذر!O18 -> 0 | Q33: =آذر!P18 -> 0 | R33: =آذر!Q18 -> 0 | S33: =آذر!R18 -> 0 | T33: =آذر!S18 -> 0 | U33: =SUM(K33:T35)-N33 -> 0
C34: وصولی | D34: =آذر!C19 -> 0 | E34: =آذر!D19 -> 0 | F34: =آذر!E19 -> 0 | G34: =آذر!F19 -> 0 | H34: =آذر!G19 -> 0 | I34: =آذر!H19 -> 0 | J34: =آذر!I19 -> 0 | K34: =D34+E34+F34+G34+H34+I34+J34 -> 0 | U34: =K34+N34+P34+Q34+R34+S34+T34 -> 0
C35: کسورات | D35: =آذر!C20 -> 0 | E35: =آذر!D20 -> 0 | F35: =آذر!E20 -> 0 | G35: =آذر!F20 -> 0 | H35: =آذر!G20 -> 0 | I35: =آذر!H20 -> 0 | J35: =آذر!I20 -> 0 | K35: =D35+E35+F35+G35+H35+I35+J35 -> 0 | U35: =K35+N35+P35+Q35+R35+S35+T35 -> 0
B36: دي | C36: ارسالی | D36: =دی!C18 -> 0 | E36: =دی!D18 -> 0 | F36: =دی!E18 -> 0 | G36: =دی!F18 -> 0 | H36: =دی!G18 -> 0 | I36: =دی!H18 -> 0 | J36: =دی!I18 -> 0 | K36: =D36+E36+F36+G36+H36+I36+J36 -> 0 | L36: =دی!K18 -> 0 | M36: =دی!L18 -> 0 | N36: =دی!M18 -> 0 | O36: =دی!N18 -> 0 | P36: =دی!O18 -> 0 | Q36: =دی!P18 -> 0 | R36: =دی!Q18 -> 0 | S36: =دی!R18 -> 0 | T36: =دی!S18 -> 0 | U36: =SUM(K36:T38)-N36 -> 0
C37: وصولی | D37: =دی!C19 -> 0 | E37: =دی!D19 -> 0 | F37: =دی!E19 -> 0 | G37: =دی!F19 -> 0 | H37: =دی!G19 -> 0 | I37: =دی!H19 -> 0 | J37: =دی!I19 -> 0 | K37: =D37+E37+F37+G37+H37+I37+J37 -> 0 | U37: =K37+N37+P37+Q37+R37+S37+T37 -> 0
C38: کسورات | D38: =دی!C20 -> 0 | E38: =دی!D20 -> 0 | F38: =دی!E20 -> 0 | G38: =دی!F20 -> 0 | H38: =دی!G20 -> 0 | I38: =دی!H20 -> 0 | J38: =دی!I20 -> 0 | K38: =D38+E38+F38+G38+H38+I38+J38 -> 0 | U38: =K38+N38+P38+Q38+R38+S38+T38 -> 0
B39: بهمن | C39: ارسالی | D39: =بهمن!C18 -> 0 | E39: =بهمن!D18 -> 0 | F39: =بهمن!E18 -> 0 | G39: =بهمن!F18 -> 0 | H39: =بهمن!G18 -> 0 | I39: =بهمن!H18 -> 0 | J39: =بهمن!I18 -> 0 | K39: =D39+E39+F39+G39+H39+I39+J39 -> 0 | L39: =بهمن!K18 -> 0 | M39: =بهمن!L18 -> 0 | N39: =بهمن!M18 -> 0 | O39: =بهمن!N18 -> 0 | P39: =بهمن!O18 -> 0 | Q39: =بهمن!P18 -> 0 | R39: =بهمن!Q18 -> 0 | S39: =بهمن!R18 -> 0 | T39: =بهمن!S18 -> 0 | U39: =SUM(K39:T41)-N39 -> 0
C40: وصولی | D40: =بهمن!C19 -> 0 | E40: =بهمن!D19 -> 0 | F40: =بهمن!E19 -> 0 | G40: =بهمن!F19 -> 0 | H40: =بهمن!G19 -> 0 | I40: =بهمن!H19 -> 0 | J40: =بهمن!I19 -> 0 | K40: =D40+E40+F40+G40+H40+I40+J40 -> 0 | U40: =K40+N40+P40+Q40+R40+S40+T40 -> 0
...

Sheet 30107
B1: کاربرگ اطلاعات درآمد 1393
B2: نام واحد
B3: برنامه:30107000
B4: دوره | C4: درامد | D4: بیمه ای | L4: کارت بهداشت | M4: سایر درآمد ها | N4: کنترل نسخ دریافتی ارسال نشده | O4: درامد نقدی (صندوق) | P4: بدهکاران اشخاص (بیماران تسویه نشده) | Q4: نیازمندان | R4: ترافیکی | S4: منازل سازمانی | T4: سایر قراردادها ودرامدها | U4: جمع کل درآمد
D5: تامین اجتماعی | E5: خدمات درمانی | F5: کمیته امداد | G5: نیروهای مسلح | H5: بیمه ذغال سنگ | I5: بیمه فولاد | J5: سایر بیمه ها | K5: جمع کل درامد بیمه ای
