Workbook

Sheet 30315
B1: کاربرگ اطلاعات درآمد 1393
B2: نام واحد
B3: برنامه:30315000
B4: دوره | C4: درامد | D4: بیمه ای | L4: کارت بهداشت | M4: سایر درآمد ها | N4: کنترل نسخ دریافتی ارسال نشده | O4: درامد نقدی (صندوق) | P4: بدهکاران اشخاص (بیماران تسویه نشده) | Q4: نیازمندان | R4: ترافیکی | S4: منازل سازمانی | T4: سایر قراردادها ودرامدها | U4: جمع کل درآمد
D5: تامین اجتماعی | E5: خدمات درمانی | F5: کمیته امداد | G5: نیروهای مسلح | H5: بیمه ذغال سنگ | I5: بیمه فولاد | J5: سایر بیمه ها | K5: جمع کل درامد بیمه ای
B6: فروردين | C6: ارسالی | D6: =فروردین!C6 -> 0 | E6: =فروردین!D6 -> 0 | F6: =فروردین!E6 -> 0 | G6: =فروردین!F6 -> 0 | H6: =فروردین!G6 -> 0 | I6: =فروردین!H6 -> 0 | J6: =فروردین!I6 -> 0 | K6: =D6+E6+F6+G6+H6+I6+J6 -> 0 | L6: =اردیبهشت!K3 -> 0 | M6: =فروردین!L6 -> 0 | N6: =فروردین!M6 -> 0 | O6: =فروردین!N6 -> 0 | P6: =فروردین!O6 -> 0 | Q6: =فروردین!P6 -> 0 | R6: =فروردین!Q6 -> 0 | S6: =فروردین!R6 -> 0 | T6: =فروردین!S6 -> 0 | U6: =SUM(K6:T8)-N6-K7-K8 -> 0
C7: وصولی | D7: =فروردین!C7 -> 0 | E7: =فروردین!D7 -> 0 | F7: =فروردین!E7 -> 0 | G7: =فروردین!F7 -> 0 | H7: =فروردین!G7 -> 0 | I7: =فروردین!H7 -> 0 | J7: =فروردین!I7 -> 0 | K7: =D7+E7+F7+G7+H7+I7+J7 -> 0 | U7: =K7+N7+P7+Q7+R7+S7+#REF! -> #REF!
C8: کسورات | D8: =فروردین!C8 -> 0 | E8: =فروردین!D8 -> 0 | F8: =فروردین!E8 -> 0 | G8: =فروردین!F8 -> 0 | H8: =فروردین!G8 -> 0 | I8: =فروردین!H8 -> 0 | J8: =فروردین!I8 -> 0 | K8: =D8+E8+F8+G8+H8+I8+J8 -> 0 | U8: =K8+N8+P8+Q8+R8+S8+#REF! -> #REF!
B9: ارديبهشت | C9: ارسالی | D9: =اردیبهشت!C6 -> 0 | E9: =اردیبهشت!D6 -> 0 | F9: =اردیبهشت!E6 -> 0 | G9: =اردیبهشت!F6 -> 0 | H9: =اردیبهشت!G6 -> 0 | I9: =اردیبهشت!H6 -> 0 | J9: =اردیبهشت!I6 -> 0 | K9: =D9+E9+F9+G9+H9+I9+J9 -> 0 | L9: =اردیبهشت!K6 -> 0 | M9: =اردیبهشت!L6 -> 0 | N9: =اردیبهشت!M6 -> 0 | O9: =اردیبهشت!N6 -> 0 | P9: =اردیبهشت!O6 -> 0 | Q9: =اردیبهشت!P6 -> 0 | R9: =اردیبهشت!Q6 -> 0 | S9: =اردیبهشت!R6 -> 0 | T9: =فروردین!S9 -> 0 | U9: =SUM(K9:T11)-N9 -> 0
C10: وصولی | D10: =اردیبهشت!C7 -> 0 | E10: =اردیبهشت!D7 -> 0 | F10: =اردیبهشت!E7 -> 0 | G10: =اردیبهشت!F7 -> 0 | H10: =اردیبهشت!G7 -> 0 | I10: =اردیبهشت!H7 -> 0 | J10: =اردیبهشت!I7 -> 0 | K10: =D10+E10+F10+G10+H10+I10+J10 -> 0 | U10: =K10+N10+P10+Q10+R10+S10+#REF! -> #REF!
C11: کسورات | D11: =اردیبهشت!C8 -> 0 | E11: =اردیبهشت!D8 -> 0 | F11: =اردیبهشت!E8 -> 0 | G11: =اردیبهشت!F8 -> 0 | H11: =اردیبهشت!G8 -> 0 | I11: =اردیبهشت!H8 -> 0 | J11: =اردیبهشت!I8 -> 0 | K11: =D11+E11+F11+G11+H11+I11+J11 -> 0 | U11: =K11+N11+P11+Q11+R11+S11+#REF! -> #REF!
B12: خرداد | C12: ارسالی | D12: =خرداد!C6 -> 0 | E12: =خرداد!D6 -> 0 | F12: =خرداد!E6 -> 0 | G12: =خرداد!F6 -> 0 | H12: =خرداد!G6 -> 0 | I12: =خرداد!H6 -> 0 | J12: =خرداد!I6 -> 0 | K12: =D12+E12+F12+G12+H12+I12+J12 -> 0 | L12: =خرداد!K6 -> 0 | M12: =خرداد!L6 -> 0 | N12: =خرداد!M6 -> 0 | O12: =خرداد!N6 -> 0 | P12: =خرداد!O6 -> 0 | Q12: =خرداد!P6 -> 0 | R12: =خرداد!Q6 -> 0 | S12: =خرداد!R6 -> 0 | T12: =فروردین!S12 -> 0 | U12: =SUM(K12:T14)-N12 -> 0
C13: وصولی | D13: =خرداد!C7 -> 0 | E13: =خرداد!D7 -> 0 | F13: =خرداد!E7 -> 0 | G13: =خرداد!F7 -> 0 | H13: =خرداد!G7 -> 0 | I13: =خرداد!H7 -> 0 | J13: =خرداد!I7 -> 0 | K13: =D13+E13+F13+G13+H13+I13+J13 -> 0 | U13: =K13+N13+P13+Q13+R13+S13+#REF! -> #REF!
C14: کسورات | D14: =خرداد!C8 -> 0 | E14: =خرداد!D8 -> 0 | F14: =خرداد!E8 -> 0 | G14: =خرداد!F8 -> 0 | H14: =خرداد!G8 -> 0 | I14: =خرداد!H8 -> 0 | J14: =خرداد!I8 -> 0 | K14: =D14+E14+F14+G14+H14+I14+J14 -> 0 | U14: =K14+N14+P14+Q14+R14+S14+#REF! -> #REF!
B15: تير | C15: ارسالی | D15: =تیر!C6 -> 0 | E15: =تیر!D6 -> 0 | F15: =تیر!E6 -> 0 | G15: =تیر!F6 -> 0 | H15: =تیر!G6 -> 0 | I15: =تیر!H6 -> 0 | J15: =تیر!I6 -> 0 | K15: =D15+E15+F15+G15+H15+I15+J15 -> 0 | L15: =تیر!K6 -> 0 | M15: =تیر!L6 -> 0 | N15: =تیر!M6 -> 0 | O15: =تیر!N6 -> 0 | P15: =تیر!O6 -> 0 | Q15: =تیر!P6 -> 0 | R15: =تیر!Q6 -> 0 | S15: =تیر!R6 -> 0 | T15: =فروردین!S15 -> 0 | U15: =SUM(K15:T17)-N15 -> 0
C16: وصولی | D16: =تیر!C7 -> 0 | E16: =تیر!D7 -> 0 | F16: =تیر!E7 -> 0 | G16: =تیر!F7 -> 0 | H16: =تیر!G7 -> 0 | I16: =تیر!H7 -> 0 | J16: =تیر!I7 -> 0 | K16: =D16+E16+F16+G16+H16+I16+J16 -> 0 | U16: =K16+N16+P16+Q16+R16+S16+#REF! -> #REF!
C17: کسورات | D17: =تیر!C8 -> 0 | E17: =تیر!D8 -> 0 | F17: =تیر!E8 -> 0 | G17: =تیر!F8 -> 0 | H17: =تیر!G8 -> 0 | I17: =تیر!H8 -> 0 | J17: =تیر!I8 -> 0 | K17: =D17+E17+F17+G17+H17+I17+J17 -> 0 | U17: =K17+N17+P17+Q17+R17+S17+#REF! -> #REF!
B18: مرداد | C18: ارسالی | D18: =مرداد!C6 -> 0 | E18: =مرداد!D6 -> 0 | F18: =مرداد!E6 -> 0 | G18: =مرداد!F6 -> 0 | H18: =مرداد!G6 -> 0 | I18: =مرداد!H6 -> 0 | J18: =مرداد!I6 -> 0 | K18: =D18+E18+F18+G18+H18+I18+J18 -> 0 | L18: =مرداد!K6 -> 0 | M18: =مرداد!L6 -> 0 | N18: =مرداد!M6 -> 0 | O18: =مرداد!N6 -> 0 | P18: =مرداد!O6 -> 0 | Q18: =مرداد!P6 -> 0 | R18: =مرداد!Q6 -> 0 | S18: =مرداد!R6 -> 0 | T18: =فروردین!S18 -> 0 | U18: =SUM(K18:T20)-N18 -> 0
C19: وصولی | D19: =مرداد!C7 -> 0 | E19: =مرداد!D7 -> 0 | F19: =مرداد!E7 -> 0 | G19: =مرداد!F7 -> 0 | H19: =مرداد!G7 -> 0 | I19: =مرداد!H7 -> 0 | J19: =مرداد!I7 -> 0 | K19: =D19+E19+F19+G19+H19+I19+J19 -> 0 | U19: =K19+N19+P19+Q19+R19+S19+#REF! -> #REF!
C20: کسورات | D20: =مرداد!C8 -> 0 | E20: =مرداد!D8 -> 0 | F20: =مرداد!E8 -> 0 | G20: =مرداد!F8 -> 0 | H20: =مرداد!G8 -> 0 | I20: =مرداد!H8 -> 0 | J20: =مرداد!I8 -> 0 | K20: =D20+E20+F20+G20+H20+I20+J20 -> 0 | U20: =K20+N20+P20+Q20+R20+S20+#REF! -> #REF!
B21: تغییر تعرفه | C21: ارسالی | D21: ='تغییر تعرفه'!C6 -> 0 | E21: ='تغییر تعرفه'!D6 -> 0 | F21: ='تغییر تعرفه'!E6 -> 0 | G21: ='تغییر تعرفه'!F6 -> 0 | H21: ='تغییر تعرفه'!G6 -> 0 | I21: ='تغییر تعرفه'!H6 -> 0 | J21: ='تغییر تعرفه'!I6 -> 0 | K21: =D21+E21+F21+G21+H21+I21+J21 -> 0 | L21: ='تغییر تعرفه'!K6 -> 0 | M21: ='تغییر تعرفه'!L6 -> 0 | N21: ='تغییر تعرفه'!M6 -> 0 | O21: ='تغییر تعرفه'!N6 -> 0 | P21: ='تغییر تعرفه'!O6 -> 0 | Q21: ='تغییر تعرفه'!P6 -> 0 | R21: ='تغییر تعرفه'!Q6 -> 0 | S21: ='تغییر تعرفه'!R6 -> 0 | T21: =فروردین!S21 -> 0 | U21: =SUM(K21:T23)-N21 -> 0
C22: وصولی | D22: ='تغییر تعرفه'!C7 -> 0 | E22: ='تغییر تعرفه'!D7 -> 0 | F22: ='تغییر تعرفه'!E7 -> 0 | G22: ='تغییر تعرفه'!F7 -> 0 | H22: ='تغییر تعرفه'!G7 -> 0 | I22: ='تغییر تعرفه'!H7 -> 0 | J22: ='تغییر تعرفه'!I7 -> 0 | K22: =D22+E22+F22+G22+H22+I22+J22 -> 0 | U22: =K22+N22+P22+Q22+R22+S22+#REF! -> #REF!
C23: کسورات | D23: ='تغییر تعرفه'!C8 -> 0 | E23: ='تغییر تعرفه'!D8 -> 0 | F23: ='تغییر تعرفه'!E8 -> 0 | G23: ='تغییر تعرفه'!F8 -> 0 | H23: ='تغییر تعرفه'!G8 -> 0 | I23: ='تغییر تعرفه'!H8 -> 0 | J23: ='تغییر تعرفه'!I8 -> 0 | K23: =D23+E23+F23+G23+H23+I23+J23 -> 0 | U23: =K23+N23+P23+Q23+R23+S23+#REF! -> #REF!
B24: شهريور | C24: ارسالی | D24: =شهریور!C6 -> 0 | E24: =شهریور!D6 -> 0 | F24: =شهریور!E6 -> 0 | G24: =شهریور!F6 -> 0 | H24: =شهریور!G6 -> 0 | I24: =شهریور!H6 -> 0 | J24: =شهریور!I6 -> 0 | K24: =D24+E24+F24+G24+H24+I24+J24 -> 0 | L24: =شهریور!K6 -> 0 | M24: =شهریور!L6 -> 0 | N24: =شهریور!M6 -> 0 | O24: =شهریور!N6 -> 0 | P24: =شهریور!O6 -> 0 | Q24: =شهریور!P6 -> 0 | R24: =شهریور!Q6 -> 0 | S24: =شهریور!R6 -> 0 | T24: =فروردین!S24 -> 0 | U24: =SUM(K24:T26)-N24 -> 0
C25: وصولی | D25: =شهریور!C7 -> 0 | E25: =شهریور!D7 -> 0 | F25: =شهریور!E7 -> 0 | G25: =شهریور!F7 -> 0 | H25: =شهریور!G7 -> 0 | I25: =شهریور!H7 -> 0 | J25: =شهریور!I7 -> 0 | K25: =D25+E25+F25+G25+H25+I25+J25 -> 0 | U25: =K25+N25+P25+Q25+R25+S25+#REF! -> #REF!
C26: کسورات | D26: =شهریور!C8 -> 0 | E26: =شهریور!D8 -> 0 | F26: =شهریور!E8 -> 0 | G26: =شهریور!F8 -> 0 | H26: =شهریور!G8 -> 0 | I26: =شهریور!H8 -> 0 | J26: =شهریور!I8 -> 0 | K26: =D26+E26+F26+G26+H26+I26+J26 -> 0 | U26: =K26+N26+P26+Q26+R26+S26+#REF! -> #REF!
B27: مهر | C27: ارسالی | D27: =مهر!C6 -> 0 | E27: =مهر!D6 -> 0 | F27: =مهر!E6 -> 0 | G27: =مهر!F6 -> 0 | H27: =مهر!G6 -> 0 | I27: =مهر!H6 -> 0 | J27: =مهر!I6 -> 0 | K27: =D27+E27+F27+G27+H27+I27+J27 -> 0 | L27: =مهر!K6 -> 0 | M27: =مهر!L6 -> 0 | N27: =مهر!M6 -> 0 | O27: =مهر!N6 -> 0 | P27: =مهر!O6 -> 0 | Q27: =مهر!P6 -> 0 | R27: =مهر!Q6 -> 0 | S27: =مهر!R6 -> 0 | T27: =فروردین!S27 -> 0 | U27: =SUM(K27:T29)-N27 -> 0
C28: وصولی | D28: =مهر!C7 -> 0 | E28: =مهر!D7 -> 0 | F28: =مهر!E7 -> 0 | G28: =مهر!F7 -> 0 | H28: =مهر!G7 -> 0 | I28: =مهر!H7 -> 0 | J28: =مهر!I7 -> 0 | K28: =D28+E28+F28+G28+H28+I28+J28 -> 0 | U28: =K28+N28+P28+Q28+R28+S28+#REF! -> #REF!
C29: کسورات | D29: =مهر!C8 -> 0 | E29: =مهر!D8 -> 0 | F29: =مهر!E8 -> 0 | G29: =مهر!F8 -> 0 | H29: =مهر!G8 -> 0 | I29: =مهر!H8 -> 0 | J29: =مهر!I8 -> 0 | K29: =D29+E29+F29+G29+H29+I29+J29 -> 0 | U29: =K29+N29+P29+Q29+R29+S29+#REF! -> #REF!
B30: آبان | C30: ارسالی | D30: =آبان!C6 -> 0 | E30: =آبان!D6 -> 0 | F30: =آبان!E6 -> 0 | G30: =آبان!F6 -> 0 | H30: =آبان!G6 -> 0 | I30: =آبان!H6 -> 0 | J30: =آبان!I6 -> 0 | K30: =D30+E30+F30+G30+H30+I30+J30 -> 0 | L30: =آبان!K6 -> 0 | M30: =آبان!L6 -> 0 | N30: =آبان!M6 -> 0 | O30: =آبان!N6 -> 0 | P30: =آبان!O6 -> 0 | Q30: =آبان!P6 -> 0 | R30: =آبان!Q6 -> 0 | S30: =آبان!R6 -> 0 | T30: =فروردین!S30 -> 0 | U30: =SUM(K30:T32)-N30 -> 0
C31: وصولی | D31: =آبان!C7 -> 0 | E31: =آبان!D7 -> 0 | F31: =آبان!E7 -> 0 | G31: =آبان!F7 -> 0 | H31: =آبان!G7 -> 0 | I31: =آبان!H7 -> 0 | J31: =آبان!I7 -> 0 | K31: =D31+E31+F31+G31+H31+I31+J31 -> 0 | U31: =K31+N31+P31+Q31+R31+S31+#REF! -> #REF!
C32: کسورات | D32: =آبان!C8 -> 0 | E32: =آبان!D8 -> 0 | F32: =آبان!E8 -> 0 | G32: =آبان!F8 -> 0 | H32: =آبان!G8 -> 0 | I32: =آبان!H8 -> 0 | J32: =آبان!I8 -> 0 | K32: =D32+E32+F32+G32+H32+I32+J32 -> 0 | U32: =K32+N32+P32+Q32+R32+S32+#REF! -> #REF!
B33: آذر | C33: ارسالی | D33: =آذر!C6 -> 0 | E33: =آذر!D6 -> 0 | F33: =آذر!E6 -> 0 | G33: =آذر!F6 -> 0 | H33: =آذر!G6 -> 0 | I33: =آذر!H6 -> 0 | J33: =آذر!I6 -> 0 | K33: =D33+E33+F33+G33+H33+I33+J33 -> 0 | L33: =آذر!K6 -> 0 | M33: =آذر!L6 -> 0 | N33: =آذر!M6 -> 0 | O33: =آذر!N6 -> 0 | P33: =آذر!O6 -> 0 | Q33: =آذر!P6 -> 0 | R33: =آذر!Q6 -> 0 | S33: =آذر!R6 -> 0 | T33: =فروردین!S33 -> 0 | U33: =SUM(K33:T35)-N33 -> 0
C34: وصولی | D34: =آذر!C7 -> 0 | E34: =آذر!D7 -> 0 | F34: =آذر!E7 -> 0 | G34: =آذر!F7 -> 0 | H34: =آذر!G7 -> 0 | I34: =آذر!H7 -> 0 | J34: =آذر!I7 -> 0 | K34: =D34+E34+F34+G34+H34+I34+J34 -> 0 | U34: =K34+N34+P34+Q34+R34+S34+#REF! -> #REF!
C35: کسورات | D35: =آذر!C8 -> 0 | E35: =آذر!D8 -> 0 | F35: =آذر!E8 -> 0 | G35: =آذر!F8 -> 0 | H35: =آذر!G8 -> 0 | I35: =آذر!H8 -> 0 | J35: =آذر!I8 -> 0 | K35: =D35+E35+F35+G35+H35+I35+J35 -> 0 | U35: =K35+N35+P35+Q35+R35+S35+#REF! -> #REF!
B36: دي | C36: ارسالی | D36: =دی!C6 -> 0 | E36: =دی!D6 -> 0 | F36: =دی!E6 -> 0 | G36: =دی!F6 -> 0 | H36: =دی!G6 -> 0 | I36: =دی!H6 -> 0 | J36: =دی!I6 -> 0 | K36: =D36+E36+F36+G36+H36+I36+J36 -> 0 | L36: =دی!K6 -> 0 | M36: =دی!L6 -> 0 | N36: =دی!M6 -> 0 | O36: =دی!N6 -> 0 | P36: =دی!O6 -> 0 | Q36: =دی!P6 -> 0 | R36: =دی!Q6 -> 0 | S36: =دی!R6 -> 0 | T36: =فروردین!S36 -> 0 | U36: =SUM(K36:T38)-N36 -> 0
C37: وصولی | D37: =دی!C7 -> 0 | E37: =دی!D7 -> 0 | F37: =دی!E7 -> 0 | G37: =دی!F7 -> 0 | H37: =دی!G7 -> 0 | I37: =دی!H7 -> 0 | J37: =دی!I7 -> 0 | K37: =D37+E37+F37+G37+H37+I37+J37 -> 0 | U37: =K37+N37+P37+Q37+R37+S37+#REF! -> #REF!
C38: کسورات | D38: =دی!C8 -> 0 | E38: =دی!D8 -> 0 | F38: =دی!E8 -> 0 | G38: =دی!F8 -> 0 | H38: =دی!G8 -> 0 | I38: =دی!H8 -> 0 | J38: =دی!I8 -> 0 | K38: =D38+E38+F38+G38+H38+I38+J38 -> 0 | U38: =K38+N38+P38+Q38+R38+S38+#REF! -> #REF!
B39: بهمن | C39: ارسالی | D39: =بهمن!C6 -> 0 | E39: =بهمن!D6 -> 0 | F39: =بهمن!E6 -> 0 | G39: =بهمن!F6 -> 0 | H39: =بهمن!G6 -> 0 | I39: =بهمن!H6 -> 0 | J39: =بهمن!I6 -> 0 | K39: =D39+E39+F39+G39+H39+I39+J39 -> 0 | L39: =بهمن!K6 -> 0 | M39: =بهمن!L6 -> 0 | N39: =بهمن!M6 -> 0 | O39: =بهمن!N6 -> 0 | P39: =بهمن!O6 -> 0 | Q39: =بهمن!P6 -> 0 | R39: =بهمن!Q6 -> 0 | S39: =بهمن!R6 -> 0 | T39: =فروردین!S39 -> 0 | U39: =SUM(K39:T41)-N39 -> 0
C40: وصولی | D40: =بهمن!C7 -> 0 | E40: =بهمن!D7 -> 0 | F40: =بهمن!E7 -> 0 | G40: =بهمن!F7 -> 0 | H40: =بهمن!G7 -> 0 | I40: =بهمن!H7 -> 0 | J40: =بهمن!I7 -> 0 | K40: =D40+E40+F40+G40+H40+I40+J40 -> 0 | U40: =K40+N40+P40+Q40+R40+S40+#REF! -> #REF!
C41: کسورات | D41: =بهمن!C8 -> 0 | E41: =بهمن!D8 -> 0 | F41: =بهمن!E8 -> 0 | G41: =بهمن!F8 -> 0 | H41: =بهمن!G8 -> 0 | I41: =بهمن!H8 -> 0 | J41: =بهمن!I8 -> 0 | K41: =D41+E41+F41+G41+H41+I41+J41 -> 0 | U41: =K41+N41+P41+Q41+R41+S41+#REF! -> #REF!
B42: اسفند | C42: ارسالی | D42: =اسفند!C6 -> 0 | E42: =اسفند!D6 -> 0 | F42: =اسفند!E6 -> 0 | G42: =اسفند!F6 -> 0 | H42: =اسفند!G6 -> 0 | I42: =اسفند!H6 -> 0 | J42: =اسفند!I6 -> 0 | K42: =D42+E42+F42+G42+H42+I42+J42 -> 0 | L42: =اسفند!K6 -> 0 | M42: =اسفند!L6 -> 0 | N42: =اسفند!M6 -> 0 | O42: =اسفند!N6 -> 0 | P42: =اسفند!O6 -> 0 | Q42: =اسفند!P6 -> 0 | R42: =اسفند!Q6 -> 0 | S42: =اسفند!R6 -> 0 | T42: =فروردین!S42 -> 0 | U42: =SUM(K42:T44)-N42 -> 0
C43: وصولی | D43: =اسفند!C7 -> 0 | E43: =اسفند!D7 -> 0 | F43: =اسفند!E7 -> 0 | G43: =اسفند!F7 -> 0 | H43: =اسفند!G7 -> 0 | I43: =اسفند!H7 -> 0 | J43: =اسفند!I7 -> 0 | K43: =D43+E43+F43+G43+H43+I43+J43 -> 0 | U43: =K43+N43+P43+Q43+R43+S43+#REF! -> #REF!
C44: کسورات | D44: =اسفند!C8 -> 0 | E44: =اسفند!D8 -> 0 | F44: =اسفند!E8 -> 0 | G44: =اسفند!F8 -> 0 | H44: =اسفند!G8 -> 0 | I44: =اسفند!H8 -> 0 | J44: =اسفند!I8 -> 0 | K44: =D44+E44+F44+G44+H44+I44+J44 -> 0 | U44: =K44+N44+P44+Q44+R44+S44+#REF! -> #REF!
B45: جمع کل | C45: ارسالی | D45: =D6+D9+D12+D15+D18+D21+D24+D27+D30+D33+D36+D39+D42 -> 0 | E45: =E6+E9+E12+E15+E18+E21+E24+E27+E30+E33+E36+E39+E42 -> 0 | F45: =F6+F9+F12+F15+F18+F21+F24+F27+F30+F33+F36+F39+F42 -> 0 | G45: =G6+G9+G12+G15+G18+G21+G24+G27+G30+G33+G36+G39+G42 -> 0 | H45: =H6+H9+H12+H15+H18+H21+H24+H27+H30+H33+H36+H39+H42 -> 0 | I45: =I6+I9+I12+I15+I18+I21+I24+I27+I30+I33+I36+I39+I42 -> 0 | J45: =J6+J9+J12+J15+J18+J21+J24+J27+J30+J33+J36+J39+J42 -> 0 | K45: =K6+K9+K12+K15+K18+K21+K24+K27+K30+K33+K36+K39+K42 -> 0 | L45: =SUM(L6:L44) -> 0 | M45: =SUM(M6:M44) -> 0 | N45: =SUM(N6:N44) -> 0 | O45: =SUM(O6:O44) -> 0 | P45: =SUM(P6:P44) -> 0 | Q45: =SUM(Q6:Q44) -> 0 | R45: =SUM(R6:R44) -> 0 | S45: =SUM(S6:S44) -> 0 | T45: =SUM(I45:S47)-L45 -> 0 | U45: =SUM(K45:T47)-N45 -> 0
C46: وصولی | D46: =D7+D10+D13+D16+D19+D22+D25+D28+D31+D34+D37+D40+D43 -> 0 | E46: =E7+E10+E13+E16+E19+E22+E25+E28+E31+E34+E37+E40+E43 -> 0 | F46: =F7+F10+F13+F16+F19+F22+F25+F28+F31+F34+F37+F40+F43 -> 0 | G46: =G7+G10+G13+G16+G19+G22+G25+G28+G31+G34+G37+G40+G43 -> 0 | H46: =H7+H10+H13+H16+H19+H22+H25+H28+H31+H34+H37+H40+H43 -> 0 | I46: =I7+I10+I13+I16+I19+I22+I25+I28+I31+I34+I37+I40+I43 -> 0 | J46: =J7+J10+J13+J16+J19+J22+J25+J28+J31+J34+J37+J40+J43 -> 0 | K46: =K7+K10+K13+K16+K19+K22+K25+K28+K31+K34+K37+K40+K43 -> 0 | T46: =I46+L46+N46+O46+P46+Q46+S46 -> 0 | U46: =K46+N46+P46+Q46+R46+S46+#REF! -> #REF!
C47: کسورات | D47: =D8+D11+D14+D17+D20+D23+D26+D29+D32+D35+D38+D41+D44 -> 0 | E47: =E8+E11+E14+E17+E20+E23+E26+E29+E32+E35+E38+E41+E44 -> 0 | F47: =F8+F11+F14+F17+F20+F23+F26+F29+F32+F35+F38+F41+F44 -> 0 | G47: =G8+G11+G14+G17+G20+G23+G26+G29+G32+G35+G38+G41+G44 -> 0 | H47: =H8+H11+H14+H17+H20+H23+H26+H29+H32+H35+H38+H41+H44 -> 0 | I47: =I8+I11+I14+I17+I20+I23+I26+I29+I32+I35+I38+I41+I44 -> 0 | J47: =J8+J11+J14+J17+J20+J23+J26+J29+J32+J35+J38+J41+J44 -> 0 | K47: =K8+K11+K14+K17+K20+K23+K26+K29+K32+K35+K38+K41+K44 -> 0 | T47: =I47+L47+N47+O47+P47+Q47+S47 -> 0 | U47: =K47+N47+P47+Q47+R47+S47+#REF! -> #REF!

Sheet 30316
B1: کاربرگ اطلاعات درآمد 1393
B2: نام واحد
B3: برنامه:30316000
B4: دوره | C4: درامد | D4: بیمه ای | L4: کارت بهداشت | M4: سایر درآمد ها | N4: کنترل نسخ دریافتی ارسال نشده | O4: درامد نقدی (صندوق) | P4: بدهکاران اشخاص (بیماران تسویه نشده) | Q4: نیازمندان | R4: ترافیکی | S4: منازل سازمانی | T4: سایر قراردادها ودرامدها | U4: جمع کل درآمد
D5: تامین اجتماعی | E5: خدمات درمانی | F5: کمیته امداد | G5: نیروهای مسلح | H5: بیمه ذغال سنگ | I5: بیمه فولاد | J5: سایر بیمه ها | K5: جمع کل درامد بیمه ای
B6: فروردين | C6: ارسالی | D6: =فروردین!C9 -> 0 | E6: =فروردین!D9 -> 0 | F6: =فروردین!E9 -> 0 | G6: =فروردین!F9 -> 0 | H6: =فروردین!G9 -> 0 | I6: =فروردین!H9 -> 0 | J6: =فروردین!I9 -> 0 | K6: =D6+E6+F6+G6+H6+I6+J6 -> 0 | L6: =فروردین!K9 -> 0 | M6: =فروردین!L9 -> 0 | N6: =فروردین!M9 -> 0 | O6: =فروردین!N9 -> 0 | P6: =فروردین!O9 -> 0 | Q6: =فروردین!P9 -> 0 | R6: =فروردین!Q9 -> 0 | S6: =فروردین!R9 -> 0 | T6: =فروردین!S9 -> 0 | U6: =SUM(K6:T8)-N6-K7-K8 -> 0
C7: وصولی | D7: =فروردین!C10 -> 0 | E7: =فروردین!D10 -> 0 | F7: =فروردین!E10 -> 0 | G7: =فروردین!F10 -> 0 | H7: =فروردین!G10 -> 0 | I7: =فروردین!H10 -> 0 | J7: =فروردین!I10 -> 0 | K7: =D7+E7+F7+G7+H7+I7+J7 -> 0 | U7: =K7+N7+P7+Q7+R7+S7+T7 -> 0
C8: کسورات | D8: =فروردین!C11 -> 0 | E8: =فروردین!D11 -> 0 | F8: =فروردین!E11 -> 0 | G8: =فروردین!F11 -> 0 | H8: =فروردین!G11 -> 0 | I8: =فروردین!H11 -> 0 | J8: =فروردین!I11 -> 0 | K8: =D8+E8+F8+G8+H8+I8+J8 -> 0 | U8: =K8+N8+P8+Q8+R8+S8+T8 -> 0
B9: ارديبهشت | C9: ارسالی | D9: =اردیبهشت!C9 -> 0 | E9: =اردیبهشت!D9 -> 0 | F9: =اردیبهشت!E9 -> 0 | G9: =اردیبهشت!F9 -> 0 | H9: =اردیبهشت!G9 -> 0 | I9: =اردیبهشت!H9 -> 0 | J9: =اردیبهشت!I9 -> 0 | K9: =D9+E9+F9+G9+H9+I9+J9 -> 0 | L9: =اردیبهشت!K9 -> 0 | M9: =اردیبهشت!L9 -> 0 | N9: =اردیبهشت!M9 -> 0 | O9: =اردیبهشت!N9 -> 0 | P9: =اردیبهشت!O9 -> 0 | Q9: =اردیبهشت!P9 -> 0 | R9: =اردیبهشت!Q9 -> 0 | S9: =اردیبهشت!R9 -> 0 | T9: =اردیبهشت!S9 -> 0 | U9: =SUM(K9:T11)-N9 -> 0
C10: وصولی | D10: =اردیبهشت!C10 -> 0 | E10: =اردیبهشت!D10 -> 0 | F10: =اردیبهشت!E10 -> 0 | G10: =اردیبهشت!F10 -> 0 | H10: =اردیبهشت!G10 -> 0 | I10: =اردیبهشت!H10 -> 0 | J10: =اردیبهشت!I10 -> 0 | K10: =D10+E10+F10+G10+H10+I10+J10 -> 0 | U10: =K10+N10+P10+Q10+R10+S10+T10 -> 0
C11: کسورات | D11: =اردیبهشت!C8 -> 0 | E11: =اردیبهشت!D8 -> 0 | F11: =اردیبهشت!E8 -> 0 | G11: =اردیبهشت!F8 -> 0 | H11: =اردیبهشت!G8 -> 0 | I11: =اردیبهشت!H8 -> 0 | J11: =اردیبهشت!I8 -> 0 | K11: =D11+E11+F11+G11+H11+I11+J11 -> 0 | U11: =K11+N11+P11+Q11+R11+S11+T11 -> 0
B12: خرداد | C12: ارسالی | D12: =خرداد!C9 -> 0 | E12: =خرداد!D9 -> 0 | F12: =خرداد!E9 -> 0 | G12: =خرداد!F9 -> 0 | H12: =خرداد!G9 -> 0 | I12: =خرداد!H9 -> 0 | J12: =خرداد!I9 -> 0 | K12: =D12+E12+F12+G12+H12+I12+J12 -> 0 | L12: =خرداد!K9 -> 0 | M12: =خرداد!L9 -> 0 | N12: =خرداد!M9 -> 0 | O12: =خرداد!N9 -> 0 | P12: =خرداد!O9 -> 0 | Q12: =خرداد!P9 -> 0 | R12: =خرداد!Q9 -> 0 | S12: =خرداد!R9 -> 0 | T12: =خرداد!S9 -> 0 | U12: =SUM(K12:T14)-N12 -> 0
C13: وصولی | D13: =خرداد!C10 -> 0 | E13: =خرداد!D10 -> 0 | F13: =خرداد!E10 -> 0 | G13: =خرداد!F10 -> 0 | H13: =خرداد!G10 -> 0 | I13: =خرداد!H10 -> 0 | J13: =خرداد!I10 -> 0 | K13: =D13+E13+F13+G13+H13+I13+J13 -> 0 | U13: =K13+N13+P13+Q13+R13+S13+T13 -> 0
C14: کسورات | D14: =خرداد!C11 -> 0 | E14: =خرداد!D11 -> 0 | F14: =خرداد!E11 -> 0 | G14: =خرداد!F11 -> 0 | H14: =خرداد!G11 -> 0 | I14: =خرداد!H11 -> 0 | J14: =خرداد!I11 -> 0 | K14: =D14+E14+F14+G14+H14+I14+J14 -> 0 | U14: =K14+N14+P14+Q14+R14+S14+T14 -> 0
B15: تير | C15: ارسالی | D15: =تیر!C9 -> 0 | E15: =تیر!D9 -> 0 | F15: =تیر!E9 -> 0 | G15: =تیر!F9 -> 0 | H15: =تیر!G9 -> 0 | I15: =تیر!H9 -> 0 | J15: =تیر!I9 -> 0 | K15: =D15+E15+F15+G15+H15+I15+J15 -> 0 | L15: =تیر!K9 -> 0 | M15: =تیر!L9 -> 0 | N15: =تیر!M9 -> 0 | O15: =تیر!N9 -> 0 | P15: =تیر!O9 -> 0 | Q15: =تیر!P9 -> 0 | R15: =تیر!Q9 -> 0 | S15: =تیر!R9 -> 0 | T15: =تیر!S9 -> 0 | U15: =SUM(K15:T17)-N15 -> 0
C16: وصولی | D16: =تیر!C10 -> 0 | E16: =تیر!D10 -> 0 | F16: =تیر!E10 -> 0 | G16: =تیر!F10 -> 0 | H16: =تیر!G10 -> 0 | I16: =تیر!H10 -> 0 | J16: =تیر!I10 -> 0 | K16: =D16+E16+F16+G16+H16+I16+J16 -> 0 | U16: =K16+N16+P16+Q16+R16+S16+T16 -> 0
C17: کسورات | D17: =تیر!C11 -> 0 | E17: =تیر!D11 -> 0 | F17: =تیر!E11 -> 0 | G17: =تیر!F11 -> 0 | H17: =تیر!G11 -> 0 | I17: =تیر!H11 -> 0 | J17: =تیر!I11 -> 0 | K17: =D17+E17+F17+G17+H17+I17+J17 -> 0 | U17: =K17+N17+P17+Q17+R17+S17+T17 -> 0
B18: مرداد | C18: ارسالی | D18: =مرداد!C9 -> 0 | E18: =مرداد!D9 -> 0 | F18: =مرداد!E9 -> 0 | G18: =مرداد!F9 -> 0 | H18: =مرداد!G9 -> 0 | I18: =مرداد!H9 -> 0 | J18: =مرداد!I9 -> 0 | K18: =D18+E18+F18+G18+H18+I18+J18 -> 0 | L18: =مرداد!K9 -> 0 | M18: =مرداد!L9 -> 0 | N18: =مرداد!M9 -> 0 | O18: =مرداد!N9 -> 0 | P18: =مرداد!O9 -> 0 | Q18: =مرداد!P9 -> 0 | R18: =مرداد!Q9 -> 0 | S18: =مرداد!R9 -> 0 | T18: =مرداد!S9 -> 0 | U18: =SUM(K18:T20)-N18 -> 0
C19: وصولی | D19: =مرداد!C10 -> 0 | E19: =مرداد!D10 -> 0 | F19: =مرداد!E10 -> 0 | G19: =مرداد!F10 -> 0 | H19: =مرداد!G10 -> 0 | I19: =مرداد!H10 -> 0 | J19: =مرداد!I10 -> 0 | K19: =D19+E19+F19+G19+H19+I19+J19 -> 0 | U19: =K19+N19+P19+Q19+R19+S19+T19 -> 0
C20: کسورات | D20: =مرداد!C11 -> 0 | E20: =مرداد!D11 -> 0 | F20: =مرداد!E11 -> 0 | G20: =مرداد!F11 -> 0 | H20: =مرداد!G11 -> 0 | I20: =مرداد!H11 -> 0 | J20: =مرداد!I11 -> 0 | K20: =D20+E20+F20+G20+H20+I20+J20 -> 0 | U20: =K20+N20+P20+Q20+R20+S20+T20 -> 0
B21: تغییر تعرفه | C21: ارسالی | D21: ='تغییر تعرفه'!C9 -> 0 | E21: ='تغییر تعرفه'!D9 -> 0 | F21: ='تغییر تعرفه'!E9 -> 0 | G21: ='تغییر تعرفه'!F9 -> 0 | H21: ='تغییر تعرفه'!G9 -> 0 | I21: ='تغییر تعرفه'!H9 -> 0 | J21: ='تغییر تعرفه'!I9 -> 0 | K21: =D21+E21+F21+G21+H21+I21+J21 -> 0 | L21: ='تغییر تعرفه'!K9 -> 0 | M21: ='تغییر تعرفه'!L9 -> 0 | N21: ='تغییر تعرفه'!M9 -> 0 | O21: ='تغییر تعرفه'!N9 -> 0 | P21: ='تغییر تعرفه'!O9 -> 0 | Q21: ='تغییر تعرفه'!P9 -> 0 | R21: ='تغییر تعرفه'!Q9 -> 0 | S21: ='تغییر تعرفه'!R9 -> 0 | T21: ='تغییر تعرفه'!S9 -> 0 | U21: =SUM(K21:T23)-N21 -> 0
C22: وصولی | D22: ='تغییر تعرفه'!C10 -> 0 | E22: ='تغییر تعرفه'!D10 -> 0 | F22: ='تغییر تعرفه'!E10 -> 0 | G22: ='تغییر تعرفه'!F10 -> 0 | H22: ='تغییر تعرفه'!G10 -> 0 | I22: ='تغییر تعرفه'!H10 -> 0 | J22: ='تغییر تعرفه'!I10 -> 0 | K22: =D22+E22+F22+G22+H22+I22+J22 -> 0 | U22: =K22+N22+P22+Q22+R22+S22+T22 -> 0
C23: کسورات | D23: ='تغییر تعرفه'!C11 -> 0 | E23: ='تغییر تعرفه'!D11 -> 0 | F23: ='تغییر تعرفه'!E11 -> 0 | G23: ='تغییر تعرفه'!F11 -> 0 | H23: ='تغییر تعرفه'!G11 -> 0 | I23: ='تغییر تعرفه'!H11 -> 0 | J23: ='تغییر تعرفه'!I11 -> 0 | K23: =D23+E23+F23+G23+H23+I23+J23 -> 0 | U23: =K23+N23+P23+Q23+R23+S23+T23 -> 0
B24: شهريور | C24: ارسالی | D24: =شهریور!C9 -> 0 | E24: =شهریور!D9 -> 0 | F24: =شهریور!E9 -> 0 | G24: =شهریور!F9 -> 0 | H24: =شهریور!G9 -> 0 | I24: =شهریور!H9 -> 0 | J24: =شهریور!I9 -> 0 | K24: =D24+E24+F24+G24+H24+I24+J24 -> 0 | L24: =شهریور!K9 -> 0 | M24: =شهریور!L9 -> 0 | N24: =شهریور!M9 -> 0 | O24: =شهریور!N9 -> 0 | P24: =شهریور!O9 -> 0 | Q24: =شهریور!P9 -> 0 | R24: =شهریور!Q9 -> 0 | S24: =شهریور!R9 -> 0 | T24: =شهریور!S9 -> 0 | U24: =SUM(K24:T26)-N24 -> 0
C25: وصولی | D25: =شهریور!C10 -> 0 | E25: =شهریور!D10 -> 0 | F25: =شهریور!E10 -> 0 | G25: =شهریور!F10 -> 0 | H25: =شهریور!G10 -> 0 | I25: =شهریور!H10 -> 0 | J25: =شهریور!I10 -> 0 | K25: =D25+E25+F25+G25+H25+I25+J25 -> 0 | U25: =K25+N25+P25+Q25+R25+S25+T25 -> 0
C26: کسورات | D26: =شهریور!C11 -> 0 | E26: =شهریور!D11 -> 0 | F26: =شهریور!E11 -> 0 | G26: =شهریور!F11 -> 0 | H26: =شهریور!G11 -> 0 | I26: =شهریور!H11 -> 0 | J26: =شهریور!I11 -> 0 | K26: =D26+E26+F26+G26+H26+I26+J26 -> 0 | U26: =K26+N26+P26+Q26+R26+S26+T26 -> 0
B27: مهر | C27: ارسالی | D27: =مهر!C9 -> 0 | E27: =مهر!D9 -> 0 | F27: =مهر!E9 -> 0 | G27: =مهر!F9 -> 0 | H27: =مهر!G9 -> 0 | I27: =مهر!H9 -> 0 | J27: =مهر!I9 -> 0 | K27: =D27+E27+F27+G27+H27+I27+J27 -> 0 | L27: =مهر!K9 -> 0 | M27: =مهر!L9 -> 0 | N27: =مهر!M9 -> 0 | O27: =مهر!N9 -> 0 | P27: =مهر!O9 -> 0 | Q27: =مهر!P9 -> 0 | R27: =مهر!Q9 -> 0 | S27: =مهر!R9 -> 0 | T27: =مهر!S9 -> 0 | U27: =SUM(K27:T29)-N27 -> 0
C28: وصولی | D28: =مهر!C10 -> 0 | E28: =مهر!D10 -> 0 | F28: =مهر!E10 -> 0 | G28: =مهر!F10 -> 0 | H28: =مهر!G10 -> 0 | I28: =مهر!H10 -> 0 | J28: =مهر!I10 -> 0 | K28: =D28+E28+F28+G28+H28+I28+J28 -> 0 | U28: =K28+N28+P28+Q28+R28+S28+T28 -> 0
C29: کسورات | D29: =مهر!C11 -> 0 | E29: =مهر!D11 -> 0 | F29: =مهر!E11 -> 0 | G29: =مهر!F11 -> 0 | H29: =مهر!G11 -> 0 | I29: =مهر!H11 -> 0 | J29: =مهر!I11 -> 0 | K29: =D29+E29+F29+G29+H29+I29+J29 -> 0 | U29: =K29+N29+P29+Q29+R29+S29+T29 -> 0
B30: آبان | C30: ارسالی | D30: =آبان!C9 -> 0 | E30: =آبان!D9 -> 0 | F30: =آبان!E9 -> 0 | G30: =آبان!F9 -> 0 | H30: =آبان!G9 -> 0 | I30: =آبان!H9 -> 0 | J30: =آبان!I9 -> 0 | K30: =D30+E30+F30+G30+H30+I30+J30 -> 0 | L30: =آبان!K9 -> 0 | M30: =آبان!L9 -> 0 | N30: =آبان!M9 -> 0 | O30: =آبان!N9 -> 0 | P30: =آبان!O9 -> 0 | Q30: =آبان!P9 -> 0 | R30: =آبان!Q9 -> 0 | S30: =آبان!R9 -> 0 | T30: =آبان!S9 -> 0 | U30: =SUM(K30:T32)-N30 -> 0
C31: وصولی | D31: =آبان!C10 -> 0 | E31: =آبان!D10 -> 0 | F31: =آبان!E10 -> 0 | G31: =آبان!F10 -> 0 | H31: =آبان!G10 -> 0 | I31: =آبان!H10 -> 0 | J31: =آبان!I10 -> 0 | K31: =D31+E31+F31+G31+H31+I31+J31 -> 0 | U31: =K31+N31+P31+Q31+R31+S31+T31 -> 0
C32: کسورات | D32: =آبان!C11 -> 0 | E32: =آبان!D11 -> 0 | F32: =آبان!E11 -> 0 | G32: =آبان!F11 -> 0 | H32: =آبان!G11 -> 0 | I32: =آبان!H11 -> 0 | J32: =آبان!I11 -> 0 | K32: =D32+E32+F32+G32+H32+I32+J32 -> 0 | U32: =K32+N32+P32+Q32+R32+S32+T32 -> 0
B33: آذر | C33: ارسالی | D33: =آذر!C9 -> 0 | E33: =آذر!D9 -> 0 | F33: =آذر!E9 -> 0 | G33: =آذر!F9 -> 0 | H33: =آذر!G9 -> 0 | I33: =آذر!H9 -> 0 | J33: =آذر!I9 -> 0 | K33: =D33+E33+F33+G33+H33+I33+J33 -> 0 | L33: =آذر!K9 -> 0 | M33: =آذر!L9 -> 0 | N33: =آذر!M9 -> 0 | O33: =آذر!N9 -> 0 | P33: =آذر!O9 -> 0 | Q33: =آذر!P9 -> 0 | R33: =آذر!Q9 -> 0 | S33: =آذر!R9 -> 0 | T33: =آذر!S9 -> 0 | U33: =SUM(K33:T35)-N33 -> 0
C34: وصولی | D34: =آذر!C10 -> 0 | E34: =آذر!D10 -> 0 | F34: =آذر!E10 -> 0 | G34: =آذر!F10 -> 0 | H34: =آذر!G10 -> 0 | I34: =آذر!H10 -> 0 | J34: =آذر!I10 -> 0 | K34: =D34+E34+F34+G34+H34+I34+J34 -> 0 | U34: =K34+N34+P34+Q34+R34+S34+T34 -> 0
C35: کسورات | D35: =آذر!C11 -> 0 | E35: =آذر!D11 -> 0 | F35: =آذر!E11 -> 0 | G35: =آذر!F11 -> 0 | H35: =آذر!G11 -> 0 | I35: =آذر!H11 -> 0 | J35: =آذر!I11 -> 0 | K35: =D35+E35+F35+G35+H35+I35+J35 -> 0 | U35: =K35+N35+P35+Q35+R35+S35+T35 -> 0
B36: دي | C36: ارسالی | D36: =دی!C9 -> 0 | E36: =دی!D9 -> 0 | F36: =دی!E9 -> 0 | G36: =دی!F9 -> 0 | H36: =دی!G9 -> 0 | I36: =دی!H9 -> 0 | J36: =دی!I9 -> 0 | K36: =D36+E36+F36+G36+H36+I36+J36 -> 0 | L36: =دی!K9 -> 0 | M36: =دی!L9 -> 0 | N36: =دی!M9 -> 0 | O36: =دی!N9 -> 0 | P36: =دی!O9 -> 0 | Q36: =دی!P9 -> 0 | R36: =دی!Q9 -> 0 | S36: =دی!R9 -> 0 | T36: =دی!S9 -> 0 | U36: =SUM(K36:T38)-N36 -> 0
C37: وصولی | D37: =دی!C10 -> 0 | E37: =دی!D10 -> 0 | F37: =دی!E10 -> 0 | G37: =دی!F10 -> 0 | H37: =دی!G10 -> 0 | I37: =دی!H10 -> 0 | J37: =دی!I10 -> 0 | K37: =D37+E37+F37+G37+H37+I37+J37 -> 0 | U37: =K37+N37+P37+Q37+R37+S37+T37 -> 0
C38: کسورات | D38: =دی!C11 -> 0 | E38: =دی!D11 -> 0 | F38: =دی!E11 -> 0 | G38: =دی!F11 -> 0 | H38: =دی!G11 -> 0 | I38: =دی!H11 -> 0 | J38: =دی!I11 -> 0 | K38: =D38+E38+F38+G38+H38+I38+J38 -> 0 | U38: =K38+N38+P38+Q38+R38+S38+T38 -> 0
B39: بهمن | C39: ارسالی | D39: =بهمن!C9 -> 0 | E39: =بهمن!D9 -> 0 | F39: =بهمن!E9 -> 0 | G39: =بهمن!F9 -> 0 | H39: =بهمن!G9 -> 0 | I39: =بهمن!H9 -> 0 | J39: =بهمن!I9 -> 0 | K39: =D39+E39+F39+G39+H39+I39+J39 -> 0 | L39: =بهمن!K9 -> 0 | M39: =بهمن!L9 -> 0 | N39: =بهمن!M9 -> 0 | O39: =بهمن!N9 -> 0 | P39: =بهمن!O9 -> 0 | Q39: =بهمن!P9 -> 0 | R39: =بهمن!Q9 -> 0 | S39: =بهمن!R9 -> 0 | T39: =بهمن!S9 -> 0 | U39: =SUM(K39:T41)-N39 -> 0
C40: وصولی | D40: =بهمن!C10 -> 0 | E40: =بهمن!D10 -> 0 | F40: =بهمن!E10 -> 0 | G40: =بهمن!F10 -> 0 | H40: =بهمن!G10 -> 0 | I40: =بهمن!H10 -> 0 | J40: =بهمن!I10 -> 0 | K40: =D40+E40+F40+G40+H40+I40+J40 -> 0 | U40: =K40+N40+P40+Q40+R40+S40+T40 -> 0
C41: کسورات | D41: =بهمن!C11 -> 0 | E41: =بهمن!D11 -> 0 | F41: =بهمن!E11 -> 0 | G41: =بهمن!F11 -> 0 | H41: =بهمن!G11 -> 0 | I41: =بهمن!H11 -> 0 | J41: =بهمن!I11 -> 0 | K41: =D41+E41+F41+G41+H41+I41+J41 -> 0 | U41: =K41+N41+P41+Q41+R41+S41+T41 -> 0
B42: اسفند | C42: ارسالی | D42: =اسفند!C9 -> 0 | E42: =اسفند!D9 -> 0 | F42: =اسفند!E9 -> 0 | G42: =اسفند!F9 -> 0 | H42: =اسفند!G9 -> 0 | I42: =اسفند!H9 -> 0 | J42: =اسفند!I9 -> 0 | K42: =D42+E42+F42+G42+H42+I42+J42 -> 0 | L42: =اسفند!K9 -> 0 | M42: =اسفند!L9 -> 0 | N42: =اسفند!M9 -> 0 | O42: =اسفند!N9 -> 0 | P42: =اسفند!O9 -> 0 | Q42: =اسفند!P9 -> 0 | R42: =اسفند!Q9 -> 0 | S42: =اسفند!R9 -> 0 | T42: =اسفند!S9 -> 0 | U42: =SUM(K42:T44)-N42 -> 0
C43: وصولی | D43: =اسفند!C10 -> 0 | E43: =اسفند!D10 -> 0 | F43: =اسفند!E10 -> 0 | G43: =اسفند!F10 -> 0 | H43: =اسفند!G10 -> 0 | I43: =اسفند!H10 -> 0 | J43: =اسفند!I10 -> 0 | K43: =D43+E43+F43+G43+H43+I43+J43 -> 0 | U43: =K43+N43+P43+Q43+R43+S43+T43 -> 0
C44: کسورات | D44: =اسفند!C11 -> 0 | E44: =اسفند!D11 -> 0 | F44: =اسفند!E11 -> 0 | G44: =اسفند!F11 -> 0 | H44: =اسفند!G11 -> 0 | I44: =اسفند!H11 -> 0 | J44: =اسفند!I11 -> 0 | K44: =D44+E44+F44+G44+H44+I44+J44 -> 0 | U44: =K44+N44+P44+Q44+R44+S44+T44 -> 0
B45: جمع کل | C45: ارسالی | D45: =D6+D9+D12+D15+D18+D21+D24+D27+D30+D33+D36+D39+D42 -> 0 | E45: =E6+E9+E12+E15+E18+E21+E24+E27+E30+E33+E36+E39+E42 -> 0 | F45: =F6+F9+F12+F15+F18+F21+F24+F27+F30+F33+F36+F39+F42 -> 0 | G45: =G6+G9+G12+G15+G18+G21+G24+G27+G30+G33+G36+G39+G42 -> 0 | H45: =H6+H9+H12+H15+H18+H21+H24+H27+H30+H33+H36+H39+H42 -> 0 | I45: =I6+I9+I12+I15+I18+I21+I24+I27+I30+I33+I36+I39+I42 -> 0 | J45: =J6+J9+J12+J15+J18+J21+J24+J27+J30+J33+J36+J39+J42 -> 0 | K45: =K6+K9+K12+K15+K18+K21+K24+K27+K30+K33+K36+K39+K42 -> 0 | L45: =SUM(L6:L44) -> 0 | M45: =SUM(M6:M44) -> 0 | N45: =SUM(N6:N44) -> 0 | O45: =SUM(O6:O44) -> 0 | P45: =SUM(P6:P44) -> 0 | Q45: =SUM(Q6:Q44) -> 0 | R45: =SUM(R6:R44) -> 0 | S45: =SUM(S6:S44) -> 0 | T45: =SUM(T6:T44) -> 0 | U45: =SUM(K45:T47)-N45 -> 0
C46: وصولی | D46: =D7+D10+D13+D16+D19+D22+D25+D28+D31+D34+D37+D40+D43 -> 0 | E46: =E7+E10+E13+E16+E19+E22+E25+E28+E31+E34+E37+E40+E43 -> 0 | F46: =F7+F10+F13+F16+F19+F22+F25+F28+F31+F34+F37+F40+F43 -> 0 | G46: =G7+G10+G13+G16+G19+G22+G25+G28+G31+G34+G37+G40+G43 -> 0 | H46: =H7+H10+H13+H16+H19+H22+H25+H28+H31+H34+H37+H40+H43 -> 0 | I46: =I7+I10+I13+I16+I19+I22+I25+I28+I31+I34+I37+I40+I43 -> 0 | J46: =J7+J10+J13+J16+J19+J22+J25+J28+J31+J34+J37+J40+J43 -> 0 | K46: =K7+K10+K13+K16+K19+K22+K25+K28+K31+K34+K37+K40+K43 -> 0 | U46: =K46+N46+P46+Q46+R46+S46+T46 -> 0
C47: کسورات | D47: =D8+D11+D14+D17+D20+D23+D26+D29+D32+D35+D38+D41+D44 -> 0 | E47: =E8+E11+E14+E17+E20+E23+E26+E29+E32+E35+E38+E41+E44 -> 0 | F47: =F8+F11+F14+F17+F20+F23+F26+F29+F32+F35+F38+F41+F44 -> 0 | G47: =G8+G11+G14+G17+G20+G23+G26+G29+G32+G35+G38+G41+G44 -> 0 | H47: =H8+H11+H14+H17+H20+H23+H26+H29+H32+H35+H38+H41+H44 -> 0 | I47: =I8+I11+I14+I17+I20+I23+I26+I29+I32+I35+I38+I41+I44 -> 0 | J47: =J8+J11+J14+J17+J20+J23+J26+J29+J32+J35+J38+J41+J44 -> 0 | K47: =K8+K11+K14+K17+K20+K23+K26+K29+K32+K35+K38+K41+K44 -> 0 | U47: =K47+N47+P47+Q47+R47+S47+T47 -> 0

Sheet 30303
B1: کاربرگ اطلاعات درآمد 1393
B2: نام واحد
B3: برنامه:30303000
B4: دوره | C4: درامد | D4: بیمه ای | L4: کارت بهداشت | M4: سایر درآمد ها | N4: کنترل نسخ دریافتی ارسال نشده | O4: درامد نقدی (صندوق) | P4: بدهکاران اشخاص (بیماران تسویه نشده) | Q4: نیازمندان | R4: ترافیکی | S4: منازل سازمانی | T4: سایر قراردادها ودرامدها | U4: جمع کل درآمد
D5: تامین اجتماعی | E5: خدمات درمانی | F5: کمیته امداد | G5: نیروهای مسلح | H5: بیمه ذغال سنگ | I5: بیمه فولاد | J5: سایر بیمه ها | K5: جمع کل درامد بیمه ای
B6: فروردين | C6: ارسالی | D6: =فروردین!C12 -> 0 | E6: =فروردین!D12 -> 0 | F6: =فروردین!E12 -> 0 | G6: =فروردین!F12 -> 0 | H6: =فروردین!G12 -> 0 | I6: =فروردین!H12 -> 0 | J6: =فروردین!I12 -> 0 | K6: =D6+E6+F6+G6+H6+I6+J6 -> 0 | L6: =فروردین!K12 -> 0 | M6: =فروردین!L12 -> 0 | N6: =فروردین!M12 -> 0 | O6: =فروردین!N12 -> 0 | P6: =فروردین!O12 -> 0 | Q6: =فروردین!P12 -> 0 | R6: =فروردین!Q12 -> 0 | S6: =فروردین!R12 -> 0 | T6: =فروردین!S12 -> 0 | U6: =SUM(K6:T8)-N6-K7-K8 -> 0
C7: وصولی | D7: =فروردین!C13 -> 0 | E7: =فروردین!D13 -> 0 | F7: =فروردین!E13 -> 0 | G7: =فروردین!F13 -> 0 | H7: =فروردین!G13 -> 0 | I7: =فروردین!H13 -> 0 | J7: =فروردین!I13 -> 0 | K7: =D7+E7+F7+G7+H7+I7+J7 -> 0 | U7: =K7+N7+P7+Q7+R7+S7+T7 -> 0
C8: کسورات | D8: =فروردین!C14 -> 0 | E8: =فروردین!D14 -> 0 | F8: =فروردین!E14 -> 0 | G8: =فروردین!F14 -> 0 | H8: =فروردین!G14 -> 0 | I8: =فروردین!H14 -> 0 | J8: =فروردین!I14 -> 0 | K8: =D8+E8+F8+G8+H8+I8+J8 -> 0 | U8: =K8+N8+P8+Q8+R8+S8+T8 -> 0
B9: ارديبهشت | C9: ارسالی | D9: =اردیبهشت!C12 -> 0 | E9: =اردیبهشت!D12 -> 0 | F9: =اردیبهشت!E12 -> 0 | G9: =اردیبهشت!F12 -> 0 | H9: =اردیبهشت!G12 -> 0 | I9: =اردیبهشت!H12 -> 0 | J9: =اردیبهشت!I12 -> 0 | K9: =D9+E9+F9+G9+H9+I9+J9 -> 0 | L9: =اردیبهشت!K12 -> 0 | M9: =اردیبهشت!L12 -> 0 | N9: =اردیبهشت!M12 -> 0 | O9: =اردیبهشت!N12 -> 0 | P9: =اردیبهشت!O12 -> 0 | Q9: =اردیبهشت!P12 -> 0 | R9: =اردیبهشت!Q12 -> 0 | S9: =اردیبهشت!R12 -> 0 | T9: =اردیبهشت!S12 -> 0 | U9: =SUM(K9:T11)-N9 -> 0
C10: وصولی | D10: =اردیبهشت!C13 -> 0 | E10: =اردیبهشت!D13 -> 0 | F10: =اردیبهشت!E13 -> 0 | G10: =اردیبهشت!F13 -> 0 | H10: =اردیبهشت!G13 -> 0 | I10: =اردیبهشت!H13 -> 0 | J10: =اردیبهشت!I13 -> 0 | K10: =D10+E10+F10+G10+H10+I10+J10 -> 0 | U10: =K10+N10+P10+Q10+R10+S10+T10 -> 0
C11: کسورات | D11: =اردیبهشت!C14 -> 0 | E11: =اردیبهشت!D14 -> 0 | F11: =اردیبهشت!E14 -> 0 | G11: =اردیبهشت!F14 -> 0 | H11: =اردیبهشت!G14 -> 0 | I11: =اردیبهشت!H14 -> 0 | J11: =اردیبهشت!I14 -> 0 | K11: =D11+E11+F11+G11+H11+I11+J11 -> 0 | U11: =K11+N11+P11+Q11+R11+S11+T11 -> 0
B12: خرداد | C12: ارسالی | D12: =خرداد!C12 -> 0 | E12: =خرداد!D12 -> 0 | F12: =خرداد!E12 -> 0 | G12: =خرداد!F12 -> 0 | H12: =خرداد!G12 -> 0 | I12: =خرداد!H12 -> 0 | J12: =خرداد!I12 -> 0 | K12: =D12+E12+F12+G12+H12+I12+J12 -> 0 | L12: =خرداد!K12 -> 0 | M12: =خرداد!L12 -> 0 | N12: =خرداد!M12 -> 0 | O12: =خرداد!N12 -> 0 | P12: =خرداد!O12 -> 0 | Q12: =خرداد!P12 -> 0 | R12: =خرداد!Q12 -> 0 | S12: =خرداد!R12 -> 0 | T12: =خرداد!S12 -> 0 | U12: =SUM(K12:T14)-N12 -> 0
C13: وصولی | D13: =خرداد!C13 -> 0 | E13: =خرداد!D13 -> 0 | F13: =خرداد!E13 -> 0 | G13: =خرداد!F13 -> 0 | H13: =خرداد!G13 -> 0 | I13: =خرداد!H13 -> 0 | J13: =خرداد!I13 -> 0 | K13: =D13+E13+F13+G13+H13+I13+J13 -> 0 | U13: =K13+N13+P13+Q13+R13+S13+T13 -> 0
C14: کسورات | D14: =خرداد!C14 -> 0 | E14: =خرداد!D14 -> 0 | F14: =خرداد!E14 -> 0 | G14: =خرداد!F14 -> 0 | H14: =خرداد!G14 -> 0 | I14: =خرداد!H14 -> 0 | J14: =خرداد!I14 -> 0 | K14: =D14+E14+F14+G14+H14+I14+J14 -> 0 | U14: =K14+N14+P14+Q14+R14+S14+T14 -> 0
B15: تير | C15: ارسالی | D15: =تیر!C12 -> 0 | E15: =تیر!D12 -> 0 | F15: =تیر!E12 -> 0 | G15: =تیر!F12 -> 0 | H15: =تیر!G12 -> 0 | I15: =تیر!H12 -> 0 | J15: =تیر!I12 -> 0 | K15: =D15+E15+F15+G15+H15+I15+J15 -> 0 | L15: =تیر!K12 -> 0 | M15: =تیر!L12 -> 0 | N15: =تیر!M12 -> 0 | O15: =تیر!N12 -> 0 | P15: =تیر!O12 -> 0 | Q15: =تیر!P12 -> 0 | R15: =تیر!Q12 -> 0 | S15: =تیر!R12 -> 0 | T15: =تیر!S12 -> 0 | U15: =SUM(K15:T17)-N15 -> 0
C16: وصولی | D16: =تیر!C13 -> 0 | E16: =تیر!D13 -> 0 | F16: =تیر!E13 -> 0 | G16: =تیر!F13 -> 0 | H16: =تیر!G13 -> 0 | I16: =تیر!H13 -> 0 | J16: =تیر!I13 -> 0 | K16: =D16+E16+F16+G16+H16+I16+J16 -> 0 | U16: =K16+N16+P16+Q16+R16+S16+T16 -> 0
C17: کسورات | D17: =تیر!C14 -> 0 | E17: =تیر!D14 -> 0 | F17: =تیر!E14 -> 0 | G17: =تیر!F14 -> 0 | H17: =تیر!G14 -> 0 | I17: =تیر!H14 -> 0 | J17: =تیر!I14 -> 0 | K17: =D17+E17+F17+G17+H17+I17+J17 -> 0 | U17: =K17+N17+P17+Q17+R17+S17+T17 -> 0
B18: مرداد | C18: ارسالی | D18: =مرداد!C12 -> 0 | E18: =مرداد!D12 -> 0 | F18: =مرداد!E12 -> 0 | G18: =مرداد!F12 -> 0 | H18: =مرداد!G12 -> 0 | I18: =مرداد!H12 -> 0 | J18: =مرداد!I12 -> 0 | K18: =D18+E18+F18+G18+H18+I18+J18 -> 0 | L18: =مرداد!K12 -> 0 | M18: =مرداد!L12 -> 0 | N18: =مرداد!M12 -> 0 | O18: =مرداد!N12 -> 0 | P18: =مرداد!O12 -> 0 | Q18: =مرداد!P12 -> 0 | R18: =مرداد!Q12 -> 0 | S18: =مرداد!R12 -> 0 | T18: =مرداد!S12 -> 0 | U18: =SUM(K18:T20)-N18 -> 0
C19: وصولی | D19: =مرداد!C13 -> 0 | E19: =مرداد!D13 -> 0 | F19: =مرداد!E13 -> 0 | G19: =مرداد!F13 -> 0 | H19: =مرداد!G13 -> 0 | I19: =مرداد!H13 -> 0 | J19: =مرداد!I13 -> 0 | K19: =D19+E19+F19+G19+H19+I19+J19 -> 0 | U19: =K19+N19+P19+Q19+R19+S19+T19 -> 0
C20: کسورات | D20: =مرداد!C14 -> 0 | E20: =مرداد!D14 -> 0 | F20: =مرداد!E14 -> 0 | G20: =مرداد!F14 -> 0 | H20: =مرداد!G14 -> 0 | I20: =مرداد!H14 -> 0 | J20: =مرداد!I14 -> 0 | K20: =D20+E20+F20+G20+H20+I20+J20 -> 0 | U20: =K20+N20+P20+Q20+R20+S20+T20 -> 0
B21: تغییر تعرفه | C21: ارسالی | D21: ='تغییر تعرفه'!C12 -> 0 | E21: ='تغییر تعرفه'!D12 -> 0 | F21: ='تغییر تعرفه'!E12 -> 0 | G21: ='تغییر تعرفه'!F12 -> 0 | H21: ='تغییر تعرفه'!G12 -> 0 | I21: ='تغییر تعرفه'!H12 -> 0 | J21: ='تغییر تعرفه'!I12 -> 0 | K21: =D21+E21+F21+G21+H21+I21+J21 -> 0 | L21: ='تغییر تعرفه'!K12 -> 0 | M21: ='تغییر تعرفه'!L12 -> 0 | N21: ='تغییر تعرفه'!M12 -> 0 | O21: ='تغییر تعرفه'!N12 -> 0 | P21: ='تغییر تعرفه'!O12 -> 0 | Q21: ='تغییر تعرفه'!P12 -> 0 | R21: ='تغییر تعرفه'!Q12 -> 0 | S21: ='تغییر تعرفه'!R12 -> 0 | T21: ='تغییر تعرفه'!S12 -> 0 | U21: =SUM(K21:T23)-N21 -> 0
C22: وصولی | D22: ='تغییر تعرفه'!C13 -> 0 | E22: ='تغییر تعرفه'!D13 -> 0 | F22: ='تغییر تعرفه'!E13 -> 0 | G22: ='تغییر تعرفه'!F13 -> 0 | H22: ='تغییر تعرفه'!G13 -> 0 | I22: ='تغییر تعرفه'!H13 -> 0 | J22: ='تغییر تعرفه'!I13 -> 0 | K22: =D22+E22+F22+G22+H22+I22+J22 -> 0 | U22: =K22+N22+P22+Q22+R22+S22+T22 -> 0
C23: کسورات | D23: ='تغییر تعرفه'!C14 -> 0 | E23: ='تغییر تعرفه'!D14 -> 0 | F23: ='تغییر تعرفه'!E14 -> 0 | G23: ='تغییر تعرفه'!F14 -> 0 | H23: ='تغییر تعرفه'!G14 -> 0 | I23: ='تغییر تعرفه'!H14 -> 0 | J23: ='تغییر تعرفه'!I14 -> 0 | K23: =D23+E23+F23+G23+H23+I23+J23 -> 0 | U23: =K23+N23+P23+Q23+R23+S23+T23 -> 0
B24: شهريور | C24: ارسالی | D24: =شهریور!C12 -> 0 | E24: =شهریور!D12 -> 0 | F24: =شهریور!E12 -> 0 | G24: =شهریور!F12 -> 0 | H24: =شهریور!G12 -> 0 | I24: =شهریور!H12 -> 0 | J24: =شهریور!I12 -> 0 | K24: =D24+E24+F24+G24+H24+I24+J24 -> 0 | L24: =شهریور!K12 -> 0 | M24: =شهریور!L12 -> 0 | N24: =شهریور!M12 -> 0 | O24: =شهریور!N12 -> 0 | P24: =شهریور!O12 -> 0 | Q24: =شهریور!P12 -> 0 | R24: =شهریور!Q12 -> 0 | S24: =شهریور!R12 -> 0 | T24: =شهریور!S12 -> 0 | U24: =SUM(K24:T26)-N24 -> 0
C25: وصولی | D25: =شهریور!C13 -> 0 | E25: =شهریور!D13 -> 0 | F25: =شهریور!E13 -> 0 | G25: =شهریور!F13 -> 0 | H25: =شهریور!G13 -> 0 | I25: =شهریور!H13 -> 0 | J25: =شهریور!I13 -> 0 | K25: =D25+E25+F25+G25+H25+I25+J25 -> 0 | U25: =K25+N25+P25+Q25+R25+S25+T25 -> 0
C26: کسورات | D26: =شهریور!C14 -> 0 | E26: =شهریور!D14 -> 0 | F26: =شهریور!E14 -> 0 | G26: =شهریور!F14 -> 0 | H26: =شهریور!G14 -> 0 | I26: =شهریور!H14 -> 0 | J26: =شهریور!I14 -> 0 | K26: =D26+E26+F26+G26+H26+I26+J26 -> 0 | U26: =K26+N26+P26+Q26+R26+S26+T26 -> 0
B27: مهر | C27: ارسالی | D27: =مهر!C12 -> 0 | E27: =مهر!D12 -> 0 | F27: =مهر!E12 -> 0 | G27: =مهر!F12 -> 0 | H27: =مهر!G12 -> 0 | I27: =مهر!H12 -> 0 | J27: =مهر!I12 -> 0 | K27: =D27+E27+F27+G27+H27+I27+J27 -> 0 | L27: =مهر!K12 -> 0 | M27: =مهر!L12 -> 0 | N27: =مهر!M12 -> 0 | O27: =مهر!N12 -> 0 | P27: =مهر!O12 -> 0 | Q27: =مهر!P12 -> 0 | R27: =مهر!Q12 -> 0 | S27: =مهر!R12 -> 0 | T27: =مهر!S12 -> 0 | U27: =SUM(K27:T29)-N27 -> 0
C28: وصولی | D28: =مهر!C13 -> 0 | E28: =مهر!D13 -> 0 | F28: =مهر!E13 -> 0 | G28: =مهر!F13 -> 0 | H28: =مهر!G13 -> 0 | I28: =مهر!H13 -> 0 | J28: =مهر!I13 -> 0 | K28: =D28+E28+F28+G28+H28+I28+J28 -> 0 | U28: =K28+N28+P28+Q28+R28+S28+T28 -> 0
C29: کسورات | D29: =مهر!C14 -> 0 | E29: =مهر!D14 -> 0 | F29: =مهر!E14 -> 0 | G29: =مهر!F14 -> 0 | H29: =مهر!G14 -> 0 | I29: =مهر!H14 -> 0 | J29: =مهر!I14 -> 0 | K29: =D29+E29+F29+G29+H29+I29+J29 -> 0 | U29: =K29+N29+P29+Q29+R29+S29+T29 -> 0
B30: آبان | C30: ارسالی | D30: =آبان!C12 -> 0 | E30: =آبان!D12 -> 0 | F30: =آبان!E12 -> 0 | G30: =آبان!F12 -> 0 | H30: =آبان!G12 -> 0 | I30: =آبان!H12 -> 0 | J30: =آبان!I12 -> 0 | K30: =D30+E30+F30+G30+H30+I30+J30 -> 0 | L30: =آبان!K12 -> 0 | M30: =آبان!L12 -> 0 | N30: =آبان!M12 -> 0 | O30: =آبان!N12 -> 0 | P30: =آبان!O12 -> 0 | Q30: =آبان!P12 -> 0 | R30: =آبان!Q12 -> 0 | S30: =آبان!R12 -> 0 | T30: =آبان!S12 -> 0 | U30: =SUM(K30:T32)-N30 -> 0
C31: وصولی | D31: =آبان!C13 -> 0 | E31: =آبان!D13 -> 0 | F31: =آبان!E13 -> 0 | G31: =آبان!F13 -> 0 | H31: =آبان!G13 -> 0 | I31: =آبان!H13 -> 0 | J31: =آبان!I13 -> 0 | K31: =D31+E31+F31+G31+H31+I31+J31 -> 0 | U31: =K31+N31+P31+Q31+R31+S31+T31 -> 0
C32: کسورات | D32: =آبان!C14 -> 0 | E32: =آبان!D14 -> 0 | F32: =آبان!E14 -> 0 | G32: =آبان!F14 -> 0 | H32: =آبان!G14 -> 0 | I32: =آبان!H14 -> 0 | J32: =آبان!I14 -> 0 | K32: =D32+E32+F32+G32+H32+I32+J32 -> 0 | U32: =K32+N32+P32+Q32+R32+S32+T32 -> 0
B33: آذر | C33: ارسالی | D33: =آذر!C12 -> 0 | E33: =آذر!D12 -> 0 | F33: =آذر!E12 -> 0 | G33: =آذر!F12 -> 0 | H33: =آذر!G12 -> 0 | I33: =آذر!H12 -> 0 | J33: =آذر!I12 -> 0 | K33: =D33+E33+F33+G33+H33+I33+J33 -> 0 | L33: =آذر!K12 -> 0 | M33: =آذر!L12 -> 0 | N33: =آذر!M12 -> 0 | O33: =آذر!N12 -> 0 | P33: =آذر!O12 -> 0 | Q33: =آذر!P12 -> 0 | R33: =آذر!Q12 -> 0 | S33: =آذر!R12 -> 0 | T33: =آذر!S12 -> 0 | U33: =SUM(K33:T35)-N33 -> 0
C34: وصولی | D34: =آذر!C13 -> 0 | E34: =آذر!D13 -> 0 | F34: =آذر!E13 -> 0 | G34: =آذر!F13 -> 0 | H34: =آذر!G13 -> 0 | I34: =آذر!H13 -> 0 | J34: =آذر!I13 -> 0 | K34: =D34+E34+F34+G34+H34+I34+J34 -> 0 | U34: =K34+N34+P34+Q34+R34+S34+T34 -> 0
C35: کسورات | D35: =آذر!C14 -> 0 | E35: =آذر!D14 -> 0 | F35: =آذر!E14 -> 0 | G35: =آذر!F14 -> 0 | H35: =آذر!G14 -> 0 | I35: =آذر!H14 -> 0 | J35: =آذر!I14 -> 0 | K35: =D35+E35+F35+G35+H35+I35+J35 -> 0 | U35: =K35+N35+P35+Q35+R35+S35+T35 -> 0
B36: دي | C36: ارسالی | D36: =دی!C12 -> 0 | E36: =دی!D12 -> 0 | F36: =دی!E12 -> 0 | G36: =دی!F12 -> 0 | H36: =دی!G12 -> 0 | I36: =دی!H12 -> 0 | J36: =دی!I12 -> 0 | K36: =D36+E36+F36+G36+H36+I36+J36 -> 0 | L36: =دی!K12 -> 0 | M36: =دی!L12 -> 0 | N36: =دی!M12 -> 0 | O36: =دی!N12 -> 0 | P36: =دی!O12 -> 0 | Q36: =دی!P12 -> 0 | R36: =دی!Q12 -> 0 | S36: =دی!R12 -> 0 | T36: =دی!S12 -> 0 | U36: =SUM(K36:T38)-N36 -> 0
C37: وصولی | D37: =دی!C13 -> 0 | E37: =دی!D13 -> 0 | F37: =دی!E13 -> 0 | G37: =دی!F13 -> 0 | H37: =دی!G13 -> 0 | I37: =دی!H13 -> 0 | J37: =دی!I13 -> 0 | K37: =D37+E37+F37+G37+H37+I37+J37 -> 0 | U37: =K37+N37+P37+Q37+R37+S37+T37 -> 0
C38: کسورات | D38: =دی!C14 -> 0 | E38: =دی!D14 -> 0 | F38: =دی!E14 -> 0 | G38: =دی!F14 -> 0 | H38: =دی!G14 -> 0 | I38: =دی!H14 -> 0 | J38: =دی!I14 -> 0 | K38: =D38+E38+F38+G38+H38+I38+J38 -> 0 | U38: =K38+N38+P38+Q38+R38+S38+T38 -> 0
B39: بهمن | C39: ارسالی | D39: =بهمن!C12 -> 0 | E39: =بهمن!D12 -> 0 | F39: =بهمن!E12 -> 0 | G39: =بهمن!F12 -> 0 | H39: =بهمن!G12 -> 0 | I39: =بهمن!H12 -> 0 | J39: =بهمن!I12 -> 0 | K39: =D39+E39+F39+G39+H39+I39+J39 -> 0 | L39: =بهمن!K12 -> 0 | M39: =بهمن!L12 -> 0 | N39: =بهمن!M12 -> 0 | O39: =بهمن!N12 -> 0 | P39: =بهمن!O12 -> 0 | Q39: =بهمن!P12 -> 0 | R39: =بهمن!Q12 -> 0 | S39: =بهمن!R12 -> 0 | T39: =بهمن!S12 -> 0 | U39: =SUM(K39:T41)-N39 -> 0
C40: وصولی | D40: =بهمن!C13 -> 0 | E40: =بهمن!D13 -> 0 | F40: =بهمن!E13 -> 0 | G40: =بهمن!F13 -> 0 | H40: =بهمن!G13 -> 0 | I40: =بهمن!H13 -> 0 | J40: =بهمن!I13 -> 0 | K40: =D40+E40+F40+G40+H40+I40+J40 -> 0 | U40: =K40+N40+P40+Q40+R40+S40+T40 -> 0
C41: کسورات | D41: =بهمن!C14 -> 0 | E41: =بهمن!D14 -> 0 | F41: =بهمن!E14 -> 0 | G41: =بهمن!F14 -> 0 | H41: =بهمن!G14 -> 0 | I41: =بهمن!H14 -> 0 | J41: =بهمن!I14 -> 0 | K41: =D41+E41+F41+G41+H41+I41+J41 -> 0 | U41: =K41+N41+P41+Q41+R41+S41+T41 -> 0
B42: اسفند | C42: ارسالی | D42: =اسفند!C12 -> 0 | E42: =اسفند!D12 -> 0 | F42: =اسفند!E12 -> 0 | G42: =اسفند!F12 -> 0 | H42: =اسفند!G12 -> 0 | I42: =اسفند!H12 -> 0 | J42: =اسفند!I12 -> 0 | K42: =D42+E42+F42+G42+H42+I42+J42 -> 0 | L42: =اسفند!K12 -> 0 | M42: =اسفند!L12 -> 0 | N42: =اسفند!M12 -> 0 | O42: =اسفند!N12 -> 0 | P42: =اسفند!O12 -> 0 | Q42: =اسفند!P12 -> 0 | R42: =اسفند!Q12 -> 0 | S42: =اسفند!R12 -> 0 | T42: =اسفند!S12 -> 0 | U42: =SUM(K42:T44)-N42 -> 0
C43: وصولی | D43: =اسفند!C13 -> 0 | E43: =اسفند!D13 -> 0 | F43: =اسفند!E13 -> 0 | G43: =اسفند!F13 -> 0 | H43: =اسفند!G13 -> 0 | I43: =اسفند!H13 -> 0 | J43: =اسفند!I13 -> 0 | K43: =D43+E43+F43+G43+H43+I43+J43 -> 0 | U43: =K43+N43+P43+Q43+R43+S43+T43 -> 0
C44: کسورات | D44: =اسفند!C14 -> 0 | E44: =اسفند!D14 -> 0 | F44: =اسفند!E14 -> 0 | G44: =اسفند!F14 -> 0 | H44: =اسفند!G14 -> 0 | I44: =اسفند!H14 -> 0 | J44: =اسفند!I14 -> 0 | K44: =D44+E44+F44+G44+H44+I44+J44 -> 0 | U44: =K44+N44+P44+Q44+R44+S44+T44 -> 0
B45: جمع کل | C45: ارسالی | D45: =D6+D9+D12+D15+D18+D21+D24+D27+D30+D33+D36+D39+D42 -> 0 | E45: =E6+E9+E12+E15+E18+E21+E24+E27+E30+E33+E36+E39+E42 -> 0 | F45: =F6+F9+F12+F15+F18+F21+F24+F27+F30+F33+F36+F39+F42 -> 0 | G45: =G6+G9+G12+G15+G18+G21+G24+G27+G30+G33+G36+G39+G42 -> 0 | H45: =H6+H9+H12+H15+H18+H21+H24+H27+H30+H33+H36+H39+H42 -> 0 | I45: =I6+I9+I12+I15+I18+I21+I24+I27+I30+I33+I36+I39+I42 -> 0 | J45: =J6+J9+J12+J15+J18+J21+J24+J27+J30+J33+J36+J39+J42 -> 0 | K45: =K6+K9+K12+K15+K18+K21+K24+K27+K30+K33+K36+K39+K42 -> 0 | L45: =SUM(L6:L44) -> 0 | M45: =SUM(M6:M44) -> 0 | N45: =SUM(N6:N44) -> 0 | O45: =SUM(O6:O44) -> 0 | P45: =SUM(P6:P44) -> 0 | Q45: =SUM(Q6:Q44) -> 0 | R45: =SUM(R6:R44) -> 0 | S45: =SUM(S6:S44) -> 0 | T45: =SUM(T6:T44) -> 0 | U45: =SUM(K45:T47)-N45 -> 0
C46: وصولی | D46: =D7+D10+D13+D16+D19+D22+D25+D28+D31+D34+D37+D40+D43 -> 0 | E46: =E7+E10+E13+E16+E19+E22+E25+E28+E31+E34+E37+E40+E43 -> 0 | F46: =F7+F10+F13+F16+F19+F22+F25+F28+F31+F34+F37+F40+F43 -> 0 | G46: =G7+G10+G13+G16+G19+G22+G25+G28+G31+G34+G37+G40+G43 -> 0 | H46: =H7+H10+H13+H16+H19+H22+H25+H28+H31+H34+H37+H40+H43 -> 0 | I46: =I7+I10+I13+I16+I19+I22+I25+I28+I31+I34+I37+I40+I43 -> 0 | J46: =J7+J10+J13+J16+J19+J22+J25+J28+J31+J34+J37+J40+J43 -> 0 | K46: =K7+K10+K13+K16+K19+K22+K25+K28+K31+K34+K37+K40+K43 -> 0 | U46: =K46+N46+P46+Q46+R46+S46+T46 -> 0
C47: کسورات | D47: =D8+D11+D14+D17+D20+D23+D26+D29+D32+D35+D38+D41+D44 -> 0 | E47: =E8+E11+E14+E17+E20+E23+E26+E29+E32+E35+E38+E41+E44 -> 0 | F47: =F8+F11+F14+F17+F20+F23+F26+F29+F32+F35+F38+F41+F44 -> 0 | G47: =G8+G11+G14+G17+G20+G23+G26+G29+G32+G35+G38+G41+G44 -> 0 | H47: =H8+H11+H14+H17+H20+H23+H26+H29+H32+H35+H38+H41+H44 -> 0 | I47: =I8+I11+I14+I17+I20+I23+I26+I29+I32+I35+I38+I41+I44 -> 0 | J47: =J8+J11+J14+J17+J20+J23+J26+J29+J32+J35+J38+J41+J44 -> 0 | K47: =K8+K11+K14+K17+K20+K23+K26+K29+K32+K35+K38+K41+K44 -> 0 | U47: =K47+N47+P47+Q47+R47+S47+T47 -> 0

Sheet 30301
B1: کاربرگ اطلاعات درآمد 1393
B2: نام واحد
B3: برنامه:30301000
B4: دوره | C4: درامد | D4: بیمه ای | L4: کارت بهداشت | M4: سایر درآمد ها | N4: کنترل نسخ دریافتی ارسال نشده | O4: درامد نقدی (صندوق) | P4: بدهکاران اشخاص (بیماران تسویه نشده) | Q4: نیازمندان | R4: ترافیکی | S4: منازل سازمانی | T4: سایر قراردادها ودرامدها | U4: جمع کل درآمد
D5: تامین اجتماعی | E5: خدمات درمانی | F5: کمیته امداد | G5: نیروهای مسلح | H5: بیمه ذغال سنگ | I5: بیمه فولاد | J5: سایر بیمه ها | K5: جمع کل درامد بیمه ای
B6: فروردين | C6: ارسالی | D6: =فروردین!C15 -> 0 | E6: =فروردین!D15 -> 0 | F6: =فروردین!E15 -> 0 | G6: =فروردین!F15 -> 0 | H6: =فروردین!G15 -> 0 | I6: =فروردین!H15 -> 0 | J6: =فروردین!I15 -> 0 | K6: =D6+E6+F6+G6+H6+I6+J6 -> 0 | L6: =فروردین!K15 -> 0 | M6: =فروردین!L15 -> 0 | N6: =فروردین!M15 -> 0 | O6: =فروردین!N15 -> 0 | P6: =فروردین!O15 -> 0 | Q6: =فروردین!P15 -> 0 | R6: =فروردین!Q15 -> 0 | S6: =فروردین!R15 -> 0 | T6: =فروردین!S15 -> 0 | U6: =SUM(K6:T8)-N6-K7-K8 -> 0
C7: وصولی | D7: =فروردین!C16 -> 0 | E7: =فروردین!D16 -> 0 | F7: =فروردین!E16 -> 0 | G7: =فروردین!F16 -> 0 | H7: =فروردین!G16 -> 0 | I7: =فروردین!H16 -> 0 | J7: =فروردین!I16 -> 0 | K7: =D7+E7+F7+G7+H7+I7+J7 -> 0 | U7: =K7+N7+P7+Q7+R7+S7+T7 -> 0
C8: کسورات | D8: =فروردین!C17 -> 0 | E8: =فروردین!D17 -> 0 | F8: =فروردین!E17 -> 0 | G8: =فروردین!F17 -> 0 | H8: =فروردین!G17 -> 0 | I8: =فروردین!H17 -> 0 | J8: =فروردین!I17 -> 0 | K8: =D8+E8+F8+G8+H8+I8+J8 -> 0 | U8: =K8+N8+P8+Q8+R8+S8+T8 -> 0
B9: ارديبهشت | C9: ارسالی | D9: =اردیبهشت!C15 -> 0 | E9: =اردیبهشت!D15 -> 0 | F9: =اردیبهشت!E15 -> 0 | G9: =اردیبهشت!F15 -> 0 | H9: =اردیبهشت!G15 -> 0 | I9: =اردیبهشت!H15 -> 0 | J9: =اردیبهشت!I15 -> 0 | K9: =D9+E9+F9+G9+H9+I9+J9 -> 0 | L9: =اردیبهشت!K15 -> 0 | M9: =اردیبهشت!L15 -> 0 | N9: =اردیبهشت!M15 -> 0 | O9: =اردیبهشت!N15 -> 0 | P9: =اردیبهشت!O15 -> 0 | Q9: =اردیبهشت!P15 -> 0 | R9: =اردیبهشت!Q15 -> 0 | S9: =اردیبهشت!R15 -> 0 | T9: =اردیبهشت!S15 -> 0 | U9: =SUM(K9:T11)-N9 -> 0
C10: وصولی | D10: =اردیبهشت!C16 -> 0 | E10: =اردیبهشت!D16 -> 0 | F10: =اردیبهشت!E16 -> 0 | G10: =اردیبهشت!F16 -> 0 | H10: =اردیبهشت!G16 -> 0 | I10: =اردیبهشت!H16 -> 0 | J10: =اردیبهشت!I16 -> 0 | K10: =D10+E10+F10+G10+H10+I10+J10 -> 0 | U10: =K10+N10+P10+Q10+R10+S10+T10 -> 0
C11: کسورات | D11: =اردیبهشت!C17 -> 0 | E11: =اردیبهشت!D17 -> 0 | F11: =اردیبهشت!E17 -> 0 | G11: =اردیبهشت!F17 -> 0 | H11: =اردیبهشت!G17 -> 0 | I11: =اردیبهشت!H17 -> 0 | J11: =اردیبهشت!I17 -> 0 | K11: =D11+E11+F11+G11+H11+I11+J11 -> 0 | U11: =K11+N11+P11+Q11+R11+S11+T11 -> 0
B12: خرداد | C12: ارسالی | D12: =خرداد!C15 -> 0 | E12: =خرداد!D15 -> 0 | F12: =خرداد!E15 -> 0 | G12: =خرداد!F15 -> 0 | H12: =خرداد!G15 -> 0 | I12: =خرداد!H15 -> 0 | J12: =خرداد!I15 -> 0 | K12: =D12+E12+F12+G12+H12+I12+J12 -> 0 | L12: =خرداد!K15 -> 0 | M12: =خرداد!L15 -> 0 | N12: =خرداد!M15 -> 0 | O12: =خرداد!N15 -> 0 | P12: =خرداد!O15 -> 0 | Q12: =خرداد!P15 -> 0 | R12: =خرداد!Q15 -> 0 | S12: =خرداد!R15 -> 0 | T12: =خرداد!S15 -> 0 | U12: =SUM(K12:T14)-N12 -> 0
C13: وصولی | D13: =خرداد!C16 -> 0 | E13: =خرداد!D16 -> 0 | F13: =خرداد!E16 -> 0 | G13: =خرداد!F16 -> 0 | H13: =خرداد!G16 -> 0 | I13: =خرداد!H16 -> 0 | J13: =خرداد!I16 -> 0 | K13: =D13+E13+F13+G13+H13+I13+J13 -> 0 | U13: =K13+N13+P13+Q13+R13+S13+T13 -> 0
C14: کسورات | D14: =خرداد!C17 -> 0 | E14: =خرداد!D17 -> 0 | F14: =خرداد!E17 -> 0 | G14: =خرداد!F17 -> 0 | H14: =خرداد!G17 -> 0 | I14: =خرداد!H17 -> 0 | J14: =خرداد!I17 -> 0 | K14: =D14+E14+F14+G14+H14+I14+J14 -> 0 | U14: =K14+N14+P14+Q14+R14+S14+T14 -> 0
B15: تير | C15: ارسالی | D15: =تیر!C15 -> 0 | E15: =تیر!D15 -> 0 | F15: =تیر!E15 -> 0 | G15: =تیر!F15 -> 0 | H15: =تیر!G15 -> 0 | I15: =تیر!H15 -> 0 | J15: =تیر!I15 -> 0 | K15: =D15+E15+F15+G15+H15+I15+J15 -> 0 | L15: =تیر!K15 -> 0 | M15: =تیر!L15 -> 0 | N15: =تیر!M15 -> 0 | O15: =تیر!N15 -> 0 | P15: =تیر!O15 -> 0 | Q15: =تیر!P15 -> 0 | R15: =تیر!Q15 -> 0 | S15: =تیر!R15 -> 0 | T15: =تیر!S15 -> 0 | U15: =SUM(K15:T17)-N15 -> 0
C16: وصولی | D16: =تیر!C16 -> 0 | E16: =تیر!D16 -> 0 | F16: =تیر!E16 -> 0 | G16: =تیر!F16 -> 0 | H16: =تیر!G16 -> 0 | I16: =تیر!H16 -> 0 | J16: =تیر!I16 -> 0 | K16: =D16+E16+F16+G16+H16+I16+J16 -> 0 | U16: =K16+N16+P16+Q16+R16+S16+T16 -> 0
C17: کسورات | D17: =تیر!C17 -> 0 | E17: =تیر!D17 -> 0 | F17: =تیر!E17 -> 0 | G17: =تیر!F17 -> 0 | H17: =تیر!G17 -> 0 | I17: =تیر!H17 -> 0 | J17: =تیر!I17 -> 0 | K17: =D17+E17+F17+G17+H17+I17+J17 -> 0 | U17: =K17+N17+P17+Q17+R17+S17+T17 -> 0
B18: مرداد | C18: ارسالی | D18: =مرداد!C15 -> 0 | E18: =مرداد!D15 -> 0 | F18: =مرداد!E15 -> 0 | G18: =مرداد!F15 -> 0 | H18: =مرداد!G15 -> 0 | I18: =مرداد!H15 -> 0 | J18: =مرداد!I15 -> 0 | K18: =D18+E18+F18+G18+H18+I18+J18 -> 0 | L18: =مرداد!K15 -> 0 | M18: =مرداد!L15 -> 0 | N18: =مرداد!M15 -> 0 | O18: =مرداد!N15 -> 0 | P18: =مرداد!O15 -> 0 | Q18: =مرداد!P15 -> 0 | R18: =مرداد!Q15 -> 0 | S18: =مرداد!R15 -> 0 | T18: =مرداد!S15 -> 0 | U18: =SUM(K18:T20)-N18 -> 0
C19: وصولی | D19: =مرداد!C16 -> 0 | E19: =مرداد!D16 -> 0 | F19: =مرداد!E16 -> 0 | G19: =مرداد!F16 -> 0 | H19: =مرداد!G16 -> 0 | I19: =مرداد!H16 -> 0 | J19: =مرداد!I16 -> 0 | K19: =D19+E19+F19+G19+H19+I19+J19 -> 0 | U19: =K19+N19+P19+Q19+R19+S19+T19 -> 0
C20: کسورات | D20: =مرداد!C17 -> 0 | E20: =مرداد!D17 -> 0 | F20: =مرداد!E17 -> 0 | G20: =مرداد!F17 -> 0 | H20: =مرداد!G17 -> 0 | I20: =مرداد!H17 -> 0 | J20: =مرداد!I17 -> 0 | K20: =D20+E20+F20+G20+H20+I20+J20 -> 0 | U20: =K20+N20+P20+Q20+R20+S20+T20 -> 0
B21: تغییر تعرفه | C21: ارسالی | D21: ='تغییر تعرفه'!C15 -> 0 | E21: ='تغییر تعرفه'!D15 -> 0 | F21: ='تغییر تعرفه'!E15 -> 0 | G21: ='تغییر تعرفه'!F15 -> 0 | H21: ='تغییر تعرفه'!G15 -> 0 | I21: ='تغییر تعرفه'!H15 -> 0 | J21: ='تغییر تعرفه'!I15 -> 0 | K21: =D21+E21+F21+G21+H21+I21+J21 -> 0 | L21: ='تغییر تعرفه'!K15 -> 0 | M21: ='تغییر تعرفه'!L15 -> 0 | N21: ='تغییر تعرفه'!M15 -> 0 | O21: ='تغییر تعرفه'!N15 -> 0 | P21: ='تغییر تعرفه'!O15 -> 0 | Q21: ='تغییر تعرفه'!P15 -> 0 | R21: ='تغییر تعرفه'!Q15 -> 0 | S21: ='تغییر تعرفه'!R15 -> 0 | T21: ='تغییر تعرفه'!S15 -> 0 | U21: =SUM(K21:T23)-N21 -> 0
C22: وصولی | D22: ='تغییر تعرفه'!C16 -> 0 | E22: ='تغییر تعرفه'!D16 -> 0 | F22: ='تغییر تعرفه'!E16 -> 0 | G22: ='تغییر تعرفه'!F16 -> 0 | H22: ='تغییر تعرفه'!G16 -> 0 | I22: ='تغییر تعرفه'!H16 -> 0 | J22: ='تغییر تعرفه'!I16 -> 0 | K22: =D22+E22+F22+G22+H22+I22+J22 -> 0 | U22: =K22+N22+P22+Q22+R22+S22+T22 -> 0
C23: کسورات | D23: ='تغییر تعرفه'!C17 -> 0 | E23: ='تغییر تعرفه'!D17 -> 0 | F23: ='تغییر تعرفه'!E17 -> 0 | G23: ='تغییر تعرفه'!F17 -> 0 | H23: ='تغییر تعرفه'!G17 -> 0 | I23: ='تغییر تعرفه'!H17 -> 0 | J23: ='تغییر تعرفه'!I17 -> 0 | K23: =D23+E23+F23+G23+H23+I23+J23 -> 0 | U23: =K23+N23+P23+Q23+R23+S23+T23 -> 0
B24: شهريور | C24: ارسالی | D24: =شهریور!C15 -> 0 | E24: =شهریور!D15 -> 0 | F24: =شهریور!E15 -> 0 | G24: =شهریور!F15 -> 0 | H24: =شهریور!G15 -> 0 | I24: =شهریور!H15 -> 0 | J24: =شهریور!I15 -> 0 | K24: =D24+E24+F24+G24+H24+I24+J24 -> 0 | L24: =شهریور!K15 -> 0 | M24: =شهریور!L15 -> 0 | N24: =شهریور!M15 -> 0 | O24: =شهریور!N15 -> 0 | P24: =شهریور!O15 -> 0 | Q24: =شهریور!P15 -> 0 | R24: =شهریور!Q15 -> 0 | S24: =شهریور!R15 -> 0 | T24: =شهریور!S15 -> 0 | U24: =SUM(K24:T26)-N24 -> 0
C25: وصولی | D25: =شهریور!C16 -> 0 | E25: =شهریور!D16 -> 0 | F25: =شهریور!E16 -> 0 | G25: =شهریور!F16 -> 0 | H25: =شهریور!G16 -> 0 | I25: =شهریور!H16 -> 0 | J25: =شهریور!I16 -> 0 | K25: =D25+E25+F25+G25+H25+I25+J25 -> 0 | U25: =K25+N25+P25+Q25+R25+S25+T25 -> 0
C26: کسورات | D26: =شهریور!C17 -> 0 | E26: =شهریور!D17 -> 0 | F26: =شهریور!E17 -> 0 | G26: =شهریور!F17 -> 0 | H26: =شهریور!G17 -> 0 | I26: =شهریور!H17 -> 0 | J26: =شهریور!I17 -> 0 | K26: =D26+E26+F26+G26+H26+I26+J26 -> 0 | U26: =K26+N26+P26+Q26+R26+S26+T26 -> 0
B27: مهر | C27: ارسالی | D27: =مهر!C15 -> 0 | E27: =مهر!D15 -> 0 | F27: =مهر!E15 -> 0 | G27: =مهر!F15 -> 0 | H27: =مهر!G15 -> 0 | I27: =مهر!H15 -> 0 | J27: =مهر!I15 -> 0 | K27: =D27+E27+F27+G27+H27+I27+J27 -> 0 | L27: =مهر!K15 -> 0 | M27: =مهر!L15 -> 0 | N27: =مهر!M15 -> 0 | O27: =مهر!N15 -> 0 | P27: =مهر!O15 -> 0 | Q27: =مهر!P15 -> 0 | R27: =مهر!Q15 -> 0 | S27: =مهر!R15 -> 0 | T27: =مهر!S15 -> 0 | U27: =SUM(K27:T29)-N27 -> 0
C28: وصولی | D28: =مهر!C16 -> 0 | E28: =مهر!D16 -> 0 | F28: =مهر!E16 -> 0 | G28: =مهر!F16 -> 0 | H28: =مهر!G16 -> 0 | I28: =مهر!H16 -> 0 | J28: =مهر!I16 -> 0 | K28: =D28+E28+F28+G28+H28+I28+J28 -> 0 | U28: =K28+N28+P28+Q28+R28+S28+T28 -> 0
C29: کسورات | D29: =مهر!C17 -> 0 | E29: =مهر!D17 -> 0 | F29: =مهر!E17 -> 0 | G29: =مهر!F17 -> 0 | H29: =مهر!G17 -> 0 | I29: =مهر!H17 -> 0 | J29: =مهر!I17 -> 0 | K29: =D29+E29+F29+G29+H29+I29+J29 -> 0 | U29: =K29+N29+P29+Q29+R29+S29+T29 -> 0
B30: آبان | C30: ارسالی | D30: =آبان!C15 -> 0 | E30: =آبان!D15 -> 0 | F30: =آبان!E15 -> 0 | G30: =آبان!F15 -> 0 | H30: =آبان!G15 -> 0 | I30: =آبان!H15 -> 0 | J30: =آبان!I15 -> 0 | K30: =D30+E30+F30+G30+H30+I30+J30 -> 0 | L30: =آبان!K15 -> 0 | M30: =آبان!L15 -> 0 | N30: =آبان!M15 -> 0 | O30: =آبان!N15 -> 0 | P30: =آبان!O15 -> 0 | Q30: =آبان!P15 -> 0 | R30: =آبان!Q15 -> 0 | S30: =آبان!R15 -> 0 | T30: =آبان!S15 -> 0 | U30: =SUM(K30:T32)-N30 -> 0
C31: وصولی | D31: =آبان!C16 -> 0 | E31: =آبان!D16 -> 0 | F31: =آبان!E16 -> 0 | G31: =آبان!F16 -> 0 | H31: =آبان!G16 -> 0 | I31: =آبان!H16 -> 0 | J31: =آبان!I16 -> 0 | K31: =D31+E31+F31+G31+H31+I31+J31 -> 0 | U31: =K31+N31+P31+Q31+R31+S31+T31 -> 0
C32: کسورات | D32: =آبان!C17 -> 0 | E32: =آبان!D17 -> 0 | F32: =آبان!E17 -> 0 | G32: =آبان!F17 -> 0 | H32: =آبان!G17 -> 0 | I32: =آبان!H17 -> 0 | J32: =آبان!I17 -> 0 | K32: =D32+E32+F32+G32+H32+I32+J32 -> 0 | U32: =K32+N32+P32+Q32+R32+S32+T32 -> 0
B33: آذر | C33: ارسالی | D33: =آذر!C15 -> 0 | E33: =آذر!D15 -> 0 | F33: =آذر!E15 -> 0 | G33: =آذر!F15 -> 0 | H33: =آذر!G15 -> 0 | I33: =آذر!H15 -> 0 | J33: =آذر!I15 -> 0 | K33: =D33+E33+F33+G33+H33+I33+J33 -> 0 | L33: =آذر!K15 -> 0 | M33: =آذر!L15 -> 0 | N33: =آذر!M15 -> 0 | O33: =آذر!N15 -> 0 | P33: =آذر!O15 -> 0 | Q33: =آذر!P15 -> 0 | R33: =آذر!Q15 -> 0 | S33: =آذر!R15 -> 0 | T33: =آذر!S15 -> 0 | U33: =SUM(K33:T35)-N33 -> 0
C34: وصولی | D34: =آذر!C16 -> 0 | E34: =آذر!D16 -> 0 | F34: =آذر!E16 -> 0 | G34: =آذر!F16 -> 0 | H34: =آذر!G16 -> 0 | I34: =آذر!H16 -> 0 | J34: =آذر!I16 -> 0 | K34: =D34+E34+F34+G34+H34+I34+J34 -> 0 | U34: =K34+N34+P34+Q34+R34+S34+T34 -> 0
C35: کسورات | D35: =آذر!C17 -> 0 | E35: =آذر!D17 -> 0 | F35: =آذر!E17 -> 0 | G35: =آذر!F17 -> 0 | H35: =آذر!G17 -> 0 | I35: =آذر!H17 -> 0 | J35: =آذر!I17 -> 0 | K35: =D35+E35+F35+G35+H35+I35+J35 -> 0 | U35: =K35+N35+P35+Q35+R35+S35+T35 -> 0
B36: دي | C36: ارسالی | D36: =دی!C15 -> 0 | E36: =دی!D15 -> 0 | F36: =دی!E15 -> 0 | G36: =دی!F15 -> 0 | H36: =دی!G15 -> 0 | I36: =دی!H15 -> 0 | J36: =دی!I15 -> 0 | K36: =D36+E36+F36+G36+H36+I36+J36 -> 0 | L36: =دی!K15 -> 0 | M36: =دی!L15 -> 0 | N36: =دی!M15 -> 0 | O36: =دی!N15 -> 0 | P36: =دی!O15 -> 0 | Q36: =دی!P15 -> 0 | R36: =دی!Q15 -> 0 | S36: =دی!R15 -> 0 | T36: =دی!S15 -> 0 | U36: =SUM(K36:T38)-N36 -> 0
C37: وصولی | D37: =دی!C16 -> 0 | E37: =دی!D16 -> 0 | F37: =دی!E16 -> 0 | G37: =دی!F16 -> 0 | H37: =دی!G16 -> 0 | I37: =دی!H16 -> 0 | J37: =دی!I16 -> 0 | K37: =D37+E37+F37+G37+H37+I37+J37 -> 0 | U37: =K37+N37+P37+Q37+R37+S37+T37 -> 0
C38: کسورات | D38: =دی!C17 -> 0 | E38: =دی!D17 -> 0 | F38: =دی!E17 -> 0 | G38: =دی!F17 -> 0 | H38: =دی!G17 -> 0 | I38: =دی!H17 -> 0 | J38: =دی!I17 -> 0 | K38: =D38+E38+F38+G38+H38+I38+J38 -> 0 | U38: =K38+N38+P38+Q38+R38+S38+T38 -> 0
B39: بهمن | C39: ارسالی | D39: =بهمن!C15 -> 0 | E39: =بهمن!D15 -> 0 | F39: =بهمن!E15 -> 0 | G39: =بهمن!F15 -> 0 | H39: =بهمن!G15 -> 0 | I39: =بهمن!H15 -> 0 | J39: =بهمن!I15 -> 0 | K39: =D39+E39+F39+G39+H39+I39+J39 -> 0 | L39: =بهمن!K15 -> 0 | M39: =بهمن!L15 -> 0 | N39: =بهمن!M15 -> 0 | O39: =بهمن!N15 -> 0 | P39: =بهمن!O15 -> 0 | Q39: =بهمن!P15 -> 0 | R39: =بهمن!Q15 -> 0 | S39: =بهمن!R15 -> 0 | T39: =بهمن!S15 -> 0 | U39: =SUM(K39:T41)-N39 -> 0
C40: وصولی | D40: =بهمن!C16 -> 0 | E40: =بهمن!D16 -> 0 | F40: =بهمن!E16 -> 0 | G40: =بهمن!F16 -> 0 | H40: =بهمن!G16 -> 0 | I40: =بهمن!H16 -> 0 | J40: =بهمن!I16 -> 0 | K40: =D40+E40+F40+G40+H40+I40+J40 -> 0 | U40: =K40+N40+P40+Q40+R40+S40+T40 -> 0
C41: کسورات | D41: =بهمن!C17 -> 0 | E41: =بهمن!D17 -> 0 | F41: =بهمن!E17 -> 0 | G41: =بهمن!F17 -> 0 | H41: =بهمن!G17 -> 0 | I41: =بهمن!H17 -> 0 | J41: =بهمن!I17 -> 0 | K41: =D41+E41+F41+G41+H41+I41+J41 -> 0 | U41: =K41+N41+P41+Q41+R41+S41+T41 -> 0
B42: اسفند | C42: ارسالی | D42: =اسفند!C15 -> 0 | E42: =اسفند!D15 -> 0 | F42: =اسفند!E15 -> 0 | G42: =اسفند!F15 -> 0 | H42: =اسفند!G15 -> 0 | I42: =اسفند!H15 -> 0 | J42: =اسفند!I15 -> 0 | K42: =D42+E42+F42+G42+H42+I42+J42 -> 0 | L42: =اسفند!K15 -> 0 | M42: =اسفند!L15 -> 0 | N42: =اسفند!M15 -> 0 | O42: =اسفند!N15 -> 0 | P42: =اسفند!O15 -> 0 | Q42: =اسفند!P15 -> 0 | R42: =اسفند!Q15 -> 0 | S42: =اسفند!R15 -> 0 | T42: =اسفند!S15 -> 0 | U42: =SUM(K42:T44)-N42 -> 0
C43: وصولی | D43: =اسفند!C16 -> 0 | E43: =اسفند!D16 -> 0 | F43: =اسفند!E16 -> 0 | G43: =اسفند!F16 -> 0 | H43: =اسفند!G16 -> 0 | I43: =اسفند!H16 -> 0 | J43: =اسفند!I16 -> 0 | K43: =D43+E43+F43+G43+H43+I43+J43 -> 0 | U43: =K43+N43+P43+Q43+R43+S43+T43 -> 0
C44: کسورات | D44: =اسفند!C17 -> 0 | E44: =اسفند!D17 -> 0 | F44: =اسفند!E17 -> 0 | G44: =اسفند!F17 -> 0 | H44: =اسفند!G17 -> 0 | I44: =اسفند!H17 -> 0 | J44: =اسفند!I17 -> 0 | K44: =D44+E44+F44+G44+H44+I44+J44 -> 0 | U44: =K44+N44+P44+Q44+R44+S44+T44 -> 0
B45: جمع کل | C45: ارسالی | D45: =D6+D9+D12+D15+D18+D21+D24+D27+D30+D33+D36+D39+D42 -> 0 | E45: =E6+E9+E12+E15+E18+E21+E24+E27+E30+E33+E36+E39+E42 -> 0 | F45: =F6+F9+F12+F15+F18+F21+F24+F27+F30+F33+F36+F39+F42 -> 0 | G45: =G6+G9+G12+G15+G18+G21+G24+G27+G30+G33+G36+G39+G42 -> 0 | H45: =H6+H9+H12+H15+H18+H21+H24+H27+H30+H33+H36+H39+H42 -> 0 | I45: =I6+I9+I12+I15+I18+I21+I24+I27+I30+I33+I36+I39+I42 -> 0 | J45: =J6+J9+J12+J15+J18+J21+J24+J27+J30+J33+J36+J39+J42 -> 0 | K45: =K6+K9+K12+K15+K18+K21+K24+K27+K30+K33+K36+K39+K42 -> 0 | L45: =SUM(L6:L44) -> 0 | M45: =SUM(M6:M44) -> 0 | N45: =SUM(N6:N44) -> 0 | O45: =SUM(O6:O44) -> 0 | P45: =SUM(P6:P44) -> 0 | Q45: =SUM(Q6:Q44) -> 0 | R45: =SUM(R6:R44) -> 0 | S45: =SUM(S6:S44) -> 0 | T45: =SUM(T6:T44) -> 0 | U45: =SUM(K45:T47)-N45 -> 0
C46: وصولی | D46: =D7+D10+D13+D16+D19+D22+D25+D28+D31+D34+D37+D40+D43 -> 0 | E46: =E7+E10+E13+E16+E19+E22+E25+E28+E31+E34+E37+E40+E43 -> 0 | F46: =F7+F10+F13+F16+F19+F22+F25+F28+F31+F34+F37+F40+F43 -> 0 | G46: =G7+G10+G13+G16+G19+G22+G25+G28+G31+G34+G37+G40+G43 -> 0 | H46: =H7+H10+H13+H16+H19+H22+H25+H28+H31+H34+H37+H40+H43 -> 0 | I46: =I7+I10+I13+I16+I19+I22+I25+I28+I31+I34+I37+I40+I43 -> 0 | J46: =J7+J10+J13+J16+J19+J22+J25+J28+J31+J34+J37+J40+J43 -> 0 | K46: =K7+K10+K13+K16+K19+K22+K25+K28+K31+K34+K37+K40+K43 -> 0 | U46: =K46+N46+P46+Q46+R46+S46+T46 -> 0
C47: کسورات | D47: =D8+D11+D14+D17+D20+D23+D26+D29+D32+D35+D38+D41+D44 -> 0 | E47: =E8+E11+E14+E17+E20+E23+E26+E29+E32+E35+E38+E41+E44 -> 0 | F47: =F8+F11+F14+F17+F20+F23+F26+F29+F32+F35+F38+F41+F44 -> 0 | G47: =G8+G11+G14+G17+G20+G23+G26+G29+G32+G35+G38+G41+G44 -> 0 | H47: =H8+H11+H14+H17+H20+H23+H26+H29+H32+H35+H38+H41+H44 -> 0 | I47: =I8+I11+I14+I17+I20+I23+I26+I29+I32+I35+I38+I41+I44 -> 0 | J47: =J8+J11+J14+J17+J20+J23+J26+J29+J32+J35+J38+J41+J44 -> 0 | K47: =K8+K11+K14+K17+K20+K23+K26+K29+K32+K35+K38+K41+K44 -> 0 | U47: =K47+N47+P47+Q47+R47+S47+T47 -> 0

Sheet 30327
B1: کاربرگ اطلاعات درآمد 1393
B2: نام واحد
B3: برنامه:30327000
B4: دوره | C4: درامد | D4: بیمه ای | L4: کارت بهداشت | M4: سایر درآمد ها | N4: کنترل نسخ دریافتی ارسال نشده | O4: درامد نقدی (صندوق) | P4: بدهکاران اشخاص (بیماران تسویه نشده) | Q4: نیازمندان | R4: ترافیکی | S4: منازل سازمانی | T4: سایر قراردادها ودرامدها | U4: جمع کل درآمد
D5: تامین اجتماعی | E5: خدمات درمانی | F5: کمیته امداد | G5: نیروهای مسلح | H5: بیمه ذغال سنگ | I5: بیمه فولاد | J5: سایر بیمه ها | K5: جمع کل درامد بیمه ای
B6: فروردين | C6: ارسالی | D6: =فروردین!C18 -> 0 | E6: =فروردین!D18 -> 0 | F6: =فروردین!E18 -> 0 | G6: =فروردین!F18 -> 0 | H6: =فروردین!G18 -> 0 | I6: =فروردین!H18 -> 0 | J6: =فروردین!I18 -> 0 | K6: =D6+E6+F6+G6+H6+I6+J6 -> 0 | L6: =فروردین!K18 -> 0 | M6: =فروردین!L18 -> 0 | N6: =فروردین!M18 -> 0 | O6: =فروردین!N18 -> 0 | P6: =فروردین!O18 -> 0 | Q6: =فروردین!P18 -> 0 | R6: =فروردین!Q18 -> 0 | S6: =فروردین!R18 -> 0 | T6: =فروردین!S18 -> 0 | U6: =SUM(K6:T8)-N6-K7-K8 -> 0
C7: وصولی | D7: =فروردین!C19 -> 0 | E7: =فروردین!D19 -> 0 | F7: =فروردین!E19 -> 0 | G7: =فروردین!F19 -> 0 | H7: =فروردین!G19 -> 0 | I7: =فروردین!H19 -> 0 | J7: =فروردین!I19 -> 0 | K7: =D7+E7+F7+G7+H7+I7+J7 -> 0 | U7: =K7+N7+P7+Q7+R7+S7+T7 -> 0
C8: کسورات | D8: =فروردین!C20 -> 0 | E8: =فروردین!D20 -> 0 | F8: =فروردین!E20 -> 0 | G8: =فروردین!F20 -> 0 | H8: =فروردین!G20 -> 0 | I8: =فروردین!H20 -> 0 | J8: =فروردین!I20 -> 0 | K8: =D8+E8+F8+G8+H8+I8+J8 -> 0 | U8: =K8+N8+P8+Q8+R8+S8+T8 -> 0
B9: ارديبهشت | C9: ارسالی | D9: =اردیبهشت!C18 -> 0 | E9: =اردیبهشت!D18 -> 0 | F9: =اردیبهشت!E18 -> 0 | G9: =اردیبهشت!F18 -> 0 | H9: =اردیبهشت!G18 -> 0 | I9: =اردیبهشت!H18 -> 0 | J9: =اردیبهشت!I18 -> 0 | K9: =D9+E9+F9+G9+H9+I9+J9 -> 0 | L9: =اردیبهشت!K18 -> 0 | M9: =اردیبهشت!L18 -> 0 | N9: =اردیبهشت!M18 -> 0 | O9: =اردیبهشت!N18 -> 0 | P9: =اردیبهشت!O18 -> 0 | Q9: =اردیبهشت!P18 -> 0 | R9: =اردیبهشت!Q18 -> 0 | S9: =اردیبهشت!R18 -> 0 | T9: =اردیبهشت!S18 -> 0 | U9: =SUM(K9:T11)-N9 -> 0
C10: وصولی | D10: =اردیبهشت!C19 -> 0 | E10: =اردیبهشت!D19 -> 0 | F10: =اردیبهشت!E19 -> 0 | G10: =اردیبهشت!F19 -> 0 | H10: =اردیبهشت!G19 -> 0 | I10: =اردیبهشت!H19 -> 0 | J10: =اردیبهشت!I19 -> 0 | K10: =D10+E10+F10+G10+H10+I10+J10 -> 0 | U10: =K10+N10+P10+Q10+R10+S10+T10 -> 0
C11: کسورات | D11: =اردیبهشت!C20 -> 0 | E11: =اردیبهشت!D20 -> 0 | F11: =اردیبهشت!E20 -> 0 | G11: =اردیبهشت!F20 -> 0 | H11: =اردیبهشت!G20 -> 0 | I11: =اردیبهشت!H20 -> 0 | J11: =اردیبهشت!I20 -> 0 | K11: =D11+E11+F11+G11+H11+I11+J11 -> 0 | U11: =K11+N11+P11+Q11+R11+S11+T11 -> 0
B12: خرداد | C12: ارسالی | D12: =خرداد!C18 -> 0 | E12: =خرداد!D18 -> 0 | F12: =خرداد!E18 -> 0 | G12: =خرداد!F18 -> 0 | H12: =خرداد!G18 -> 0 | I12: =خرداد!H18 -> 0 | J12: =خرداد!I18 -> 0 | K12: =D12+E12+F12+G12+H12+I12+J12 -> 0 | L12: =خرداد!K18 -> 0 | M12: =خرداد!L18 -> 0 | N12: =خرداد!M18 -> 0 | O12: =خرداد!N18 -> 0 | P12: =خرداد!O18 -> 0 | Q12: =خرداد!P18 -> 0 | R12: =خرداد!Q18 -> 0 | S12: =خرداد!R18 -> 0 | T12: =خرداد!S18 -> 0 | U12: =SUM(K12:T14)-N12 -> 0
C13: وصولی | D13: =خرداد!C19 -> 0 | E13: =خرداد!D19 -> 0 | F13: =خرداد!E19 -> 0 | G13: =خرداد!F19 -> 0 | H13: =خرداد!G19 -> 0 | I13: =خرداد!H19 -> 0 | J13: =خرداد!I19 -> 0 | K13: =D13+E13+F13+G13+H13+I13+J13 -> 0 | U13: =K13+N13+P13+Q13+R13+S13+T13 -> 0
C14: کسورات | D14: =خرداد!C20 -> 0 | E14: =خرداد!D20 -> 0 | F14: =خرداد!E20 -> 0 | G14: =خرداد!F20 -> 0 | H14: =خرداد!G20 -> 0 | I14: =خرداد!H20 -> 0 | J14: =خرداد!I20 -> 0 | K14: =D14+E14+F14+G14+H14+I14+J14 -> 0 | U14: =K14+N14+P14+Q14+R14+S14+T14 -> 0
B15: تير | C15: ارسالی | D15: =تیر!C18 -> 0 | E15: =تیر!D18 -> 0 | F15: =تیر!E18 -> 0 | G15: =تیر!F18 -> 0 | H15: =تیر!G18 -> 0 | I15: =تیر!H18 -> 0 | J15: =تیر!I18 -> 0 | K15: =D15+E15+F15+G15+H15+I15+J15 -> 0 | L15: =تیر!K18 -> 0 | M15: =تیر!L18 -> 0 | N15: =تیر!M18 -> 0 | O15: =تیر!N18 -> 0 | P15: =تیر!O18 -> 0 | Q15: =تیر!P18 -> 0 | R15: =تیر!Q18 -> 0 | S15: =تیر!R18 -> 0 | T15: =تیر!S18 -> 0 | U15: =SUM(K15:T17)-N15 -> 0
C16: وصولی | D16: =تیر!C19 -> 0 | E16: =تیر!D19 -> 0 | F16: =تیر!E19 -> 0 | G16: =تیر!F19 -> 0 | H16: =تیر!G19 -> 0 | I16: =تیر!H19 -> 0 | J16: =تیر!I19 -> 0 | K16: =D16+E16+F16+G16+H16+I16+J16 -> 0 | U16: =K16+N16+P16+Q16+R16+S16+T16 -> 0
C17: کسورات | D17: =تیر!C20 -> 0 | E17: =تیر!D20 -> 0 | F17: =تیر!E20 -> 0 | G17: =تیر!F20 -> 0 | H17: =تیر!G20 -> 0 | I17: =تیر!H20 -> 0 | J17: =تیر!I20 -> 0 | K17: =D17+E17+F17+G17+H17+I17+J17 -> 0 | U17: =K17+N17+P17+Q17+R17+S17+T17 -> 0
B18: مرداد | C18: ارسالی | D18: =مرداد!C18 -> 0 | E18: =مرداد!D18 -> 0 | F18: =مرداد!E18 -> 0 | G18: =مرداد!F18 -> 0 | H18: =مرداد!G18 -> 0 | I18: =مرداد!H18 -> 0 | J18: =مرداد!I18 -> 0 | K18: =D18+E18+F18+G18+H18+I18+J18 -> 0 | L18: =مرداد!K18 -> 0 | M18: =مرداد!L18 -> 0 | N18: =مرداد!M18 -> 0 | O18: =مرداد!N18 -> 0 | P18: =مرداد!O18 -> 0 | Q18: =مرداد!P18 -> 0 | R18: =مرداد!Q18 -> 0 | S18: =مرداد!R18 -> 0 | T18: =مرداد!S18 -> 0 | U18: =SUM(K18:T20)-N18 -> 0
C19: وصولی | D19: =مرداد!C19 -> 0 | E19: =مرداد!D19 -> 0 | F19: =مرداد!E19 -> 0 | G19: =مرداد!F19 -> 0 | H19: =مرداد!G19 -> 0 | I19: =مرداد!H19 -> 0 | J19: =مرداد!I19 -> 0 | K19: =D19+E19+F19+G19+H19+I19+J19 -> 0 | U19: =K19+N19+P19+Q19+R19+S19+T19 -> 0
C20: کسورات | D20: =مرداد!C20 -> 0 | E20: =مرداد!D20 -> 0 | F20: =مرداد!E20 -> 0 | G20: =مرداد!F20 -> 0 | H20: =مرداد!G20 -> 0 | I20: =مرداد!H20 -> 0 | J20: =مرداد!I20 -> 0 | K20: =D20+E20+F20+G20+H20+I20+J20 -> 0 | U20: =K20+N20+P20+Q20+R20+S20+T20 -> 0
B21: تغییر تعرفه | C21: ارسالی | D21: ='تغییر تعرفه'!C18 -> 0 | E21: ='تغییر تعرفه'!D18 -> 0 | F21: ='تغییر تعرفه'!E18 -> 0 | G21: ='تغییر تعرفه'!F18 -> 0 | H21: ='تغییر تعرفه'!G18 -> 0 | I21: ='تغییر تعرفه'!H18 -> 0 | J21: ='تغییر تعرفه'!I18 -> 0 | K21: =D21+E21+F21+G21+H21+I21+J21 -> 0 | L21: ='تغییر تعرفه'!K18 -> 0 | M21: ='تغییر تعرفه'!L18 -> 0 | N21: ='تغییر تعرفه'!M18 -> 0 | O21: ='تغییر تعرفه'!N18 -> 0 | P21: ='تغییر تعرفه'!O18 -> 0 | Q21: ='تغییر تعرفه'!P18 -> 0 | R21: ='تغییر تعرفه'!Q18 -> 0 | S21: ='تغییر تعرفه'!R18 -> 0 | T21: ='تغییر تعرفه'!S18 -> 0 | U21: =SUM(K21:T23)-N21 -> 0
C22: وصولی | D22: ='تغییر تعرفه'!C19 -> 0 | E22: ='تغییر تعرفه'!D19 -> 0 | F22: ='تغییر تعرفه'!E19 -> 0 | G22: ='تغییر تعرفه'!F19 -> 0 | H22: ='تغییر تعرفه'!G19 -> 0 | I22: ='تغییر تعرفه'!H19 -> 0 | J22: ='تغییر تعرفه'!I19 -> 0 | K22: =D22+E22+F22+G22+H22+I22+J22 -> 0 | U22: =K22+N22+P22+Q22+R22+S22+T22 -> 0
C23: کسورات | D23: ='تغییر تعرفه'!C20 -> 0 | E23: ='تغییر تعرفه'!D20 -> 0 | F23: ='تغییر تعرفه'!E20 -> 0 | G23: ='تغییر تعرفه'!F20 -> 0 | H23: ='تغییر تعرفه'!G20 -> 0 | I23: ='تغییر تعرفه'!H20 -> 0 | J23: ='تغییر تعرفه'!I20 -> 0 | K23: =D23+E23+F23+G23+H23+I23+J23 -> 0 | U23: =K23+N23+P23+Q23+R23+S23+T23 -> 0
B24: شهريور | C24: ارسالی | D24: =شهریور!C18 -> 0 | E24: =شهریور!D18 -> 0 | F24: =شهریور!E18 -> 0 | G24: =شهریور!F18 -> 0 | H24: =شهریور!G18 -> 0 | I24: =شهریور!H18 -> 0 | J24: =شهریور!I18 -> 0 | K24: =D24+E24+F24+G24+H24+I24+J24 -> 0 | L24: =شهریور!K18 -> 0 | M24: =شهریور!L18 -> 0 | N24: =شهریور!M18 -> 0 | O24: =شهریور!N18 -> 0 | P24: =شهریور!O18 -> 0 | Q24: =شهریور!P18 -> 0 | R24: =شهریور!Q18 -> 0 | S24: =شهریور!R18 -> 0 | T24: =شهریور!S18 -> 0 | U24: =SUM(K24:T26)-N24 -> 0
C25: وصولی | D25: =شهریور!C19 -> 0 | E25: =شهریور!D19 -> 0 | F25: =شهریور!E19 -> 0 | G25: =شهریور!F19 -> 0 | H25: =شهریور!G19 -> 0 | I25: =شهریور!H19 -> 0 | J25: =شهریور!I19 -> 0 | K25: =D25+E25+F25+G25+H25+I25+J25 -> 0 | U25: =K25+N25+P25+Q25+R25+S25+T25 -> 0
C26: کسورات | D26: =شهریور!C20 -> 0 | E26: =شهریور!D20 -> 0 | F26: =شهریور!E20 -> 0 | G26: =شهریور!F20 -> 0 | H26: =شهریور!G20 -> 0 | I26: =شهریور!H20 -> 0 | J26: =شهریور!I20 -> 0 | K26: =D26+E26+F26+G26+H26+I26+J26 -> 0 | U26: =K26+N26+P26+Q26+R26+S26+T26 -> 0
B27: مهر | C27: ارسالی | D27: =مهر!C18 -> 0 | E27: =مهر!D18 -> 0 | F27: =مهر!E18 -> 0 | G27: =مهر!F18 -> 0 | H27: =مهر!G18 -> 0 | I27: =مهر!H18 -> 0 | J27: =مهر!I18 -> 0 | K27: =D27+E27+F27+G27+H27+I27+J27 -> 0 | L27: =مهر!K18 -> 0 | M27: =مهر!L18 -> 0 | N27: =مهر!M18 -> 0 | O27: =مهر!N18 -> 0 | P27: =مهر!O18 -> 0 | Q27: =مهر!P18 -> 0 | R27: =مهر!Q18 -> 0 | S27: =مهر!R18 -> 0 | T27: =مهر!S18 -> 0 | U27: =SUM(K27:T29)-N27 -> 0
C28: وصولی | D28: =مهر!C19 -> 0 | E28: =مهر!D19 -> 0 | F28: =مهر!E19 -> 0 | G28: =مهر!F19 -> 0 | H28: =مهر!G19 -> 0 | I28: =مهر!H19 -> 0 | J28: =مهر!I19 -> 0 | K28: =D28+E28+F28+G28+H28+I28+J28 -> 0 | U28: =K28+N28+P28+Q28+R28+S28+T28 -> 0
C29: کسورات | D29: =مهر!C20 -> 0 | E29: =مهر!D20 -> 0 | F29: =مهر!E20 -> 0 | G29: =مهر!F20 -> 0 | H29: =مهر!G20 -> 0 | I29: =مهر!H20 -> 0 | J29: =مهر!I20 -> 0 | K29: =D29+E29+F29+G29+H29+I29+J29 -> 0 | U29: =K29+N29+P29+Q29+R29+S29+T29 -> 0
B30: آبان | C30: ارسالی | D30: =آبان!C18 -> 0 | E30: =آبان!D18 -> 0 | F30: =آبان!E18 -> 0 | G30: =آبان!F18 -> 0 | H30: =آبان!G18 -> 0 | I30: =آبان!H18 -> 0 | J30: =آبان!I18 -> 0 | K30: =D30+E30+F30+G30+H30+I30+J30 -> 0 | L30: =آبان!K18 -> 0 | M30: =آبان!L18 -> 0 | N30: =آبان!M18 -> 0 | O30: =آبان!N18 -> 0 | P30: =آبان!O18 -> 0 | Q30: =آبان!P18 -> 0 | R30: =آبان!Q18 -> 0 | S30: =آبان!R18 -> 0 | T30: =آبان!S18 -> 0 | U30: =SUM(K30:T32)-N30 -> 0
C31: وصولی | D31: =آبان!C19 -> 0 | E31: =آبان!D19 -> 0 | F31: =آبان!E19 -> 0 | G31: =آبان!F19 -> 0 | H31: =آبان!G19 -> 0 | I31: =آبان!H19 -> 0 | J31: =آبان!I19 -> 0 | K31: =D31+E31+F31+G31+H31+I31+J31 -> 0 | U31: =K31+N31+P31+Q31+R31+S31+T31 -> 0
C32: کسورات | D32: =آبان!C20 -> 0 | E32: =آبان!D20 -> 0 | F32: =آبان!E20 -> 0 | G32: =آبان!F20 -> 0 | H32: =آبان!G20 -> 0 | I32: =آبان!H20 -> 0 | J32: =آبان!I20 -> 0 | K32: =D32+E32+F32+G32+H32+I32+J32 -> 0 | U32: =K32+N32+P32+Q32+R32+S32+T32 -> 0
B33: آذر | C33: ارسالی | D33: =آذر!C18 -> 0 | E33: =آذر!D18 -> 0 | F33: =آذر!E18 -> 0 | G33: =آذر!F18 -> 0 | H33: =آذر!G18 -> 0 | I33: =آذر!H18 -> 0 | J33: =آذر!I18 -> 0 | K33: =D33+E33+F33+G33+H33+I33+J33 -> 0 | L33: =آذر!K18 -> 0 | M33: =آذر!L18 -> 0 | N33: =آذر!M18 -> 0 | O33: =آذر!N18 -> 0 | P33: =آذر!O18 -> 0 | Q33: =آذر!P18 -> 0 | R33: =آذر!Q18 -> 0 | S33: =آذر!R18 -> 0 | T33: =آذر!S18 -> 0 | U33: =SUM(K33:T35)-N33 -> 0
C34: وصولی | D34: =آذر!C19 -> 0 | E34: =آذر!D19 -> 0 | F34: =آذر!E19 -> 0 | G34: =آذر!F19 -> 0 | H34: =آذر!G19 -> 0 | I34: =آذر!H19 -> 0 | J34: =آذر!I19 -> 0 | K34: =D34+E34+F34+G34+H34+I34+J34 -> 0 | U34: =K34+N34+P34+Q34+R34+S34+T34 -> 0
C35: کسورات | D35: =آذر!C20 -> 0 | E35: =آذر!D20 -> 0 | F35: =آذر!E20 -> 0 | G35: =آذر!F20 -> 0 | H35: =آذر!G20 -> 0 | I35: =آذر!H20 -> 0 | J35: =آذر!I20 -> 0 | K35: =D35+E35+F35+G35+H35+I35+J35 -> 0 | U35: =K35+N35+P35+Q35+R35+S35+T35 -> 0
B36: دي | C36: ارسالی | D36: =دی!C18 -> 0 | E36: =دی!D18 -> 0 | F36: =دی!E18 -> 0 | G36: =دی!F18 -> 0 | H36: =دی!G18 -> 0 | I36: =دی!H18 -> 0 | J36: =دی!I18 -> 0 | K36: =D36+E36+F36+G36+H36+I36+J36 -> 0 | L36: =دی!K18 -> 0 | M36: =دی!L18 -> 0 | N36: =دی!M18 -> 0 | O36: =دی!N18 -> 0 | P36: =دی!O18 -> 0 | Q36: =دی!P18 -> 0 | R36: =دی!Q18 -> 0 | S36: =دی!R18 -> 0 | T36: =دی!S18 -> 0 | U36: =SUM(K36:T38)-N36 -> 0
C37: وصولی | D37: =دی!C19 -> 0 | E37: =دی!D19 -> 0 | F37: =دی!E19 -> 0 | G37: =دی!F19 -> 0 | H37: =دی!G19 -> 0 | I37: =دی!H19 -> 0 | J37: =دی!I19 -> 0 | K37: =D37+E37+F37+G37+H37+I37+J37 -> 0 | U37: =K37+N37+P37+Q37+R37+S37+T37 -> 0
C38: کسورات | D38: =دی!C20 -> 0 | E38: =دی!D20 -> 0 | F38: =دی!E20 -> 0 | G38: =دی!F20 -> 0 | H38: =دی!G20 -> 0 | I38: =دی!H20 -> 0 | J38: =دی!I20 -> 0 | K38: =D38+E38+F38+G38+H38+I38+J38 -> 0 | U38: =K38+N38+P38+Q38+R38+S38+T38 -> 0
B39: بهمن | C39: ارسالی | D39: =بهمن!C18 -> 0 | E39: =بهمن!D18 -> 0 | F39: =بهمن!E18 -> 0 | G39: =بهمن!F18 -> 0 | H39: =بهمن!G18 -> 0 | I39: =بهمن!H18 -> 0 | J39: =بهمن!I18 -> 0 | K39: =D39+E39+F39+G39+H39+I39+J39 -> 0 | L39: =بهمن!K18 -> 0 | M39: =بهمن!L18 -> 0 | N39: =بهمن!M18 -> 0 | O39: =بهمن!N18 -> 0 | P39: =بهمن!O18 -> 0 | Q39: =بهمن!P18 -> 0 | R39: =بهمن!Q18 -> 0 | S39: =بهمن!R18 -> 0 | T39: =بهمن!S18 -> 0 | U39: =SUM(K39:T41)-N39 -> 0
C40: وصولی | D40: =بهمن!C19 -> 0 | E40: =بهمن!D19 -> 0 | F40: =بهمن!E19 -> 0 | G40: =بهمن!F19 -> 0 | H40: =بهمن!G19 -> 0 | I40: =بهمن!H19 -> 0 | J40: =بهمن!I19 -> 0 | K40: =D40+E40+F40+G40+H40+I40+J40 -> 0 | U40: =K40+N40+P40+Q40+R40+S40+T40 -> 0
C41: کسورات | D41: =بهمن!C20 -> 0 | E41: =بهمن!D20 -> 0 | F41: =بهمن!E20 -> 0 | G41: =بهمن!F20 -> 0 | H41: =بهمن!G20 -> 0 | I41: =بهمن!H20 -> 0 | J41: =بهمن!I20 -> 0 | K41: =D41+E41+F41+G41+H41+I41+J41 -> 0 | U41: =K41+N41+P41+Q41+R41+S41+T41 -> 0
B42: اسفند | C42: ارسالی | D42: =اسفند!C18 -> 0 | E42: =اسفند!D18 -> 0 | F42: =اسفند!E18 -> 0 | G42: =اسفند!F18 -> 0 | H42: =اسفند!G18 -> 0 | I42: =اسفند!H18 -> 0 | J42: =اسفند!I18 -> 0 | K42: =D42+E42+F42+G42+H42+I42+J42 -> 0 | L42: =اسفند!K18 -> 0 | M42: =اسفند!L18 -> 0 | N42: =اسفند!M18 -> 0 | O42: =اسفند!N18 -> 0 | P42: =اسفند!O18 -> 0 | Q42: =اسفند!P18 -> 0 | R42: =اسفند!Q18 -> 0 | S42: =اسفند!R18 -> 0 | T42: =اسفند!S18 -> 0 | U42: =SUM(K42:T44)-N42 -> 0
C43: وصولی | D43: =اسفند!C19 -> 0 | E43: =اسفند!D19 -> 0 | F43: =اسفند!E19 -> 0 | G43: =اسفند!F19 -> 0 | H43: =اسفند!G19 -> 0 | I43: =اسفند!H19 -> 0 | J43: =اسفند!I19 -> 0 | K43: =D43+E43+F43+G43+H43+I43+J43 -> 0 | U43: =K43+N43+P43+Q43+R43+S43+T43 -> 0
C44: کسورات | D44: =اسفند!C20 -> 0 | E44: =اسفند!D20 -> 0 | F44: =اسفند!E20 -> 0 | G44: =اسفند!F20 -> 0 | H44: =اسفند!G20 -> 0 | I44: =اسفند!H20 -> 0 | J44: =اسفند!I20 -> 0 | K44: =D44+E44+F44+G44+H44+I44+J44 -> 0 | U44: =K44+N44+P44+Q44+R44+S44+T44 -> 0
B45: جمع کل | C45: ارسالی | D45: =D6+D9+D12+D15+D18+D21+D24+D27+D30+D33+D36+D39+D42 -> 0 | E45: =E6+E9+E12+E15+E18+E21+E24+E27+E30+E33+E36+E39+E42 -> 0 | F45: =F6+F9+F12+F15+F18+F21+F24+F27+F30+F33+F36+F39+F42 -> 0 | G45: =G6+G9+G12+G15+G18+G21+G24+G27+G30+G33+G36+G39+G42 -> 0 | H45: =H6+H9+H12+H15+H18+H21+H24+H27+H30+H33+H36+H39+H42 -> 0 | I45: =I6+I9+I12+I15+I18+I21+I24+I27+I30+I33+I36+I39+I42 -> 0 | J45: =J6+J9+J12+J15+J18+J21+J24+J27+J30+J33+J36+J39+J42 -> 0 | K45: =K6+K9+K12+K15+K18+K21+K24+K27+K30+K33+K36+K39+K42 -> 0 | L45: =SUM(L6:L44) -> 0 | M45: =SUM(M6:M44) -> 0 | N45: =SUM(N6:N44) -> 0 | O45: =SUM(O6:O44) -> 0 | P45: =SUM(P6:P44) -> 0 | Q45: =SUM(Q6:Q44) -> 0 | R45: =SUM(R6:R44) -> 0 | S45: =SUM(S6:S44) -> 0 | T45: =SUM(T6:T44) -> 0 | U45: =SUM(K45:T47)-N45 -> 0
C46: وصولی | D46: =D7+D10+D13+D16+D19+D22+D25+D28+D31+D34+D37+D40+D43 -> 0 | E46: =E7+E10+E13+E16+E19+E22+E25+E28+E31+E34+E37+E40+E43 -> 0 | F46: =F7+F10+F13+F16+F19+F22+F25+F28+F31+F34+F37+F40+F43 -> 0 | G46: =G7+G10+G13+G16+G19+G22+G25+G28+G31+G34+G37+G40+G43 -> 0 | H46: =H7+H10+H13+H16+H19+H22+H25+H28+H31+H34+H37+H40+H43 -> 0 | I46: =I7+I10+I13+I16+I19+I22+I25+I28+I31+I34+I37+I40+I43 -> 0 | J46: =J7+J10+J13+J16+J19+J22+J25+J28+J31+J34+J37+J40+J43 -> 0 | K46: =K7+K10+K13+K16+K19+K22+K25+K28+K31+K34+K37+K40+K43 -> 0 | U46: =K46+N46+P46+Q46+R46+S46+T46 -> 0
C47: کسورات | D47: =D8+D11+D14+D17+D20+D23+D26+D29+D32+D35+D38+D41+D44 -> 0 | E47: =E8+E11+E14+E17+E20+E23+E26+E29+E32+E35+E38+E41+E44 -> 0 | F47: =F8+F11+F14+F17+F20+F23+F26+F29+F32+F35+F38+F41+F44 -> 0 | G47: =G8+G11+G14+G17+G20+G23+G26+G29+G32+G35+G38+G41+G44 -> 0 | H47: =H8+H11+H14+H17+H20+H23+H26+H29+H32+H35+H38+H41+H44 -> 0 | I47: =I8+I11+I14+I17+I20+I23+I26+I29+I32+I35+I38+I41+I44 -> 0 | J47: =J8+J11+J14+J17+J20+J23+J26+J29+J32+J35+J38+J41+J44 -> 0 | K47: =K8+K11+K14+K17+K20+K23+K26+K29+K32+K35+K38+K41+K44 -> 0 | U47: =K47+N47+P47+Q47+R47+S47+T47 -> 0

Sheet 30107
B1: کاربرگ اطلاعات درآمد 1393
B2: نام واحد
B3: برنامه:30107000
B4: دوره | C4: درامد | D4: بیمه ای | L4: کارت بهداشت | M4: سایر درآمد ها | N4: کنترل نسخ دریافتی ارسال نشده | O4: درامد نقدی (صندوق) | P4: بدهکاران اشخاص (بیماران تسویه نشده) | Q4: نیازمندان | R4: ترافیکی | S4: منازل سازمانی | T4: سایر قراردادها ودرامدها | U4: جمع کل درآمد
D5: تامین اجتماعی | E5: خدمات درمانی | F5: کمیته امداد | G5: نیروهای مسلح | H5: بیمه ذغال سنگ | I5: بیمه فولاد | J5: سایر بیمه ها | K5: جمع کل درامد بیمه ای
B6: فروردين | C6: ارسالی | D6: =فروردین!C21 -> 0 | E6: =فروردین!D21 -> 0 | F6: =فروردین!E21 -> 0 | G6: =فروردین!F21 -> 0 | H6: =فروردین!G21 -> 0 | I6: =فروردین!H21 -> 0 | J6: =فروردین!I21 -> 0 | K6: =D6+E6+F6+G6+H6+I6+J6 -> 0 | L6: =فروردین!K21 -> 0 | M6: =فروردین!L21 -> 0 | N6: =فروردین!M21 -> 0 | O6: =فروردین!N21 -> 0 | P6: =فروردین!O21 -> 0 | Q6: =فروردین!P21 -> 0 | R6: =فروردین!Q21 -> 0 | S6: =فروردین!R21 -> 0 | T6: =فروردین!S21 -> 0 | U6: =SUM(K6:T8)-N6-K7-K8 -> 0
C7: وصولی | D7: =فروردین!C22 -> 0 | E7: =فروردین!D22 -> 0 | F7: =فروردین!E22 -> 0 | G7: =فروردین!F22 -> 0 | H7: =فروردین!G22 -> 0 | I7: =فروردین!H22 -> 0 | J7: =فروردین!I22 -> 0 | K7: =D7+E7+F7+G7+H7+I7+J7 -> 0 | U7: =K7+N7+P7+Q7+R7+S7+T7 -> 0
C8: کسورات | D8: =فروردین!C23 -> 0 | E8: =فروردین!D23 -> 0 | F8: =فروردین!E23 -> 0 | G8: =فروردین!F23 -> 0 | H8: =فروردین!G23 -> 0 | I8: =فروردین!H23 -> 0 | J8: =فروردین!I23 -> 0 | K8: =D8+E8+F8+G8+H8+I8+J8 -> 0 | U8: =K8+N8+P8+Q8+R8+S8+T8 -> 0
B9: ارديبهشت | C9: ارسالی | D9: =اردیبهشت!C21 -> 0 | E9: =اردیبهشت!D21 -> 0 | F9: =اردیبهشت!E21 -> 0 | G9: =اردیبهشت!F21 -> 0 | H9: =اردیبهشت!G21 -> 0 | I9: =اردیبهشت!H21 -> 0 | J9: =اردیبهشت!I21 -> 0 | K9: =D9+E9+F9+G9+H9+I9+J9 -> 0 | L9: =اردیبهشت!K21 -> 0 | M9: =اردیبهشت!L21 -> 0 | N9: =اردیبهشت!M21 -> 0 | O9: =اردیبهشت!N21 -> 0 | P9: =اردیبهشت!O21 -> 0 | Q9: =اردیبهشت!P21 -> 0 | R9: =اردیبهشت!Q21 -> 0 | S9: =اردیبهشت!R21 -> 0 | T9: =اردیبهشت!S21 -> 0 | U9: =SUM(K9:T11)-N9 -> 0
C10: وصولی | D10: =اردیبهشت!C22 -> 0 | E10: =اردیبهشت!D22 -> 0 | F10: =اردیبهشت!E22 -> 0 | G10: =اردیبهشت!F22 -> 0 | H10: =اردیبهشت!G22 -> 0 | I10: =اردیبهشت!H22 -> 0 | J10: =اردیبهشت!I22 -> 0 | K10: =D10+E10+F10+G10+H10+I10+J10 -> 0 | U10: =K10+N10+P10+Q10+R10+S10+T10 -> 0
C11: کسورات | D11: =اردیبهشت!C23 -> 0 | E11: =اردیبهشت!D23 -> 0 | F11: =اردیبهشت!E23 -> 0 | G11: =اردیبهشت!F23 -> 0 | H11: =اردیبهشت!G23 -> 0 | I11: =اردیبهشت!H23 -> 0 | J11: =اردیبهشت!I23 -> 0 | K11: =D11+E11+F11+G11+H11+I11+J11 -> 0 | U11: =K11+N11+P11+Q11+R11+S11+T11 -> 0
B12: خرداد | C12: ارسالی | D12: =خرداد!C21 -> 0 | E12: =خرداد!D21 -> 0 | F12: =خرداد!E21 -> 0 | G12: =خرداد!F21 -> 0 | H12: =خرداد!G21 -> 0 | I12: =خرداد!H21 -> 0 | J12: =خرداد!I21 -> 0 | K12: =D12+E12+F12+G12+H12+I12+J12 -> 0 | L12: =خرداد!K21 -> 0 | M12: =خرداد!L21 -> 0 | N12: =خرداد!M21 -> 0 | O12: =خرداد!N21 -> 0 | P12: =خرداد!O21 -> 0 | Q12: =خرداد!P21 -> 0 | R12: =خرداد!Q21 -> 0 | S12: =خرداد!R21 -> 0 | T12: =خرداد!S21 -> 0 | U12: =SUM(K12:T14)-N12 -> 0
C13: وصولی | D13: =خرداد!C22 -> 0 | E13: =خرداد!D22 -> 0 | F13: =خرداد!E22 -> 0 | G13: =خرداد!F22 -> 0 | H13: =خرداد!G22 -> 0 | I13: =خرداد!H22 -> 0 | J13: =خرداد!I22 -> 0 | K13: =D13+E13+F13+G13+H13+I13+J13 -> 0 | U13: =K13+N13+P13+Q13+R13+S13+T13 -> 0
C14: کسورات | D14: =خرداد!C23 -> 0 | E14: =خرداد!D23 -> 0 | F14: =خرداد!E23 -> 0 | G14: =خرداد!F23 -> 0 | H14: =خرداد!G23 -> 0 | I14: =خرداد!H23 -> 0 | J14: =خرداد!I23 -> 0 | K14: =D14+E14+F14+G14+H14+I14+J14 -> 0 | U14: =K14+N14+P14+Q14+R14+S14+T14 -> 0
B15: تير | C15: ارسالی | D15: =تیر!C21 -> 0 | E15: =تیر!D21 -> 0 | F15: =تیر!E21 -> 0 | G15: =تیر!F21 -> 0 | H15: =تیر!G21 -> 0 | I15: =تیر!H21 -> 0 | J15: =تیر!I21 -> 0 | K15: =D15+E15+F15+G15+H15+I15+J15 -> 0 | L15: =تیر!K21 -> 0 | M15: =تیر!L21 -> 0 | N15: =تیر!M21 -> 0 | O15: =تیر!N21 -> 0 | P15: =تیر!O21 -> 0 | Q15: =تیر!P21 -> 0 | R15: =تیر!Q21 -> 0 | S15: =تیر!R21 -> 0 | T15: =تیر!S21 -> 0 | U15: =SUM(K15:T17)-N15 -> 0
C16: وصولی | D16: =تیر!C22 -> 0 | E16: =تیر!D22 -> 0 | F16: =تیر!E22 -> 0 | G16: =تیر!F22 -> 0 | H16: =تیر!G22 -> 0 | I16: =تیر!H22 -> 0 | J16: =تیر!I22 -> 0 | K16: =D16+E16+F16+G16+H16+I16+J16 -> 0 | U16: =K16+N16+P16+Q16+R16+S16+T16 -> 0
C17: کسورات | D17: =تیر!C23 -> 0 | E17: =تیر!D23 -> 0 | F17: =تیر!E23 -> 0 | G17: =تیر!F23 -> 0 | H17: =تیر!G23 -> 0 | I17: =تیر!H23 -> 0 | J17: =تیر!I23 -> 0 | K17: =D17+E17+F17+G17+H17+I17+J17 -> 0 | U17: =K17+N17+P17+Q17+R17+S17+T17 -> 0
B18: مرداد | C18: ارسالی | D18: =مرداد!C21 -> 0 | E18: =مرداد!D21 -> 0 | F18: =مرداد!E21 -> 0 | G18: =مرداد!F21 -> 0 | H18: =مرداد!G21 -> 0 | I18: =مرداد!H21 -> 0 | J18: =مرداد!I21 -> 0 | K18: =D18+E18+F18+G18+H18+I18+J18 -> 0 | L18: =مرداد!K21 -> 0 | M18: =مرداد!L21 -> 0 | N18: =مرداد!M21 -> 0 | O18: =مرداد!N21 -> 0 | P18: =مرداد!O21 -> 0 | Q18: =مرداد!P21 -> 0 | R18: =مرداد!Q21 -> 0 | S18: =مرداد!R21 -> 0 | T18: =مرداد!S21 -> 0 | U18: =SUM(K18:T20)-N18 -> 0
C19: وصولی | D19: =مرداد!C22 -> 0 | E19: =مرداد!D22 -> 0 | F19: =مرداد!E22 -> 0 | G19: =مرداد!F22 -> 0 | H19: =مرداد!G22 -> 0 | I19: =مرداد!H22 -> 0 | J19: =مرداد!I22 -> 0 | K19: =D19+E19+F19+G19+H19+I19+J19 -> 0 | U19: =K19+N19+P19+Q19+R19+S19+T19 -> 0
C20: کسورات | D20: =مرداد!C23 -> 0 | E20: =مرداد!D23 -> 0 | F20: =مرداد!E23 -> 0 | G20: =مرداد!F23 -> 0 | H20: =مرداد!G23 -> 0 | I20: =مرداد!H23 -> 0 | J20: =مرداد!I23 -> 0 | K20: =D20+E20+F20+G20+H20+I20+J20 -> 0 | U20: =K20+N20+P20+Q20+R20+S20+T20 -> 0
B21: تغییر تعرفه | C21: ارسالی | D21: ='تغییر تعرفه'!C21 -> 0 | E21: ='تغییر تعرفه'!D21 -> 0 | F21: ='تغییر تعرفه'!E21 -> 0 | G21: ='تغییر تعرفه'!F21 -> 0 | H21: ='تغییر تعرفه'!G21 -> 0 | I21: ='تغییر تعرفه'!H21 -> 0 | J21: ='تغییر تعرفه'!I21 -> 0 | K21: =D21+E21+F21+G21+H21+I21+J21 -> 0 | L21: ='تغییر تعرفه'!K21 -> 0 | M21: ='تغییر تعرفه'!L21 -> 0 | N21: ='تغییر تعرفه'!M21 -> 0 | O21: ='تغییر تعرفه'!N21 -> 0 | P21: ='تغییر تعرفه'!O21 -> 0 | Q21: ='تغییر تعرفه'!P21 -> 0 | R21: ='تغییر تعرفه'!Q21 -> 0 | S21: ='تغییر تعرفه'!R21 -> 0 | T21: ='تغییر تعرفه'!S21 -> 0 | U21: =SUM(K21:T23)-N21 -> 0
C22: وصولی | D22: ='تغییر تعرفه'!C22 -> 0 | E22: ='تغییر تعرفه'!D22 -> 0 | F22: ='تغییر تعرفه'!E22 -> 0 | G22: ='تغییر تعرفه'!F22 -> 0 | H22: ='تغییر تعرفه'!G22 -> 0 | I22: ='تغییر تعرفه'!H22 -> 0 | J22: ='تغییر تعرفه'!I22 -> 0 | K22: =D22+E22+F22+G22+H22+I22+J22 -> 0 | U22: =K22+N22+P22+Q22+R22+S22+T22 -> 0
C23: کسورات | D23: ='تغییر تعرفه'!C23 -> 0 | E23: ='تغییر تعرفه'!D23 -> 0 | F23: ='تغییر تعرفه'!E23 -> 0 | G23: ='تغییر تعرفه'!F23 -> 0 | H23: ='تغییر تعرفه'!G23 -> 0 | I23: ='تغییر تعرفه'!H23 -> 0 | J23: ='تغییر تعرفه'!I23 -> 0 | K23: =D23+E23+F23+G23+H23+I23+J23 -> 0 | U23: =K23+N23+P23+Q23+R23+S23+T23 -> 0
B24: شهريور | C24: ارسالی | D24: =شهریور!C21 -> 0 | E24: =شهریور!D21 -> 0 | F24: =شهریور!E21 -> 0 | G24: =شهریور!F21 -> 0 | H24: =شهریور!G21 -> 0 | I24: =شهریور!H21 -> 0 | J24: =شهریور!I21 -> 0 | K24: =D24+E24+F24+G24+H24+I24+J24 -> 0 | L24: =شهریور!K21 -> 0 | M24: =شهریور!L21 -> 0 | N24: =شهریور!M21 -> 0 | O24: =شهریور!N21 -> 0 | P24: =شهریور!O21 -> 0 | Q24: =شهریور!P21 -> 0 | R24: =شهریور!Q21 -> 0 | S24: =شهریور!R21 -> 0 | T24: =شهریور!S21 -> 0 | U24: =SUM(K24:T26)-N24 -> 0
C25: وصولی | D25: =شهریور!C22 -> 0 | E25: =شهریور!D22 -> 0 | F25: =شهریور!E22 -> 0 | G25: =شهریور!F22 -> 0 | H25: =شهریور!G22 -> 0 | I25: =شهریور!H22 -> 0 | J25: =شهریور!I22 -> 0 | K25: =D25+E25+F25+G25+H25+I25+J25 -> 0 | U25: =K25+N25+P25+Q25+R25+S25+T25 -> 0
C26: کسورات | D26: =شهریور!C23 -> 0 | E26: =شهریور!D23 -> 0 | F26: =شهریور!E23 -> 0 | G26: =شهریور!F23 -> 0 | H26: =شهریور!G23 -> 0 | I26: =شهریور!H23 -> 0 | J26: =شهریور!I23 -> 0 | K26: =D26+E26+F26+G26+H26+I26+J26 -> 0 | U26: =K26+N26+P26+Q26+R26+S26+T26 -> 0
B27: مهر | C27: ارسالی | D27: =مهر!C21 -> 0 | E27: =مهر!D21 -> 0 | F27: =مهر!E21 -> 0 | G27: =مهر!F21 -> 0 | H27: =مهر!G21 -> 0 | I27: =مهر!H21 -> 0 | J27: =مهر!I21 -> 0 | K27: =D27+E27+F27+G27+H27+I27+J27 -> 0 | L27: =مهر!K21 -> 0 | M27: =مهر!L21 -> 0 | N27: =مهر!M21 -> 0 | O27: =مهر!N21 -> 0 | P27: =مهر!O21 -> 0 | Q27: =مهر!P21 -> 0 | R27: =مهر!Q21 -> 0 | S27: =مهر!R21 -> 0 | T27: =مهر!S21 -> 0 | U27: =SUM(K27:T29)-N27 -> 0
C28: وصولی | D28: =مهر!C22 -> 0 | E28: =مهر!D22 -> 0 | F28: =مهر!E22 -> 0 | G28: =مهر!F22 -> 0 | H28: =مهر!G22 -> 0 | I28: =مهر!H22 -> 0 | J28: =مهر!I22 -> 0 | K28: =D28+E28+F28+G28+H28+I28+J28 -> 0 | U28: =K28+N28+P28+Q28+R28+S28+T28 -> 0
C29: کسورات | D29: =مهر!C23 -> 0 | E29: =مهر!D23 -> 0 | F29: =مهر!E23 -> 0 | G29: =مهر!F23 -> 0 | H29: =مهر!G23 -> 0 | I29: =مهر!H23 -> 0 | J29: =مهر!I23 -> 0 | K29: =D29+E29+F29+G29+H29+I29+J29 -> 0 | U29: =K29+N29+P29+Q29+R29+S29+T29 -> 0
B30: آبان | C30: ارسالی | D30: =آبان!C21 -> 0 | E30: =آبان!D21 -> 0 | F30: =آبان!E21 -> 0 | G30: =آبان!F21 -> 0 | H30: =آبان!G21 -> 0 | I30: =آبان!H21 -> 0 | J30: =آبان!I21 -> 0 | K30: =D30+E30+F30+G30+H30+I30+J30 -> 0 | L30: =آبان!K21 -> 0 | M30: =آبان!L21 -> 0 | N30: =آبان!M21 -> 0 | O30: =آبان!N21 -> 0 | P30: =آبان!O21 -> 0 | Q30: =آبان!P21 -> 0 | R30: =آبان!Q21 -> 0 | S30: =آبان!R21 -> 0 | T30: =آبان!S21 -> 0 | U30: =SUM(K30:T32)-N30 -> 0
C31: وصولی | D31: =آبان!C22 -> 0 | E31: =آبان!D22 -> 0 | F31: =آبان!E22 -> 0 | G31: =آبان!F22 -> 0 | H31: =آبان!G22 -> 0 | I31: =آبان!H22 -> 0 | J31: =آبان!I22 -> 0 | K31: =D31+E31+F31+G31+H31+I31+J31 -> 0 | U31: =K31+N31+P31+Q31+R31+S31+T31 -> 0
C32: کسورات | D32: =آبان!C23 -> 0 | E32: =آبان!D23 -> 0 | F32: =آبان!E23 -> 0 | G32: =آبان!F23 -> 0 | H32: =آبان!G23 -> 0 | I32: =آبان!H23 -> 0 | J32: =آبان!I23 -> 0 | K32: =D32+E32+F32+G32+H32+I32+J32 -> 0 | U32: =K32+N32+P32+Q32+R32+S32+T32 -> 0
B33: آذر | C33: ارسالی | D33: =آذر!C21 -> 0 | E33: =آذر!D21 -> 0 | F33: =آذر!E21 -> 0 | G33: =آذر!F21 -> 0 | H33: =آذر!G21 -> 0 | I33: =آذر!H21 -> 0 | J33: =آذر!I21 -> 0 | K33: =D33+E33+F33+G33+H33+I33+J33 -> 0 | L33: =آذر!K21 -> 0 | M33: =آذر!L21 -> 0 | N33: =آذر!M21 -> 0 | O33: =آذر!N21 -> 0 | P33: =آذر!O21 -> 0 | Q33: =آذر!P21 -> 0 | R33: =آذر!Q21 -> 0 | S33: =آذر!R21 -> 0 | T33: =آذر!S21 -> 0 | U33: =SUM(K33:T35)-N33 -> 0
C34: وصولی | D34: =آذر!C22 -> 0 | E34: =آذر!D22 -> 0 | F34: =آذر!E22 -> 0 | G34: =آذر!F22 -> 0 | H34: =آذر!G22 -> 0 | I34: =آذر!H22 -> 0 | J34: =آذر!I22 -> 0 | K34: =D34+E34+F34+G34+H34+I34+J34 -> 0 | U34: =K34+N34+P34+Q34+R34+S34+T34 -> 0
C35: کسورات | D35: =آذر!C23 -> 0 | E35: =آذر!D23 -> 0 | F35: =آذر!E23 -> 0 | G35: =آذر!F23 -> 0 | H35: =آذر!G23 -> 0 | I35: =آذر!H23 -> 0 | J35: =آذر!I23 -> 0 | K35: =D35+E35+F35+G35+H35+I35+J35 -> 0 | U35: =K35+N35+P35+Q35+R35+S35+T35 -> 0
B36: دي | C36: ارسالی | D36: =دی!C21 -> 0 | E36: =دی!D21 -> 0 | F36: =دی!E21 -> 0 | G36: =دی!F21 -> 0 | H36: =دی!G21 -> 0 | I36: =دی!H21 -> 0 | J36: =دی!I21 -> 0 | K36: =D36+E36+F36+G36+H36+I36+J36 -> 0 | L36: =دی!K21 -> 0 | M36: =دی!L21 -> 0 | N36: =دی!M21 -> 0 | O36: =دی!N21 -> 0 | P36: =دی!O21 -> 0 | Q36: =دی!P21 -> 0 | R36: =دی!Q21 -> 0 | S36: =دی!R21 -> 0 | T36: =دی!S21 -> 0 | U36: =SUM(K36:T38)-N36 -> 0
C37: وصولی | D37: =دی!C22 -> 0 | E37: =دی!D22 -> 0 | F37: =دی!E22 -> 0 | G37: =دی!F22 -> 0 | H37: =دی!G22 -> 0 | I37: =دی!H22 -> 0 | J37: =دی!I22 -> 0 | K37: =D37+E37+F37+G37+H37+I37+J37 -> 0 | U37: =K37+N37+P37+Q37+R37+S37+T37 -> 0
C38: کسورات | D38: =دی!C23 -> 0 | E38: =دی!D23 -> 0 | F38: =دی!E23 -> 0 | G38: =دی!F23 -> 0 | H38: =دی!G23 -> 0 | I38: =دی!H23 -> 0 | J38: =دی!I23 -> 0 | K38: =D38+E38+F38+G38+H38+I38+J38 -> 0 | U38: =K38+N38+P38+Q38+R38+S38+T38 -> 0
B39: بهمن | C39: ارسالی | D39: =بهمن!C21 -> 0 | E39: =بهمن!D21 -> 0 | F39: =بهمن!E21 -> 0 | G39: =بهمن!F21 -> 0 | H39: =بهمن!G21 -> 0 | I39: =بهمن!H21 -> 0 | J39: =بهمن!I21 -> 0 | K39: =D39+E39+F39+G39+H39+I39+J39 -> 0 | L39: =بهمن!K21 -> 0 | M39: =بهمن!L21 -> 0 | N39: =بهمن!M21 -> 0 | O39: =بهمن!N21 -> 0 | P39: =بهمن!O21 -> 0 | Q39: =بهمن!P21 -> 0 | R39: =بهمن!Q21 -> 0 | S39: =بهمن!R21 -> 0 | T39: =بهمن!S21 -> 0 | U39: =SUM(K39:T41)-N39 -> 0
C40: وصولی | D40: =بهمن!C22 -> 0 | E40: =بهمن!D22 -> 0 | F40: =بهمن!E22 -> 0 | G40: =بهمن!F22 -> 0 | H40: =بهمن!G22 -> 0 | I40: =بهمن!H22 -> 0 | J40: =بهمن!I22 -> 0 | K40: =D40+E40+F40+G40+H40+I40+J40 -> 0 | U40: =K40+N40+P40+Q40+R40+S40+T40 -> 0
C41: کسورات | D41: =بهمن!C23 -> 0 | E41: =بهمن!D23 -> 0 | F41: =بهمن!E23 -> 0 | G41: =بهمن!F23 -> 0 | H41: =بهمن!G23 -> 0 | I41: =بهمن!H23 -> 0 | J41: =بهمن!I23 -> 0 | K41: =D41+E41+F41+G41+H41+I41+J41 -> 0 | U41: =K41+N41+P41+Q41+R41+S41+T41 -> 0
B42: اسفند | C42: ارسالی | D42: =اسفند!C21 -> 0 | E42: =اسفند!D21 -> 0 | F42: =اسفند!E21 -> 0 | G42: =اسفند!F21 -> 0 | H42: =اسفند!G21 -> 0 | I42: =اسفند!H21 -> 0 | J42: =اسفند!I21 -> 0 | K42: =D42+E42+F42+G42+H42+I42+J42 -> 0 | L42: =اسفند!K21 -> 0 | M42: =اسفند!L21 -> 0 | N42: =اسفند!M21 -> 0 | O42: =اسفند!N21 -> 0 | P42: =اسفند!O21 -> 0 | Q42: =اسفند!P21 -> 0 | R42: =اسفند!Q21 -> 0 | S42: =اسفند!R21 -> 0 | T42: =اسفند!S21 -> 0 | U42: =SUM(K42:T44)-N42 -> 0
C43: وصولی | D43: =اسفند!C22 -> 0 | E43: =اسفند!D22 -> 0 | F43: =اسفند!E22 -> 0 | G43: =اسفند!F22 -> 0 | H43: =اسفند!G22 -> 0 | I43: =اسفند!H22 -> 0 | J43: =اسفند!I22 -> 0 | K43: =D43+E43+F43+G43+H43+I43+J43 -> 0 | U43: =K43+N43+P43+Q43+R43+S43+T43 -> 0
C44: کسورات | D44: =اسفند!C23 -> 0 | E44: =اسفند!D23 -> 0 | F44: =اسفند!E23 -> 0 | G44: =اسفند!F23 -> 0 | H44: =اسفند!G23 -> 0 | I44: =اسفند!H23 -> 0 | J44: =اسفند!I23 -> 0 | K44: =D44+E44+F44+G44+H44+I44+J44 -> 0 | U44: =K44+N44+P44+Q44+R44+S44+T44 -> 0
B45: جمع کل | C45: ارسالی | D45: =D6+D9+D12+D15+D18+D21+D24+D27+D30+D33+D36+D39+D42 -> 0 | E45: =E6+E9+E12+E15+E18+E21+E24+E27+E30+E33+E36+E39+E42 -> 0 | F45: =F6+F9+F12+F15+F18+F21+F24+F27+F30+F33+F36+F39+F42 -> 0 | G45: =G6+G9+G12+G15+G18+G21+G24+G27+G30+G33+G36+G39+G42 -> 0 | H45: =H6+H9+H12+H15+H18+H21+H24+H27+H30+H33+H36+H39+H42 -> 0 | I45: =I6+I9+I12+I15+I18+I21+I24+I27+I30+I33+I36+I39+I42 -> 0 | J45: =J6+J9+J12+J15+J18+J21+J24+J27+J30+J33+J36+J39+J42 -> 0 | K45: =K6+K9+K12+K15+K18+K21+K24+K27+K30+K33+K36+K39+K42 -> 0 | L45: =SUM(L6:L44) -> 0 | M45: =SUM(M6:M44) -> 0 | N45: =SUM(N6:N44) -> 0 | O45: =SUM(O6:O44) -> 0 | P45: =SUM(P6:P44) -> 0 | Q45: =SUM(Q6:Q44) -> 0 | R45: =SUM(R6:R44) -> 0 | S45: =SUM(S6:S44) -> 0 | T45: =SUM(T6:T44) -> 0 | U45: =SUM(K45:T47)-N45 -> 0
C46: وصولی | D46: =D7+D10+D13+D16+D19+D22+D25+D28+D31+D34+D37+D40+D43 -> 0 | E46: =E7+E10+E13+E16+E19+E22+E25+E28+E31+E34+E37+E40+E43 -> 0 | F46: =F7+F10+F13+F16+F19+F22+F25+F28+F31+F34+F37+F40+F43 -> 0 | G46: =G7+G10+G13+G16+G19+G22+G25+G28+G31+G34+G37+G40+G43 -> 0 | H46: =H7+H10+H13+H16+H19+H22+H25+H28+H31+H34+H37+H40+H43 -> 0 | I46: =I7+I10+I13+I16+I19+I22+I25+I28+I31+I34+I37+I40+I43 -> 0 | J46: =J7+J10+J13+J16+J19+J22+J25+J28+J31+J34+J37+J40+J43 -> 0 | K46: =K7+K10+K13+K16+K19+K22+K25+K28+K31+K34+K37+K40+K43 -> 0 | U46: =K46+N46+P46+Q46+R46+S46+T46 -> 0
C47: کسورات | D47: =D8+D11+D14+D17+D20+D23+D26+D29+D32+D35+D38+D41+D44 -> 0 | E47: =E8+E11+E14+E17+E20+E23+E26+E29+E32+E35+E38+E41+E44 -> 0 | F47: =F8+F11+F14+F17+F20+F23+F26+F29+F32+F35+F38+F41+F44 -> 0 | G47: =G8+G11+G14+G17+G20+G23+G26+G29+G32+G35+G38+G41+G44 -> 0 | H47: =H8+H11+H14+H17+H20+H23+H26+H29+H32+H35+H38+H41+H44 -> 0 | I47: =I8+I11+I14+I17+I20+I23+I26+I29+I32+I35+I38+I41+I44 -> 0 | J47: =J8+J11+J14+J17+J20+J23+J26+J29+J32+J35+J38+J41+J44 -> 0 | K47: =K8+K11+K14+K17+K20+K23+K26+K29+K32+K35+K38+K41+K44 -> 0 | U47: =K47+N47+P47+Q47+R47+S47+T47 -> 0

Sheet 30129
B1: کاربرگ اطلاعات درآمد 1393
B2: نام واحد
B3: برنامه:30129000
B4: دوره | C4: درامد | D4: بیمه ای | L4: کارت بهداشت | M4: سایر درآمد ها | N4: کنترل نسخ دریافتی ارسال نشده | O4: درامد نقدی (صندوق) | P4: بدهکاران اشخاص (بیماران تسویه نشده) | Q4: نیازمندان | R4: ترافیکی | S4: منازل سازمانی | T4: سایر قراردادها ودرامدها | U4: جمع کل درآمد
D5: تامین اجتماعی | E5: خدمات درمانی | F5: کمیته امداد | G5: نیروهای مسلح | H5: بیمه ذغال سنگ | I5: بیمه فولاد | J5: سایر بیمه ها | K5: جمع کل درامد بیمه ای
B6: فروردين | C6: ارسالی | D6: =فروردین!C24 -> 0 | E6: =فروردین!D24 -> 0 | F6: =فروردین!E24 -> 0 | G6: =فروردین!F24 -> 0 | H6: =فروردین!G24 -> 0 | I6: =فروردین!H24 -> 0 | J6: =فروردین!I24 -> 0 | K6: =D6+E6+F6+G6+H6+I6+J6 -> 0 | L6: =فروردین!K24 -> 0 | M6: =فروردین!L24 -> 0 | N6: =فروردین!M24 -> 0 | O6: =فروردین!N24 -> 0 | P6: =فروردین!O24 -> 0 | Q6: =فروردین!P24 -> 0 | R6: =فروردین!Q24 -> 0 | S6: =فروردین!R24 -> 0 | T6: =فروردین!S24 -> 0 | U6: =SUM(K6:T8)-N6-K7-K8 -> 0
C7: وصولی | D7: =فروردین!C25 -> 0 | E7: =فروردین!D25 -> 0 | F7: =فروردین!E25 -> 0 | G7: =فروردین!F25 -> 0 | H7: =فروردین!G25 -> 0 | I7: =فروردین!H25 -> 0 | J7: =فروردین!I25 -> 0 | K7: =D7+E7+F7+G7+H7+I7+J7 -> 0 | U7: =K7+N7+P7+Q7+R7+S7+T7 -> 0
C8: کسورات | D8: =فروردین!C26 -> 0 | E8: =فروردین!D26 -> 0 | F8: =فروردین!E26 -> 0 | G8: =فروردین!F26 -> 0 | H8: =فروردین!G26 -> 0 | I8: =فروردین!H26 -> 0 | J8: =فروردین!I26 -> 0 | K8: =D8+E8+F8+G8+H8+I8+J8 -> 0 | U8: =K8+N8+P8+Q8+R8+S8+T8 -> 0
B9: ارديبهشت | C9: ارسالی | D9: =اردیبهشت!C24 -> 0 | E9: =اردیبهشت!D24 -> 0 | F9: =اردیبهشت!E24 -> 0 | G9: =اردیبهشت!F24 -> 0 | H9: =اردیبهشت!G24 -> 0 | I9: =اردیبهشت!H24 -> 0 | J9: =اردیبهشت!I24 -> 0 | K9: =D9+E9+F9+G9+H9+I9+J9 -> 0 | L9: =اردیبهشت!K24 -> 0 | M9: =اردیبهشت!L24 -> 0 | N9: =اردیبهشت!M24 -> 0 | O9: =اردیبهشت!N24 -> 0 | P9: =اردیبهشت!O24 -> 0 | Q9: =اردیبهشت!P24 -> 0 | R9: =اردیبهشت!Q24 -> 0 | S9: =اردیبهشت!R24 -> 0 | T9: =اردیبهشت!S24 -> 0 | U9: =SUM(K9:T11)-N9 -> 0
C10: وصولی | D10: =اردیبهشت!C25 -> 0 | E10: =اردیبهشت!D25 -> 0 | F10: =اردیبهشت!E25 -> 0 | G10: =اردیبهشت!F25 -> 0 | H10: =اردیبهشت!G25 -> 0 | I10: =اردیبهشت!H25 -> 0 | J10: =اردیبهشت!I25 -> 0 | K10: =D10+E10+F10+G10+H10+I10+J10 -> 0 | U10: =K10+N10+P10+Q10+R10+S10+T10 -> 0
C11: کسورات | D11: =اردیبهشت!C26 -> 0 | E11: =اردیبهشت!D26 -> 0 | F11: =اردیبهشت!E26 -> 0 | G11: =اردیبهشت!F26 -> 0 | H11: =اردیبهشت!G26 -> 0 | I11: =اردیبهشت!H26 -> 0 | J11: =اردیبهشت!I26 -> 0 | K11: =D11+E11+F11+G11+H11+I11+J11 -> 0 | U11: =K11+N11+P11+Q11+R11+S11+T11 -> 0
B12: خرداد | C12: ارسالی | D12: =خرداد!C24 -> 0 | E12: =خرداد!D24 -> 0 | F12: =خرداد!E24 -> 0 | G12: =خرداد!F24 -> 0 | H12: =خرداد!G24 -> 0 | I12: =خرداد!H24 -> 0 | J12: =خرداد!I24 -> 0 | K12: =D12+E12+F12+G12+H12+I12+J12 -> 0 | L12: =خرداد!K24 -> 0 | M12: =خرداد!L24 -> 0 | N12: =خرداد!M24 -> 0 | O12: =خرداد!N24 -> 0 | P12: =خرداد!O24 -> 0 | Q12: =خرداد!P24 -> 0 | R12: =خرداد!Q24 -> 0 | S12: =خرداد!R24 -> 0 | T12: =خرداد!S24 -> 0 | U12: =SUM(K12:T14)-N12 -> 0
C13: وصولی | D13: =خرداد!C25 -> 0 | E13: =خرداد!D25 -> 0 | F13: =خرداد!E25 -> 0 | G13: =خرداد!F25 -> 0 | H13: =خرداد!G25 -> 0 | I13: =خرداد!H25 -> 0 | J13: =خرداد!I25 -> 0 | K13: =D13+E13+F13+G13+H13+I13+J13 -> 0 | U13: =K13+N13+P13+Q13+R13+S13+T13 -> 0
C14: کسورات | D14: =خرداد!C26 -> 0 | E14: =خرداد!D26 -> 0 | F14: =خرداد!E26 -> 0 | G14: =خرداد!F26 -> 0 | H14: =خرداد!G26 -> 0 | I14: =خرداد!H26 -> 0 | J14: =خرداد!I26 -> 0 | K14: =D14+E14+F14+G14+H14+I14+J14 -> 0 | U14: =K14+N14+P14+Q14+R14+S14+T14 -> 0
B15: تير | C15: ارسالی | D15: =تیر!C24 -> 0 | E15: =تیر!D24 -> 0 | F15: =تیر!E24 -> 0 | G15: =تیر!F24 -> 0 | H15: =تیر!G24 -> 0 | I15: =تیر!H24 -> 0 | J15: =تیر!I24 -> 0 | K15: =D15+E15+F15+G15+H15+I15+J15 -> 0 | L15: =تیر!K24 -> 0 | M15: =تیر!L24 -> 0 | N15: =تیر!M24 -> 0 | O15: =تیر!N24 -> 0 | P15: =تیر!O24 -> 0 | Q15: =تیر!P24 -> 0 | R15: =تیر!Q24 -> 0 | S15: =تیر!R24 -> 0 | T15: =تیر!S24 -> 0 | U15: =SUM(K15:T17)-N15 -> 0
C16: وصولی | D16: =تیر!C25 -> 0 | E16: =تیر!D25 -> 0 | F16: =تیر!E25 -> 0 | G16: =تیر!F25 -> 0 | H16: =تیر!G25 -> 0 | I16: =تیر!H25 -> 0 | J16: =تیر!I25 -> 0 | K16: =D16+E16+F16+G16+H16+I16+J16 -> 0 | U16: =K16+N16+P16+Q16+R16+S16+T16 -> 0
C17: کسورات | D17: =تیر!C26 -> 0 | E17: =تیر!D26 -> 0 | F17: =تیر!E26 -> 0 | G17: =تیر!F26 -> 0 | H17: =تیر!G26 -> 0 | I17: =تیر!H26 -> 0 | J17: =تیر!I26 -> 0 | K17: =D17+E17+F17+G17+H17+I17+J17 -> 0 | U17: =K17+N17+P17+Q17+R17+S17+T17 -> 0
B18: مرداد | C18: ارسالی | D18: =مرداد!C24 -> 0 | E18: =مرداد!D24 -> 0 | F18: =مرداد!E24 -> 0 | G18: =مرداد!F24 -> 0 | H18: =مرداد!G24 -> 0 | I18: =مرداد!H24 -> 0 | J18: =مرداد!I24 -> 0 | K18: =D18+E18+F18+G18+H18+I18+J18 -> 0 | L18: =مرداد!K24 -> 0 | M18: =مرداد!L24 -> 0 | N18: =مرداد!M24 -> 0 | O18: =مرداد!N24 -> 0 | P18: =مرداد!O24 -> 0 | Q18: =مرداد!P24 -> 0 | R18: =مرداد!Q24 -> 0 | S18: =مرداد!R24 -> 0 | T18: =مرداد!S24 -> 0 | U18: =SUM(K18:T20)-N18 -> 0
C19: وصولی | D19: =مرداد!C25 -> 0 | E19: =مرداد!D25 -> 0 | F19: =مرداد!E25 -> 0 | G19: =مرداد!F25 -> 0 | H19: =مرداد!G25 -> 0 | I19: =مرداد!H25 -> 0 | J19: =مرداد!I25 -> 0 | K19: =D19+E19+F19+G19+H19+I19+J19 -> 0 | U19: =K19+N19+P19+Q19+R19+S19+T19 -> 0
C20: کسورات | D20: =مرداد!C26 -> 0 | E20: =مرداد!D26 -> 0 | F20: =مرداد!E26 -> 0 | G20: =مرداد!F26 -> 0 | H20: =مرداد!G26 -> 0 | I20: =مرداد!H26 -> 0 | J20: =مرداد!I26 -> 0 | K20: =D20+E20+F20+G20+H20+I20+J20 -> 0 | U20: =K20+N20+P20+Q20+R20+S20+T20 -> 0
B21: تغییر تعرفه | C21: ارسالی | D21: ='تغییر تعرفه'!C24 -> 0 | E21: ='تغییر تعرفه'!D24 -> 0 | F21: ='تغییر تعرفه'!E24 -> 0 | G21: ='تغییر تعرفه'!F24 -> 0 | H21: ='تغییر تعرفه'!G24 -> 0 | I21: ='تغییر تعرفه'!H24 -> 0 | J21: ='تغییر تعرفه'!I24 -> 0 | K21: =D21+E21+F21+G21+H21+I21+J21 -> 0 | L21: ='تغییر تعرفه'!K24 -> 0 | M21: ='تغییر تعرفه'!L24 -> 0 | N21: ='تغییر تعرفه'!M24 -> 0 | O21: ='تغییر تعرفه'!N24 -> 0 | P21: ='تغییر تعرفه'!O24 -> 0 | Q21: ='تغییر تعرفه'!P24 -> 0 | R21: ='تغییر تعرفه'!Q24 -> 0 | S21: ='تغییر تعرفه'!R24 -> 0 | T21: ='تغییر تعرفه'!S24 -> 0 | U21: =SUM(K21:T23)-N21 -> 0
C22: وصولی | D22: ='تغییر تعرفه'!C25 -> 0 | E22: ='تغییر تعرفه'!D25 -> 0 | F22: ='تغییر تعرفه'!E25 -> 0 | G22: ='تغییر تعرفه'!F25 -> 0 | H22: ='تغییر تعرفه'!G25 -> 0 | I22: ='تغییر تعرفه'!H25 -> 0 | J22: ='تغییر تعرفه'!I25 -> 0 | K22: =D22+E22+F22+G22+H22+I22+J22 -> 0 | U22: =K22+N22+P22+Q22+R22+S22+T22 -> 0
C23: کسورات | D23: ='تغییر تعرفه'!C26 -> 0 | E23: ='تغییر تعرفه'!D26 -> 0 | F23: ='تغییر تعرفه'!E26 -> 0 | G23: ='تغییر تعرفه'!F26 -> 0 | H23: ='تغییر تعرفه'!G26 -> 0 | I23: ='تغییر تعرفه'!H26 -> 0 | J23: ='تغییر تعرفه'!I26 -> 0 | K23: =D23+E23+F23+G23+H23+I23+J23 -> 0 | U23: =K23+N23+P23+Q23+R23+S23+T23 -> 0
B24: شهريور | C24: ارسالی | D24: =شهریور!C24 -> 0 | E24: =شهریور!D24 -> 0 | F24: =شهریور!E24 -> 0 | G24: =شهریور!F24 -> 0 | H24: =شهریور!G24 -> 0 | I24: =شهریور!H24 -> 0 | J24: =شهریور!I24 -> 0 | K24: =D24+E24+F24+G24+H24+I24+J24 -> 0 | L24: =شهریور!K24 -> 0 | M24: =شهریور!L24 -> 0 | N24: =شهریور!M24 -> 0 | O24: =شهریور!N24 -> 0 | P24: =شهریور!O24 -> 0 | Q24: =شهریور!P24 -> 0 | R24: =شهریور!Q24 -> 0 | S24: =شهریور!R24 -> 0 | T24: =شهریور!S24 -> 0 | U24: =SUM(K24:T26)-N24 -> 0
C25: وصولی | D25: =شهریور!C25 -> 0 | E25: =شهریور!D25 -> 0 | F25: =شهریور!E25 -> 0 | G25: =شهریور!F25 -> 0 | H25: =شهریور!G25 -> 0 | I25: =شهریور!H25 -> 0 | J25: =شهریور!I25 -> 0 | K25: =D25+E25+F25+G25+H25+I25+J25 -> 0 | U25: =K25+N25+P25+Q25+R25+S25+T25 -> 0
C26: کسورات | D26: =شهریور!C26 -> 0 | E26: =شهریور!D26 -> 0 | F26: =شهریور!E26 -> 0 | G26: =شهریور!F26 -> 0 | H26: =شهریور!G26 -> 0 | I26: =شهریور!H26 -> 0 | J26: =شهریور!I26 -> 0 | K26: =D26+E26+F26+G26+H26+I26+J26 -> 0 | U26: =K26+N26+P26+Q26+R26+S26+T26 -> 0
B27: مهر | C27: ارسالی | D27: =مهر!C24 -> 0 | E27: =مهر!D24 -> 0 | F27: =مهر!E24 -> 0 | G27: =مهر!F24 -> 0 | H27: =مهر!G24 -> 0 | I27: =مهر!H24 -> 0 | J27: =مهر!I24 -> 0 | K27: =D27+E27+F27+G27+H27+I27+J27 -> 0 | L27: =مهر!K24 -> 0 | M27: =مهر!L24 -> 0 | N27: =مهر!M24 -> 0 | O27: =مهر!N24 -> 0 | P27: =مهر!O24 -> 0 | Q27: =مهر!P24 -> 0 | R27: =مهر!Q24 -> 0 | S27: =مهر!R24 -> 0 | T27: =مهر!S24 -> 0 | U27: =SUM(K27:T29)-N27 -> 0
C28: وصولی | D28: =مهر!C25 -> 0 | E28: =مهر!D25 -> 0 | F28: =مهر!E25 -> 0 | G28: =مهر!F25 -> 0 | H28: =مهر!G25 -> 0 | I28: =مهر!H25 -> 0 | J28: =مهر!I25 -> 0 | K28: =D28+E28+F28+G28+H28+I28+J28 -> 0 | U28: =K28+N28+P28+Q28+R28+S28+T28 -> 0
C29: کسورات | D29: =مهر!C26 -> 0 | E29: =مهر!D26 -> 0 | F29: =مهر!E26 -> 0 | G29: =مهر!F26 -> 0 | H29: =مهر!G26 -> 0 | I29: =مهر!H26 -> 0 | J29: =مهر!I26 -> 0 | K29: =D29+E29+F29+G29+H29+I29+J29 -> 0 | U29: =K29+N29+P29+Q29+R29+S29+T29 -> 0
B30: آبان | C30: ارسالی | D30: =آبان!C24 -> 0 | E30: =آبان!D24 -> 0 | F30: =آبان!E24 -> 0 | G30: =آبان!F24 -> 0 | H30: =آبان!G24 -> 0 | I30: =آبان!H24 -> 0 | J30: =آبان!I24 -> 0 | K30: =D30+E30+F30+G30+H30+I30+J30 -> 0 | L30: =آبان!K24 -> 0 | M30: =آبان!L24 -> 0 | N30: =آبان!M24 -> 0 | O30: =آبان!N24 -> 0 | P30: =آبان!O24 -> 0 | Q30: =آبان!P24 -> 0 | R30: =آبان!Q24 -> 0 | S30: =آبان!R24 -> 0 | T30: =آبان!S24 -> 0 | U30: =SUM(K30:T32)-N30 -> 0
C31: وصولی | D31: =آبان!C25 -> 0 | E31: =آبان!D25 -> 0 | F31: =آبان!E25 -> 0 | G31: =آبان!F25 -> 0 | H31: =آبان!G25 -> 0 | I31: =آبان!H25 -> 0 | J31: =آبان!I25 -> 0 | K31: =D31+E31+F31+G31+H31+I31+J31 -> 0 | U31: =K31+N31+P31+Q31+R31+S31+T31 -> 0
C32: کسورات | D32: =آبان!C26 -> 0 | E32: =آبان!D26 -> 0 | F32: =آبان!E26 -> 0 | G32: =آبان!F26 -> 0 | H32: =آبان!G26 -> 0 | I32: =آبان!H26 -> 0 | J32: =آبان!I26 -> 0 | K32: =D32+E32+F32+G32+H32+I32+J32 -> 0 | U32: =K32+N32+P32+Q32+R32+S32+T32 -> 0
B33: آذر | C33: ارسالی | D33: =آذر!C24 -> 0 | E33: =آذر!D24 -> 0 | F33: =آذر!E24 -> 0 | G33: =آذر!F24 -> 0 | H33: =آذر!G24 -> 0 | I33: =آذر!H24 -> 0 | J33: =آذر!I24 -> 0 | K33: =D33+E33+F33+G33+H33+I33+J33 -> 0 | L33: =آذر!K24 -> 0 | M33: =آذر!L24 -> 0 | N33: =آذر!M24 -> 0 | O33: =آذر!N24 -> 0 | P33: =آذر!O24 -> 0 | Q33: =آذر!P24 -> 0 | R33: =آذر!Q24 -> 0 | S33: =آذر!R24 -> 0 | T33: =آذر!S24 -> 0 | U33: =SUM(K33:T35)-N33 -> 0
C34: وصولی | D34: =آذر!C25 -> 0 | E34: =آذر!D25 -> 0 | F34: =آذر!E25 -> 0 | G34: =آذر!F25 -> 0 | H34: =آذر!G25 -> 0 | I34: =آذر!H25 -> 0 | J34: =آذر!I25 -> 0 | K34: =D34+E34+F34+G34+H34+I34+J34 -> 0 | U34: =K34+N34+P34+Q34+R34+S34+T34 -> 0
C35: کسورات | D35: =آذر!C26 -> 0 | E35: =آذر!D26 -> 0 | F35: =آذر!E26 -> 0 | G35: =آذر!F26 -> 0 | H35: =آذر!G26 -> 0 | I35: =آذر!H26 -> 0 | J35: =آذر!I26 -> 0 | K35: =D35+E35+F35+G35+H35+I35+J35 -> 0 | U35: =K35+N35+P35+Q35+R35+S35+T35 -> 0
B36: دي | C36: ارسالی | D36: =دی!C24 -> 0 | E36: =دی!D24 -> 0 | F36: =دی!E24 -> 0 | G36: =دی!F24 -> 0 | H36: =دی!G24 -> 0 | I36: =دی!H24 -> 0 | J36: =دی!I24 -> 0 | K36: =D36+E36+F36+G36+H36+I36+J36 -> 0 | L36: =دی!K24 -> 0 | M36: =دی!L24 -> 0 | N36: =دی!M24 -> 0 | O36: =دی!N24 -> 0 | P36: =دی!O24 -> 0 | Q36: =دی!P24 -> 0 | R36: =دی!Q24 -> 0 | S36: =دی!R24 -> 0 | T36: =دی!S24 -> 0 | U36: =SUM(K36:T38)-N36 -> 0
C37: وصولی | D37: =دی!C25 -> 0 | E37: =دی!D25 -> 0 | F37: =دی!E25 -> 0 | G37: =دی!F25 -> 0 | H37: =دی!G25 -> 0 | I37: =دی!H25 -> 0 | J37: =دی!I25 -> 0 | K37: =D37+E37+F37+G37+H37+I37+J37 -> 0 | U37: =K37+N37+P37+Q37+R37+S37+T37 -> 0
C38: کسورات | D38: =دی!C26 -> 0 | E38: =دی!D26 -> 0 | F38: =دی!E26 -> 0 | G38: =دی!F26 -> 0 | H38: =دی!G26 -> 0 | I38: =دی!H26 -> 0 | J38: =دی!I26 -> 0 | K38: =D38+E38+F38+G38+H38+I38+J38 -> 0 | U38: =K38+N38+P38+Q38+R38+S38+T38 -> 0
B39: بهمن | C39: ارسالی | D39: =بهمن!C24 -> 0 | E39: =بهمن!D24 -> 0 | F39: =بهمن!E24 -> 0 | G39: =بهمن!F24 -> 0 | H39: =بهمن!G24 -> 0 | I39: =بهمن!H24 -> 0 | J39: =بهمن!I24 -> 0 | K39: =D39+E39+F39+G39+H39+I39+J39 -> 0 | L39: =بهمن!K24 -> 0 | M39: =بهمن!L24 -> 0 | N39: =بهمن!M24 -> 0 | O39: =بهمن!N24 -> 0 | P39: =بهمن!O24 -> 0 | Q39: =بهمن!P24 -> 0 | R39: =بهمن!Q24 -> 0 | S39: =بهمن!R24 -> 0 | T39: =بهمن!S24 -> 0 | U39: =SUM(K39:T41)-N39 -> 0
C40: وصولی | D40: =بهمن!C25 -> 0 | E40: =بهمن!D25 -> 0 | F40: =بهمن!E25 -> 0 | G40: =بهمن!F25 -> 0 | H40: =بهمن!G25 -> 0 | I40: =بهمن!H25 -> 0 | J40: =بهمن!I25 -> 0 | K40: =D40+E40+F40+G40+H40+I40+J40 -> 0 | U40: =K40+N40+P40+Q40+R40+S40+T40 -> 0
C41: کسورات | D41: =بهمن!C26 -> 0 | E41: =بهمن!D26 -> 0 | F41: =بهمن!E26 -> 0 | G41: =بهمن!F26 -> 0 | H41: =بهمن!G26 -> 0 | I41: =بهمن!H26 -> 0 | J41: =بهمن!I26 -> 0 | K41: =D41+E41+F41+G41+H41+I41+J41 -> 0 | U41: =K41+N41+P41+Q41+R41+S41+T41 -> 0
B42: اسفند | C42: ارسالی | D42: =اسفند!C24 -> 0 | E42: =اسفند!D24 -> 0 | F42: =اسفند!E24 -> 0 | G42: =اسفند!F24 -> 0 | H42: =اسفند!G24 -> 0 | I42: =اسفند!H24 -> 0 | J42: =اسفند!I24 -> 0 | K42: =D42+E42+F42+G42+H42+I42+J42 -> 0 | L42: =اسفند!K24 -> 0 | M42: =اسفند!L24 -> 0 | N42: =اسفند!M24 -> 0 | O42: =اسفند!N24 -> 0 | P42: =اسفند!O24 -> 0 | Q42: =اسفند!P24 -> 0 | R42: =اسفند!Q24 -> 0 | S42: =اسفند!R24 -> 0 | T42: =اسفند!S24 -> 0 | U42: =SUM(K42:T44)-N42 -> 0
C43: وصولی | D43: =اسفند!C25 -> 0 | E43: =اسفند!D25 -> 0 | F43: =اسفند!E25 -> 0 | G43: =اسفند!F25 -> 0 | H43: =اسفند!G25 -> 0 | I43: =اسفند!H25 -> 0 | J43: =اسفند!I25 -> 0 | K43: =D43+E43+F43+G43+H43+I43+J43 -> 0 | U43: =K43+N43+P43+Q43+R43+S43+T43 -> 0
C44: کسورات | D44: =اسفند!C26 -> 0 | E44: =اسفند!D26 -> 0 | F44: =اسفند!E26 -> 0 | G44: =اسفند!F26 -> 0 | H44: =اسفند!G26 -> 0 | I44: =اسفند!H26 -> 0 | J44: =اسفند!I26 -> 0 | K44: =D44+E44+F44+G44+H44+I44+J44 -> 0 | U44: =K44+N44+P44+Q44+R44+S44+T44 -> 0
B45: جمع کل | C45: ارسالی | D45: =D6+D9+D12+D15+D18+D21+D24+D27+D30+D33+D36+D39+D42 -> 0 | E45: =E6+E9+E12+E15+E18+E21+E24+E27+E30+E33+E36+E39+E42 -> 0 | F45: =F6+F9+F12+F15+F18+F21+F24+F27+F30+F33+F36+F39+F42 -> 0 | G45: =G6+G9+G12+G15+G18+G21+G24+G27+G30+G33+G36+G39+G42 -> 0 | H45: =H6+H9+H12+H15+H18+H21+H24+H27+H30+H33+H36+H39+H42 -> 0 | I45: =I6+I9+I12+I15+I18+I21+I24+I27+I30+I33+I36+I39+I42 -> 0 | J45: =J6+J9+J12+J15+J18+J21+J24+J27+J30+J33+J36+J39+J42 -> 0 | K45: =K6+K9+K12+K15+K18+K21+K24+K27+K30+K33+K36+K39+K42 -> 0 | L45: =SUM(L6:L44) -> 0 | M45: =SUM(M6:M44) -> 0 | N45: =SUM(N6:N44) -> 0 | O45: =SUM(O6:O44) -> 0 | P45: =SUM(P6:P44) -> 0 | Q45: =SUM(Q6:Q44) -> 0 | R45: =SUM(R6:R44) -> 0 | S45: =SUM(S6:S44) -> 0 | T45: =SUM(T6:T44) -> 0 | U45: =SUM(K45:T47)-N45 -> 0
C46: وصولی | D46: =D7+D10+D13+D16+D19+D22+D25+D28+D31+D34+D37+D40+D43 -> 0 | E46: =E7+E10+E13+E16+E19+E22+E25+E28+E31+E34+E37+E40+E43 -> 0 | F46: =F7+F10+F13+F16+F19+F22+F25+F28+F31+F34+F37+F40+F43 -> 0 | G46: =G7+G10+G13+G16+G19+G22+G25+G28+G31+G34+G37+G40+G43 -> 0 | H46: =H7+H10+H13+H16+H19+H22+H25+H28+H31+H34+H37+H40+H43 -> 0 | I46: =I7+I10+I13+I16+I19+I22+I25+I28+I31+I34+I37+I40+I43 -> 0 | J46: =J7+J10+J13+J16+J19+J22+J25+J28+J31+J34+J37+J40+J43 -> 0 | K46: =K7+K10+K13+K16+K19+K22+K25+K28+K31+K34+K37+K40+K43 -> 0 | U46: =K46+N46+P46+Q46+R46+S46+T46 -> 0
C47: کسورات | D47: =D8+D11+D14+D17+D20+D23+D26+D29+D32+D35+D38+D41+D44 -> 0 | E47: =E8+E11+E14+E17+E20+E23+E26+E29+E32+E35+E38+E41+E44 -> 0 | F47: =F8+F11+F14+F17+F20+F23+F26+F29+F32+F35+F38+F41+F44 -> 0 | G47: =G8+G11+G14+G17+G20+G23+G26+G29+G32+G35+G38+G41+G44 -> 0 | H47: =H8+H11+H14+H17+H20+H23+H26+H29+H32+H35+H38+H41+H44 -> 0 | I47: =I8+I11+I14+I17+I20+I23+I26+I29+I32+I35+I38+I41+I44 -> 0 | J47: =J8+J11+J14+J17+J20+J23+J26+J29+J32+J35+J38+J41+J44 -> 0 | K47: =K8+K11+K14+K17+K20+K23+K26+K29+K32+K35+K38+K41+K44 -> 0 | U47: =K47+N47+P47+Q47+R47+S47+T47 -> 0

Sheet 30121
B1: کاربرگ اطلاعات درآمد 1393
B2: نام واحد
B3: برنامه:30121000
B4: دوره | C4: درامد | D4: بیمه ای | L4: کارت بهداشت | M4: سایر درآمد ها | N4: کنترل نسخ دریافتی ارسال نشده | O4: درامد نقدی (صندوق) | P4: بدهکاران اشخاص (بیماران تسویه نشده) | Q4: نیازمندان | R4: ترافیکی | S4: منازل سازمانی | T4: سایر قراردادها ودرامدها | U4: جمع کل درآمد
D5: تامین اجتماعی | E5: خدمات درمانی | F5: کمیته امداد | G5: نیروهای مسلح | H5: بیمه ذغال سنگ | I5: بیمه فولاد | J5: سایر بیمه ها | K5: جمع کل درامد بیمه ای
B6: فروردين | C6: ارسالی | D6: =فروردین!C27 -> 0 | E6: =فروردین!D27 -> 0 | F6: =فروردین!E27 -> 0 | G6: =فروردین!F27 -> 0 | H6: =فروردین!G27 -> 0 | I6: =فروردین!H27 -> 0 | J6: =فروردین!I27 -> 0 | K6: =D6+E6+F6+G6+H6+I6+J6 -> 0 | L6: =فروردین!K27 -> 0 | M6: =فروردین!L27 -> 0 | N6: =فروردین!M27 -> 0 | O6: =فروردین!N27 -> 0 | P6: =فروردین!O27 -> 0 | Q6: =فروردین!P27 -> 0 | R6: =فروردین!Q27 -> 0 | S6: =فروردین!R27 -> 0 | T6: =فروردین!S27 -> 0 | U6: =SUM(K6:T8)-N6-K7-K8 -> 0
C7: وصولی | D7: =فروردین!C28 -> 0 | E7: =فروردین!D28 -> 0 | F7: =فروردین!E28 -> 0 | G7: =فروردین!F28 -> 0 | H7: =فروردین!G28 -> 0 | I7: =فروردین!H28 -> 0 | J7: =فروردین!I28 -> 0 | K7: =D7+E7+F7+G7+H7+I7+J7 -> 0 | U7: =K7+N7+P7+Q7+R7+S7+T7 -> 0
C8: کسورات | D8: =فروردین!C29 -> 0 | E8: =فروردین!D29 -> 0 | F8: =فروردین!E29 -> 0 | G8: =فروردین!F29 -> 0 | H8: =فروردین!G29 -> 0 | I8: =فروردین!H29 -> 0 | J8: =فروردین!I29 -> 0 | K8: =D8+E8+F8+G8+H8+I8+J8 -> 0 | U8: =K8+N8+P8+Q8+R8+S8+T8 -> 0
B9: ارديبهشت | C9: ارسالی | D9: =اردیبهشت!C27 -> 0 | E9: =اردیبهشت!D27 -> 0 | F9: =اردیبهشت!E27 -> 0 | G9: =اردیبهشت!F27 -> 0 | H9: =اردیبهشت!G27 -> 0 | I9: =اردیبهشت!H27 -> 0 | J9: =اردیبهشت!I27 -> 0 | K9: =D9+E9+F9+G9+H9+I9+J9 -> 0 | L9: =اردیبهشت!K27 -> 0 | M9: =اردیبهشت!L27 -> 0 | N9: =اردیبهشت!M27 -> 0 | O9: =اردیبهشت!N27 -> 0 | P9: =اردیبهشت!O27 -> 0 | Q9: =اردیبهشت!P27 -> 0 | R9: =اردیبهشت!Q27 -> 0 | S9: =اردیبهشت!R27 -> 0 | T9: =اردیبهشت!S27 -> 0 | U9: =SUM(K9:T11)-N9 -> 0
C10: وصولی | D10: =اردیبهشت!C28 -> 0 | E10: =اردیبهشت!D28 -> 0 | F10: =اردیبهشت!E28 -> 0 | G10: =اردیبهشت!F28 -> 0 | H10: =اردیبهشت!G28 -> 0 | I10: =اردیبهشت!H28 -> 0 | J10: =اردیبهشت!I28 -> 0 | K10: =D10+E10+F10+G10+H10+I10+J10 -> 0 | U10: =K10+N10+P10+Q10+R10+S10+T10 -> 0
C11: کسورات | D11: =اردیبهشت!C29 -> 0 | E11: =اردیبهشت!D29 -> 0 | F11: =اردیبهشت!E29 -> 0 | G11: =اردیبهشت!F29 -> 0 | H11: =اردیبهشت!G29 -> 0 | I11: =اردیبهشت!H29 -> 0 | J11: =اردیبهشت!I29 -> 0 | K11: =D11+E11+F11+G11+H11+I11+J11 -> 0 | U11: =K11+N11+P11+Q11+R11+S11+T11 -> 0
B12: خرداد | C12: ارسالی | D12: =خرداد!C27 -> 0 | E12: =خرداد!D27 -> 0 | F12: =خرداد!E27 -> 0 | G12: =خرداد!F27 -> 0 | H12: =خرداد!G27 -> 0 | I12: =خرداد!H27 -> 0 | J12: =خرداد!I27 -> 0 | K12: =D12+E12+F12+G12+H12+I12+J12 -> 0 | L12: =خرداد!K27 -> 0 | M12: =خرداد!L27 -> 0 | N12: =خرداد!M27 -> 0 | O12: =خرداد!N27 -> 0 | P12: =خرداد!O27 -> 0 | Q12: =خرداد!P27 -> 0 | R12: =خرداد!Q27 -> 0 | S12: =خرداد!R27 -> 0 | T12: =خرداد!S27 -> 0 | U12: =SUM(K12:T14)-N12 -> 0
C13: وصولی | D13: =خرداد!C28 -> 0 | E13: =خرداد!D28 -> 0 | F13: =خرداد!E28 -> 0 | G13: =خرداد!F28 -> 0 | H13: =خرداد!G28 -> 0 | I13: =خرداد!H28 -> 0 | J13: =خرداد!I28 -> 0 | K13: =D13+E13+F13+G13+H13+I13+J13 -> 0 | U13: =K13+N13+P13+Q13+R13+S13+T13 -> 0
C14: کسورات | D14: =خرداد!C29 -> 0 | E14: =خرداد!D29 -> 0 | F14: =خرداد!E29 -> 0 | G14: =خرداد!F29 -> 0 | H14: =خرداد!G29 -> 0 | I14: =خرداد!H29 -> 0 | J14: =خرداد!I29 -> 0 | K14: =D14+E14+F14+G14+H14+I14+J14 -> 0 | U14: =K14+N14+P14+Q14+R14+S14+T14 -> 0
B15: تير | C15: ارسالی | D15: =تیر!C27 -> 0 | E15: =تیر!D27 -> 0 | F15: =تیر!E27 -> 0 | G15: =تیر!F27 -> 0 | H15: =تیر!G27 -> 0 | I15: =تیر!H27 -> 0 | J15: =تیر!I27 -> 0 | K15: =D15+E15+F15+G15+H15+I15+J15 -> 0 | L15: =تیر!K27 -> 0 | M15: =تیر!L27 -> 0 | N15: =تیر!M27 -> 0 | O15: =تیر!N27 -> 0 | P15: =تیر!O27 -> 0 | Q15: =تیر!P27 -> 0 | R15: =تیر!Q27 -> 0 | S15: =تیر!R27 -> 0 | T15: =تیر!S27 -> 0 | U15: =SUM(K15:T17)-N15 -> 0
C16: وصولی | D16: =تیر!C28 -> 0 | E16: =تیر!D28 -> 0 | F16: =تیر!E28 -> 0 | G16: =تیر!F28 -> 0 | H16: =تیر!G28 -> 0 | I16: =تیر!H28 -> 0 | J16: =تیر!I28 -> 0 | K16: =D16+E16+F16+G16+H16+I16+J16 -> 0 | U16: =K16+N16+P16+Q16+R16+S16+T16 -> 0
C17: کسورات | D17: =تیر!C29 -> 0 | E17: =تیر!D29 -> 0 | F17: =تیر!E29 -> 0 | G17: =تیر!F29 -> 0 | H17: =تیر!G29 -> 0 | I17: =تیر!H29 -> 0 | J17: =تیر!I29 -> 0 | K17: =D17+E17+F17+G17+H17+I17+J17 -> 0 | U17: =K17+N17+P17+Q17+R17+S17+T17 -> 0
B18: مرداد | C18: ارسالی | D18: =مرداد!C27 -> 0 | E18: =مرداد!D27 -> 0 | F18: =مرداد!E27 -> 0 | G18: =مرداد!F27 -> 0 | H18: =مرداد!G27 -> 0 | I18: =مرداد!H27 -> 0 | J18: =مرداد!I27 -> 0 | K18: =D18+E18+F18+G18+H18+I18+J18 -> 0 | L18: =مرداد!K27 -> 0 | M18: =مرداد!L27 -> 0 | N18: =مرداد!M27 -> 0 | O18: =مرداد!N27 -> 0 | P18: =مرداد!O27 -> 0 | Q18: =مرداد!P27 -> 0 | R18: =مرداد!Q27 -> 0 | S18: =مرداد!R27 -> 0 | T18: =مرداد!S27 -> 0 | U18: =SUM(K18:T20)-N18 -> 0
C19: وصولی | D19: =مرداد!C28 -> 0 | E19: =مرداد!D28 -> 0 | F19: =مرداد!E28 -> 0 | G19: =مرداد!F28 -> 0 | H19: =مرداد!G28 -> 0 | I19: =مرداد!H28 -> 0 | J19: =مرداد!I28 -> 0 | K19: =D19+E19+F19+G19+H19+I19+J19 -> 0 | U19: =K19+N19+P19+Q19+R19+S19+T19 -> 0
C20: کسورات | D20: =مرداد!C29 -> 0 | E20: =مرداد!D29 -> 0 | F20: =مرداد!E29 -> 0 | G20: =مرداد!F29 -> 0 | H20: =مرداد!G29 -> 0 | I20: =مرداد!H29 -> 0 | J20: =مرداد!I29 -> 0 | K20: =D20+E20+F20+G20+H20+I20+J20 -> 0 | U20: =K20+N20+P20+Q20+R20+S20+T20 -> 0
B21: تغییر تعرفه | C21: ارسالی | D21: ='تغییر تعرفه'!C27 -> 0 | E21: ='تغییر تعرفه'!D27 -> 0 | F21: ='تغییر تعرفه'!E27 -> 0 | G21: ='تغییر تعرفه'!F27 -> 0 | H21: ='تغییر تعرفه'!G27 -> 0 | I21: ='تغییر تعرفه'!H27 -> 0 | J21: ='تغییر تعرفه'!I27 -> 0 | K21: =D21+E21+F21+G21+H21+I21+J21 -> 0 | L21: ='تغییر تعرفه'!K27 -> 0 | M21: ='تغییر تعرفه'!L27 -> 0 | N21: ='تغییر تعرفه'!M27 -> 0 | O21: ='تغییر تعرفه'!N27 -> 0 | P21: ='تغییر تعرفه'!O27 -> 0 | Q21: ='تغییر تعرفه'!P27 -> 0 | R21: ='تغییر تعرفه'!Q27 -> 0 | S21: ='تغییر تعرفه'!R27 -> 0 | T21: ='تغییر تعرفه'!S27 -> 0 | U21: =SUM(K21:T23)-N21 -> 0
C22: وصولی | D22: ='تغییر تعرفه'!C28 -> 0 | E22: ='تغییر تعرفه'!D28 -> 0 | F22: ='تغییر تعرفه'!E28 -> 0 | G22: ='تغییر تعرفه'!F28 -> 0 | H22: ='تغییر تعرفه'!G28 -> 0 | I22: ='تغییر تعرفه'!H28 -> 0 | J22: ='تغییر تعرفه'!I28 -> 0 | K22: =D22+E22+F22+G22+H22+I22+J22 -> 0 | U22: =K22+N22+P22+Q22+R22+S22+T22 -> 0
C23: کسورات | D23: ='تغییر تعرفه'!C29 -> 0 | E23: ='تغییر تعرفه'!D29 -> 0 | F23: ='تغییر تعرفه'!E29 -> 0 | G23: ='تغییر تعرفه'!F29 -> 0 | H23: ='تغییر تعرفه'!G29 -> 0 | I23: ='تغییر تعرفه'!H29 -> 0 | J23: ='تغییر تعرفه'!I29 -> 0 | K23: =D23+E23+F23+G23+H23+I23+J23 -> 0 | U23: =K23+N23+P23+Q23+R23+S23+T23 -> 0
B24: شهريور | C24: ارسالی | D24: =شهریور!C27 -> 0 | E24: =شهریور!D27 -> 0 | F24: =شهریور!E27 -> 0 | G24: =شهریور!F27 -> 0 | H24: =شهریور!G27 -> 0 | I24: =شهریور!H27 -> 0 | J24: =شهریور!I27 -> 0 | K24: =D24+E24+F24+G24+H24+I24+J24 -> 0 | L24: =شهریور!K27 -> 0 | M24: =شهریور!L27 -> 0 | N24: =شهریور!M27 -> 0 | O24: =شهریور!N27 -> 0 | P24: =شهریور!O27 -> 0 | Q24: =شهریور!P27 -> 0 | R24: =شهریور!Q27 -> 0 | S24: =شهریور!R27 -> 0 | T24: =شهریور!S27 -> 0 | U24: =SUM(K24:T26)-N24 -> 0
C25: وصولی | D25: =شهریور!C28 -> 0 | E25: =شهریور!D28 -> 0 | F25: =شهریور!E28 -> 0 | G25: =شهریور!F28 -> 0 | H25: =شهریور!G28 -> 0 | I25: =شهریور!H28 -> 0 | J25: =شهریور!I28 -> 0 | K25: =D25+E25+F25+G25+H25+I25+J25 -> 0 | U25: =K25+N25+P25+Q25+R25+S25+T25 -> 0
C26: کسورات | D26: =شهریور!C29 -> 0 | E26: =شهریور!D29 -> 0 | F26: =شهریور!E29 -> 0 | G26: =شهریور!F29 -> 0 | H26: =شهریور!G29 -> 0 | I26: =شهریور!H29 -> 0 | J26: =شهریور!I29 -> 0 | K26: =D26+E26+F26+G26+H26+I26+J26 -> 0 | U26: =K26+N26+P26+Q26+R26+S26+T26 -> 0
B27: مهر | C27: ارسالی | D27: =مهر!C27 -> 0 | E27: =مهر!D27 -> 0 | F27: =مهر!E27 -> 0 | G27: =مهر!F27 -> 0 | H27: =مهر!G27 -> 0 | I27: =مهر!H27 -> 0 | J27: =مهر!I27 -> 0 | K27: =D27+E27+F27+G27+H27+I27+J27 -> 0 | L27: =مهر!K27 -> 0 | M27: =مهر!L27 -> 0 | N27: =مهر!M27 -> 0 | O27: =مهر!N27 -> 0 | P27: =مهر!O27 -> 0 | Q27: =مهر!P27 -> 0 | R27: =مهر!Q27 -> 0 | S27: =مهر!R27 -> 0 | T27: =مهر!S27 -> 0 | U27: =SUM(K27:T29)-N27 -> 0
C28: وصولی | D28: =مهر!C28 -> 0 | E28: =مهر!D28 -> 0 | F28: =مهر!E28 -> 0 | G28: =مهر!F28 -> 0 | H28: =مهر!G28 -> 0 | I28: =مهر!H28 -> 0 | J28: =مهر!I28 -> 0 | K28: =D28+E28+F28+G28+H28+I28+J28 -> 0 | U28: =K28+N28+P28+Q28+R28+S28+T28 -> 0
C29: کسورات | D29: =مهر!C29 -> 0 | E29: =مهر!D29 -> 0 | F29: =مهر!E29 -> 0 | G29: =مهر!F29 -> 0 | H29: =مهر!G29 -> 0 | I29: =مهر!H29 -> 0 | J29: =مهر!I29 -> 0 | K29: =D29+E29+F29+G29+H29+I29+J29 -> 0 | U29: =K29+N29+P29+Q29+R29+S29+T29 -> 0
B30: آبان | C30: ارسالی | D30: =آبان!C27 -> 0 | E30: =آبان!D27 -> 0 | F30: =آبان!E27 -> 0 | G30: =آبان!F27 -> 0 | H30: =آبان!G27 -> 0 | I30: =آبان!H27 -> 0 | J30: =آبان!I27 -> 0 | K30: =D30+E30+F30+G30+H30+I30+J30 -> 0 | L30: =آبان!K27 -> 0 | M30: =آبان!L27 -> 0 | N30: =آبان!M27 -> 0 | O30: =آبان!N27 -> 0 | P30: =آبان!O27 -> 0 | Q30: =آبان!P27 -> 0 | R30: =آبان!Q27 -> 0 | S30: =آبان!R27 -> 0 | T30: =آبان!S27 -> 0 | U30: =SUM(K30:T32)-N30 -> 0
C31: وصولی | D31: =آبان!C28 -> 0 | E31: =آبان!D28 -> 0 | F31: =آبان!E28 -> 0 | G31: =آبان!F28 -> 0 | H31: =آبان!G28 -> 0 | I31: =آبان!H28 -> 0 | J31: =آبان!I28 -> 0 | K31: =D31+E31+F31+G31+H31+I31+J31 -> 0 | U31: =K31+N31+P31+Q31+R31+S31+T31 -> 0
C32: کسورات | D32: =آبان!C29 -> 0 | E32: =آبان!D29 -> 0 | F32: =آبان!E29 -> 0 | G32: =آبان!F29 -> 0 | H32: =آبان!G29 -> 0 | I32: =آبان!H29 -> 0 | J32: =آبان!I29 -> 0 | K32: =D32+E32+F32+G32+H32+I32+J32 -> 0 | U32: =K32+N32+P32+Q32+R32+S32+T32 -> 0
B33: آذر | C33: ارسالی | D33: =آذر!C27 -> 0 | E33: =آذر!D27 -> 0 | F33: =آذر!E27 -> 0 | G33: =آذر!F27 -> 0 | H33: =آذر!G27 -> 0 | I33: =آذر!H27 -> 0 | J33: =آذر!I27 -> 0 | K33: =D33+E33+F33+G33+H33+I33+J33 -> 0 | L33: =آذر!K27 -> 0 | M33: =آذر!L27 -> 0 | N33: =آذر!M27 -> 0 | O33: =آذر!N27 -> 0 | P33: =آذر!O27 -> 0 | Q33: =آذر!P27 -> 0 | R33: =آذر!Q27 -> 0 | S33: =آذر!R27 -> 0 | T33: =آذر!S27 -> 0 | U33: =SUM(K33:T35)-N33 -> 0
C34: وصولی | D34: =آذر!C28 -> 0 | E34: =آذر!D28 -> 0 | F34: =آذر!E28 -> 0 | G34: =آذر!F28 -> 0 | H34: =آذر!G28 -> 0 | I34: =آذر!H28 -> 0 | J34: =آذر!I28 -> 0 | K34: =D34+E34+F34+G34+H34+I34+J34 -> 0 | U34: =K34+N34+P34+Q34+R34+S34+T34 -> 0
C35: کسورات | D35: =آذر!C29 -> 0 | E35: =آذر!D29 -> 0 | F35: =آذر!E29 -> 0 | G35: =آذر!F29 -> 0 | H35: =آذر!G29 -> 0 | I35: =آذر!H29 -> 0 | J35: =آذر!I29 -> 0 | K35: =D35+E35+F35+G35+H35+I35+J35 -> 0 | U35: =K35+N35+P35+Q35+R35+S35+T35 -> 0
B36: دي | C36: ارسالی | D36: =دی!C27 -> 0 | E36: =دی!D27 -> 0 | F36: =دی!E27 -> 0 | G36: =دی!F27 -> 0 | H36: =دی!G27 -> 0 | I36: =دی!H27 -> 0 | J36: =دی!I27 -> 0 | K36: =D36+E36+F36+G36+H36+I36+J36 -> 0 | L36: =دی!K27 -> 0 | M36: =دی!L27 -> 0 | N36: =دی!M27 -> 0 | O36: =دی!N27 -> 0 | P36: =دی!O27 -> 0 | Q36: =دی!P27 -> 0 | R36: =دی!Q27 -> 0 | S36: =دی!R27 -> 0 | T36: =دی!S27 -> 0 | U36: =SUM(K36:T38)-N36 -> 0
C37: وصولی | D37: =دی!C28 -> 0 | E37: =دی!D28 -> 0 | F37: =دی!E28 -> 0 | G37: =دی!F28 -> 0 | H37: =دی!G28 -> 0 | I37: =دی!H28 -> 0 | J37: =دی!I28 -> 0 | K37: =D37+E37+F37+G37+H37+I37+J37 -> 0 | U37: =K37+N37+P37+Q37+R37+S37+T37 -> 0
C38: کسورات | D38: =دی!C29 -> 0 | E38: =دی!D29 -> 0 | F38: =دی!E29 -> 0 | G38: =دی!F29 -> 0 | H38: =دی!G29 -> 0 | I38: =دی!H29 -> 0 | J38: =دی!I29 -> 0 | K38: =D38+E38+F38+G38+H38+I38+J38 -> 0 | U38: =K38+N38+P38+Q38+R38+S38+T38 -> 0
B39: بهمن | C39: ارسالی | D39: =بهمن!C27 -> 0 | E39: =بهمن!D27 -> 0 | F39: =بهمن!E27 -> 0 | G39: =بهمن!F27 -> 0 | H39: =بهمن!G27 -> 0 | I39: =بهمن!H27 -> 0 | J39: =بهمن!I27 -> 0 | K39: =D39+E39+F39+G39+H39+I39+J39 -> 0 | L39: =بهمن!K27 -> 0 | M39: =بهمن!L27 -> 0 | N39: =بهمن!M27 -> 0 | O39: =بهمن!N27 -> 0 | P39: =بهمن!O27 -> 0 | Q39: =بهمن!P27 -> 0 | R39: =بهمن!Q27 -> 0 | S39: =بهمن!R27 -> 0 | T39: =بهمن!S27 -> 0 | U39: =SUM(K39:T41)-N39 -> 0
C40: وصولی | D40: =بهمن!C28 -> 0 | E40: =بهمن!D28 -> 0 | F40: =بهمن!E28 -> 0 | G40: =بهمن!F28 -> 0 | H40: =بهمن!G28 -> 0 | I40: =بهمن!H28 -> 0 | J40: =بهمن!I28 -> 0 | K40: =D40+E40+F40+G40+H40+I40+J40 -> 0 | U40: =K40+N40+P40+Q40+R40+S40+T40 -> 0
C41: کسورات | D41: =بهمن!C29 -> 0 | E41: =بهمن!D29 -> 0 | F41: =بهمن!E29 -> 0 | G41: =بهمن!F29 -> 0 | H41: =بهمن!G29 -> 0 | I41: =بهمن!H29 -> 0 | J41: =بهمن!I29 -> 0 | K41: =D41+E41+F41+G41+H41+I41+J41 -> 0 | U41: =K41+N41+P41+Q41+R41+S41+T41 -> 0
B42: اسفند | C42: ارسالی | D42: =اسفند!C27 -> 0 | E42: =اسفند!D27 -> 0 | F42: =اسفند!E27 -> 0 | G42: =اسفند!F27 -> 0 | H42: =اسفند!G27 -> 0 | I42: =اسفند!H27 -> 0 | J42: =اسفند!I27 -> 0 | K42: =D42+E42+F42+G42+H42+I42+J42 -> 0 | L42: =اسفند!K27 -> 0 | M42: =اسفند!L27 -> 0 | N42: =اسفند!M27 -> 0 | O42: =اسفند!N27 -> 0 | P42: =اسفند!O27 -> 0 | Q42: =اسفند!P27 -> 0 | R42: =اسفند!Q27 -> 0 | S42: =اسفند!R27 -> 0 | T42: =اسفند!S27 -> 0 | U42: =SUM(K42:T44)-N42 -> 0
C43: وصولی | D43: =اسفند!C28 -> 0 | E43: =اسفند!D28 -> 0 | F43: =اسفند!E28 -> 0 | G43: =اسفند!F28 -> 0 | H43: =اسفند!G28 -> 0 | I43: =اسفند!H28 -> 0 | J43: =اسفند!I28 -> 0 | K43: =D43+E43+F43+G43+H43+I43+J43 -> 0 | U43: =K43+N43+P43+Q43+R43+S43+T43 -> 0
C44: کسورات | D44: =اسفند!C29 -> 0 | E44: =اسفند!D29 -> 0 | F44: =اسفند!E29 -> 0 | G44: =اسفند!F29 -> 0 | H44: =اسفند!G29 -> 0 | I44: =اسفند!H29 -> 0 | J44: =اسفند!I29 -> 0 | K44: =D44+E44+F44+G44+H44+I44+J44 -> 0 | U44: =K44+N44+P44+Q44+R44+S44+T44 -> 0
B45: جمع کل | C45: ارسالی | D45: =D6+D9+D12+D15+D18+D21+D24+D27+D30+D33+D36+D39+D42 -> 0 | E45: =E6+E9+E12+E15+E18+E21+E24+E27+E30+E33+E36+E39+E42 -> 0 | F45: =F6+F9+F12+F15+F18+F21+F24+F27+F30+F33+F36+F39+F42 -> 0 | G45: =G6+G9+G12+G15+G18+G21+G24+G27+G30+G33+G36+G39+G42 -> 0 | H45: =H6+H9+H12+H15+H18+H21+H24+H27+H30+H33+H36+H39+H42 -> 0 | I45: =I6+I9+I12+I15+I18+I21+I24+I27+I30+I33+I36+I39+I42 -> 0 | J45: =J6+J9+J12+J15+J18+J21+J24+J27+J30+J33+J36+J39+J42 -> 0 | K45: =K6+K9+K12+K15+K18+K21+K24+K27+K30+K33+K36+K39+K42 -> 0 | L45: =SUM(L6:L44) -> 0 | M45: =SUM(M6:M44) -> 0 | N45: =SUM(N6:N44) -> 0 | O45: =SUM(O6:O44) -> 0 | P45: =SUM(P6:P44) -> 0 | Q45: =SUM(Q6:Q44) -> 0 | R45: =SUM(R6:R44) -> 0 | S45: =SUM(S6:S44) -> 0 | T45: =SUM(T6:T44) -> 0 | U45: =SUM(K45:T47)-N45 -> 0
C46: وصولی | D46: =D7+D10+D13+D16+D19+D22+D25+D28+D31+D34+D37+D40+D43 -> 0 | E46: =E7+E10+E13+E16+E19+E22+E25+E28+E31+E34+E37+E40+E43 -> 0 | F46: =F7+F10+F13+F16+F19+F22+F25+F28+F31+F34+F37+F40+F43 -> 0 | G46: =G7+G10+G13+G16+G19+G22+G25+G28+G31+G34+G37+G40+G43 -> 0 | H46: =H7+H10+H13+H16+H19+H22+H25+H28+H31+H34+H37+H40+H43 -> 0 | I46: =I7+I10+I13+I16+I19+I22+I25+I28+I31+I34+I37+I40+I43 -> 0 | J46: =J7+J10+J13+J16+J19+J22+J25+J28+J31+J34+J37+J40+J43 -> 0 | K46: =K7+K10+K13+K16+K19+K22+K25+K28+K31+K34+K37+K40+K43 -> 0 | U46: =K46+N46+P46+Q46+R46+S46+T46 -> 0
C47: کسورات | D47: =D8+D11+D14+D17+D20+D23+D26+D29+D32+D35+D38+D41+D44 -> 0 | E47: =E8+E11+E14+E17+E20+E23+E26+E29+E32+E35+E38+E41+E44 -> 0 | F47: =F8+F11+F14+F17+F20+F23+F26+F29+F32+F35+F38+F41+F44 -> 0 | G47: =G8+G11+G14+G17+G20+G23+G26+G29+G32+G35+G38+G41+G44 -> 0 | H47: =H8+H11+H14+H17+H20+H23+H26+H29+H32+H35+H38+H41+H44 -> 0 | I47: =I8+I11+I14+I17+I20+I23+I26+I29+I32+I35+I38+I41+I44 -> 0 | J47: =J8+J11+J14+J17+J20+J23+J26+J29+J32+J35+J38+J41+J44 -> 0 | K47: =K8+K11+K14+K17+K20+K23+K26+K29+K32+K35+K38+K41+K44 -> 0 | U47: =K47+N47+P47+Q47+R47+S47+T47 -> 0

Sheet 10506
B1: کاربرگ اطلاعات درآمد 1393
B2: نام واحد
B3: برنامه:10506000
B4: دوره | C4: درامد | D4: بیمه ای | L4: کارت بهداشت | M4: سایر درآمد ها | N4: کنترل نسخ دریافتی ارسال نشده | O4: درامد نقدی (صندوق) | P4: بدهکاران اشخاص (بیماران تسویه نشده) | Q4: نیازمندان | R4: ترافیکی | S4: منازل سازمانی | T4: سایر قراردادها ودرامدها | U4: جمع کل درآمد
D5: تامین اجتماعی | E5: خدمات درمانی | F5: کمیته امداد | G5: نیروهای مسلح | H5: بیمه ذغال سنگ | I5: بیمه فولاد | J5: سایر بیمه ها | K5: جمع کل درامد بیمه ای
B6: فروردين | C6: ارسالی | D6: =فروردین!C30 -> 0 | E6: =فروردین!D30 -> 0 | F6: =فروردین!E30 -> 0 | G6: =فروردین!F30 -> 0 | H6: =فروردین!G30 -> 0 | I6: =فروردین!H30 -> 0 | J6: =فروردین!I30 -> 0 | K6: =D6+E6+F6+G6+H6+I6+J6 -> 0 | L6: =فروردین!K30 -> 0 | M6: =فروردین!L30 -> 0 | N6: =فروردین!M30 -> 0 | O6: =فروردین!N30 -> 0 | P6: =فروردین!O30 -> 0 | Q6: =فروردین!P30 -> 0 | R6: =فروردین!Q30 -> 0 | S6: =فروردین!R30 -> 0 | T6: =فروردین!S30 -> 0 | U6: =SUM(K6:T8)-N6-K7-K8 -> 0
C7: وصولی | D7: =فروردین!C31 -> 0 | E7: =فروردین!D31 -> 0 | F7: =فروردین!E31 -> 0 | G7: =فروردین!F31 -> 0 | H7: =فروردین!G31 -> 0 | I7: =فروردین!H31 -> 0 | J7: =فروردین!I31 -> 0 | K7: =D7+E7+F7+G7+H7+I7+J7 -> 0 | U7: =K7+N7+P7+Q7+R7+S7+T7 -> 0
C8: کسورات | D8: =فروردین!C32 -> 0 | E8: =فروردین!D32 -> 0 | F8: =فروردین!E32 -> 0 | G8: =فروردین!F32 -> 0 | H8: =فروردین!G32 -> 0 | I8: =فروردین!H32 -> 0 | J8: =فروردین!I32 -> 0 | K8: =D8+E8+F8+G8+H8+I8+J8 -> 0 | U8: =K8+N8+P8+Q8+R8+S8+T8 -> 0
B9: ارديبهشت | C9: ارسالی | D9: =اردیبهشت!C30 -> 0 | E9: =اردیبهشت!D30 -> 0 | F9: =اردیبهشت!E30 -> 0 | G9: =اردیبهشت!F30 -> 0 | H9: =اردیبهشت!G30 -> 0 | I9: =اردیبهشت!H30 -> 0 | J9: =اردیبهشت!I30 -> 0 | K9: =D9+E9+F9+G9+H9+I9+J9 -> 0 | L9: =اردیبهشت!K30 -> 0 | M9: =اردیبهشت!L30 -> 0 | N9: =اردیبهشت!M30 -> 0 | O9: =اردیبهشت!N30 -> 0 | P9: =اردیبهشت!O30 -> 0 | Q9: =اردیبهشت!P30 -> 0 | R9: =اردیبهشت!Q30 -> 0 | S9: =اردیبهشت!R30 -> 0 | T9: =اردیبهشت!S30 -> 0 | U9: =SUM(K9:T11)-N9 -> 0
C10: وصولی | D10: =اردیبهشت!C31 -> 0 | E10: =اردیبهشت!D31 -> 0 | F10: =اردیبهشت!E31 -> 0 | G10: =اردیبهشت!F31 -> 0 | H10: =اردیبهشت!G31 -> 0 | I10: =اردیبهشت!H31 -> 0 | J10: =اردیبهشت!I31 -> 0 | K10: =D10+E10+F10+G10+H10+I10+J10 -> 0 | U10: =K10+N10+P10+Q10+R10+S10+T10 -> 0
C11: کسورات | D11: =اردیبهشت!C32 -> 0 | E11: =اردیبهشت!D32 -> 0 | F11: =اردیبهشت!E32 -> 0 | G11: =اردیبهشت!F32 -> 0 | H11: =اردیبهشت!G32 -> 0 | I11: =اردیبهشت!H32 -> 0 | J11: =اردیبهشت!I32 -> 0 | K11: =D11+E11+F11+G11+H11+I11+J11 -> 0 | U11: =K11+N11+P11+Q11+R11+S11+T11 -> 0
B12: خرداد | C12: ارسالی | D12: =خرداد!C30 -> 0 | E12: =خرداد!D30 -> 0 | F12: =خرداد!E30 -> 0 | G12: =خرداد!F30 -> 0 | H12: =خرداد!G30 -> 0 | I12: =خرداد!H30 -> 0 | J12: =خرداد!I30 -> 0 | K12: =D12+E12+F12+G12+H12+I12+J12 -> 0 | L12: =خرداد!K30 -> 0 | M12: =خرداد!L30 -> 0 | N12: =خرداد!M30 -> 0 | O12: =خرداد!N30 -> 0 | P12: =خرداد!O30 -> 0 | Q12: =خرداد!P30 -> 0 | R12: =خرداد!Q30 -> 0 | S12: =خرداد!R30 -> 0 | T12: =خرداد!S30 -> 0 | U12: =SUM(K12:T14)-N12 -> 0
C13: وصولی | D13: =خرداد!C31 -> 0 | E13: =خرداد!D31 -> 0 | F13: =خرداد!E31 -> 0 | G13: =خرداد!F31 -> 0 | H13: =خرداد!G31 -> 0 | I13: =خرداد!H31 -> 0 | J13: =خرداد!I31 -> 0 | K13: =D13+E13+F13+G13+H13+I13+J13 -> 0 | U13: =K13+N13+P13+Q13+R13+S13+T13 -> 0
C14: کسورات | D14: =خرداد!C32 -> 0 | E14: =خرداد!D32 -> 0 | F14: =خرداد!E32 -> 0 | G14: =خرداد!F32 -> 0 | H14: =خرداد!G32 -> 0 | I14: =خرداد!H32 -> 0 | J14: =خرداد!I32 -> 0 | K14: =D14+E14+F14+G14+H14+I14+J14 -> 0 | U14: =K14+N14+P14+Q14+R14+S14+T14 -> 0
B15: تير | C15: ارسالی | D15: =تیر!C30 -> 0 | E15: =تیر!D30 -> 0 | F15: =تیر!E30 -> 0 | G15: =تیر!F30 -> 0 | H15: =تیر!G30 -> 0 | I15: =تیر!H30 -> 0 | J15: =تیر!I30 -> 0 | K15: =D15+E15+F15+G15+H15+I15+J15 -> 0 | L15: =تیر!K30 -> 0 | M15: =تیر!L30 -> 0 | N15: =تیر!M30 -> 0 | O15: =تیر!N30 -> 0 | P15: =تیر!O30 -> 0 | Q15: =تیر!P30 -> 0 | R15: =تیر!Q30 -> 0 | S15: =تیر!R30 -> 0 | T15: =تیر!S30 -> 0 | U15: =SUM(K15:T17)-N15 -> 0
C16: وصولی | D16: =تیر!C31 -> 0 | E16: =تیر!D31 -> 0 | F16: =تیر!E31 -> 0 | G16: =تیر!F31 -> 0 | H16: =تیر!G31 -> 0 | I16: =تیر!H31 -> 0 | J16: =تیر!I31 -> 0 | K16: =D16+E16+F16+G16+H16+I16+J16 -> 0 | U16: =K16+N16+P16+Q16+R16+S16+T16 -> 0
C17: کسورات | D17: =تیر!C32 -> 0 | E17: =تیر!D32 -> 0 | F17: =تیر!E32 -> 0 | G17: =تیر!F32 -> 0 | H17: =تیر!G32 -> 0 | I17: =تیر!H32 -> 0 | J17: =تیر!I32 -> 0 | K17: =D17+E17+F17+G17+H17+I17+J17 -> 0 | U17: =K17+N17+P17+Q17+R17+S17+T17 -> 0
B18: مرداد | C18: ارسالی | D18: =مرداد!C30 -> 0 | E18: =مرداد!D30 -> 0 | F18: =مرداد!E30 -> 0 | G18: =مرداد!F30 -> 0 | H18: =مرداد!G30 -> 0 | I18: =مرداد!H30 -> 0 | J18: =مرداد!I30 -> 0 | K18: =D18+E18+F18+G18+H18+I18+J18 -> 0 | L18: =مرداد!K30 -> 0 | M18: =مرداد!L30 -> 0 | N18: =مرداد!M30 -> 0 | O18: =مرداد!N30 -> 0 | P18: =مرداد!O30 -> 0 | Q18: =مرداد!P30 -> 0 | R18: =مرداد!Q30 -> 0 | S18: =مرداد!R30 -> 0 | T18: =مرداد!S30 -> 0 | U18: =SUM(K18:T20)-N18 -> 0
C19: وصولی | D19: =مرداد!C31 -> 0 | E19: =مرداد!D31 -> 0 | F19: =مرداد!E31 -> 0 | G19: =مرداد!F31 -> 0 | H19: =مرداد!G31 -> 0 | I19: =مرداد!H31 -> 0 | J19: =مرداد!I31 -> 0 | K19: =D19+E19+F19+G19+H19+I19+J19 -> 0 | U19: =K19+N19+P19+Q19+R19+S19+T19 -> 0
C20: کسورات | D20: =مرداد!C32 -> 0 | E20: =مرداد!D32 -> 0 | F20: =مرداد!E32 -> 0 | G20: =مرداد!F32 -> 0 | H20: =مرداد!G32 -> 0 | I20: =مرداد!H32 -> 0 | J20: =مرداد!I32 -> 0 | K20: =D20+E20+F20+G20+H20+I20+J20 -> 0 | U20: =K20+N20+P20+Q20+R20+S20+T20 -> 0
B21: تغییر تعرفه | C21: ارسالی | D21: ='تغییر تعرفه'!C30 -> 0 | E21: ='تغییر تعرفه'!D30 -> 0 | F21: ='تغییر تعرفه'!E30 -> 0 | G21: ='تغییر تعرفه'!F30 -> 0 | H21: ='تغییر تعرفه'!G30 -> 0 | I21: ='تغییر تعرفه'!H30 -> 0 | J21: ='تغییر تعرفه'!I30 -> 0 | K21: =D21+E21+F21+G21+H21+I21+J21 -> 0 | L21: ='تغییر تعرفه'!K30 -> 0 | M21: ='تغییر تعرفه'!L30 -> 0 | N21: ='تغییر تعرفه'!M30 -> 0 | O21: ='تغییر تعرفه'!N30 -> 0 | P21: ='تغییر تعرفه'!O30 -> 0 | Q21: ='تغییر تعرفه'!P30 -> 0 | R21: ='تغییر تعرفه'!Q30 -> 0 | S21: ='تغییر تعرفه'!R30 -> 0 | T21: ='تغییر تعرفه'!S30 -> 0 | U21: =SUM(K21:T23)-N21 -> 0
C22: وصولی | D22: ='تغییر تعرفه'!C31 -> 0 | E22: ='تغییر تعرفه'!D31 -> 0 | F22: ='تغییر تعرفه'!E31 -> 0 | G22: ='تغییر تعرفه'!F31 -> 0 | H22: ='تغییر تعرفه'!G31 -> 0 | I22: ='تغییر تعرفه'!H31 -> 0 | J22: ='تغییر تعرفه'!I31 -> 0 | K22: =D22+E22+F22+G22+H22+I22+J22 -> 0 | U22: =K22+N22+P22+Q22+R22+S22+T22 -> 0
C23: کسورات | D23: ='تغییر تعرفه'!C32 -> 0 | E23: ='تغییر تعرفه'!D32 -> 0 | F23: ='تغییر تعرفه'!E32 -> 0 | G23: ='تغییر تعرفه'!F32 -> 0 | H23: ='تغییر تعرفه'!G32 -> 0 | I23: ='تغییر تعرفه'!H32 -> 0 | J23: ='تغییر تعرفه'!I32 -> 0 | K23: =D23+E23+F23+G23+H23+I23+J23 -> 0 | U23: =K23+N23+P23+Q23+R23+S23+T23 -> 0
B24: شهريور | C24: ارسالی | D24: =شهریور!C30 -> 0 | E24: =شهریور!D30 -> 0 | F24: =شهریور!E30 -> 0 | G24: =شهریور!F30 -> 0 | H24: =شهریور!G30 -> 0 | I24: =شهریور!H30 -> 0 | J24: =شهریور!I30 -> 0 | K24: =D24+E24+F24+G24+H24+I24+J24 -> 0 | L24: =شهریور!K30 -> 0 | M24: =شهریور!L30 -> 0 | N24: =شهریور!M30 -> 0 | O24: =شهریور!N30 -> 0 | P24: =شهریور!O30 -> 0 | Q24: =شهریور!P30 -> 0 | R24: =شهریور!Q30 -> 0 | S24: =شهریور!R30 -> 0 | T24: =شهریور!S30 -> 0 | U24: =SUM(K24:T26)-N24 -> 0
C25: وصولی | D25: =شهریور!C31 -> 0 | E25: =شهریور!D31 -> 0 | F25: =شهریور!E31 -> 0 | G25: =شهریور!F31 -> 0 | H25: =شهریور!G31 -> 0 | I25: =شهریور!H31 -> 0 | J25: =شهریور!I31 -> 0 | K25: =D25+E25+F25+G25+H25+I25+J25 -> 0 | U25: =K25+N25+P25+Q25+R25+S25+T25 -> 0
C26: کسورات | D26: =شهریور!C32 -> 0 | E26: =شهریور!D32 -> 0 | F26: =شهریور!E32 -> 0 | G26: =شهریور!F32 -> 0 | H26: =شهریور!G32 -> 0 | I26: =شهریور!H32 -> 0 | J26: =شهریور!I32 -> 0 | K26: =D26+E26+F26+G26+H26+I26+J26 -> 0 | U26: =K26+N26+P26+Q26+R26+S26+T26 -> 0
B27: مهر | C27: ارسالی | D27: =مهر!C30 -> 0 | E27: =مهر!D30 -> 0 | F27: =مهر!E30 -> 0 | G27: =مهر!F30 -> 0 | H27: =مهر!G30 -> 0 | I27: =مهر!H30 -> 0 | J27: =مهر!I30 -> 0 | K27: =D27+E27+F27+G27+H27+I27+J27 -> 0 | L27: =مهر!K30 -> 0 | M27: =مهر!L30 -> 0 | N27: =مهر!M30 -> 0 | O27: =مهر!N30 -> 0 | P27: =مهر!O30 -> 0 | Q27: =مهر!P30 -> 0 | R27: =مهر!Q30 -> 0 | S27: =مهر!R30 -> 0 | T27: =مهر!S30 -> 0 | U27: =SUM(K27:T29)-N27 -> 0
C28: وصولی | D28: =مهر!C31 -> 0 | E28: =مهر!D31 -> 0 | F28: =مهر!E31 -> 0 | G28: =مهر!F31 -> 0 | H28: =مهر!G31 -> 0 | I28: =مهر!H31 -> 0 | J28: =مهر!I31 -> 0 | K28: =D28+E28+F28+G28+H28+I28+J28 -> 0 | U28: =K28+N28+P28+Q28+R28+S28+T28 -> 0
C29: کسورات | D29: =مهر!C32 -> 0 | E29: =مهر!D32 -> 0 | F29: =مهر!E32 -> 0 | G29: =مهر!F32 -> 0 | H29: =مهر!G32 -> 0 | I29: =مهر!H32 -> 0 | J29: =مهر!I32 -> 0 | K29: =D29+E29+F29+G29+H29+I29+J29 -> 0 | U29: =K29+N29+P29+Q29+R29+S29+T29 -> 0
B30: آبان | C30: ارسالی | D30: =آبان!C30 -> 0 | E30: =آبان!D30 -> 0 | F30: =آبان!E30 -> 0 | G30: =آبان!F30 -> 0 | H30: =آبان!G30 -> 0 | I30: =آبان!H30 -> 0 | J30: =آبان!I30 -> 0 | K30: =D30+E30+F30+G30+H30+I30+J30 -> 0 | L30: =آبان!K30 -> 0 | M30: =آبان!L30 -> 0 | N30: =آبان!M30 -> 0 | O30: =آبان!N30 -> 0 | P30: =آبان!O30 -> 0 | Q30: =آبان!P30 -> 0 | R30: =آبان!Q30 -> 0 | S30: =آبان!R30 -> 0 | T30: =آبان!S30 -> 0 | U30: =SUM(K30:T32)-N30 -> 0
C31: وصولی | D31: =آبان!C31 -> 0 | E31: =آبان!D31 -> 0 | F31: =آبان!E31 -> 0 | G31: =آبان!F31 -> 0 | H31: =آبان!G31 -> 0 | I31: =آبان!H31 -> 0 | J31: =آبان!I31 -> 0 | K31: =D31+E31+F31+G31+H31+I31+J31 -> 0 | U31: =K31+N31+P31+Q31+R31+S31+T31 -> 0
C32: کسورات | D32: =آبان!C32 -> 0 | E32: =آبان!D32 -> 0 | F32: =آبان!E32 -> 0 | G32: =آبان!F32 -> 0 | H32: =آبان!G32 -> 0 | I32: =آبان!H32 -> 0 | J32: =آبان!I32 -> 0 | K32: =D32+E32+F32+G32+H32+I32+J32 -> 0 | U32: =K32+N32+P32+Q32+R32+S32+T32 -> 0
B33: آذر | C33: ارسالی | D33: =آذر!C30 -> 0 | E33: =آذر!D30 -> 0 | F33: =آذر!E30 -> 0 | G33: =آذر!F30 -> 0 | H33: =آذر!G30 -> 0 | I33: =آذر!H30 -> 0 | J33: =آذر!I30 -> 0 | K33: =D33+E33+F33+G33+H33+I33+J33 -> 0 | L33: =آذر!K30 -> 0 | M33: =آذر!L30 -> 0 | N33: =آذر!M30 -> 0 | O33: =آذر!N30 -> 0 | P33: =آذر!O30 -> 0 | Q33: =آذر!P30 -> 0 | R33: =آذر!Q30 -> 0 | S33: =آذر!R30 -> 0 | T33: =آذر!S30 -> 0 | U33: =SUM(K33:T35)-N33 -> 0
C34: وصولی | D34: =آذر!C31 -> 0 | E34: =آذر!D31 -> 0 | F34: =آذر!E31 -> 0 | G34: =آذر!F31 -> 0 | H34: =آذر!G31 -> 0 | I34: =آذر!H31 -> 0 | J34: =آذر!I31 -> 0 | K34: =D34+E34+F34+G34+H34+I34+J34 -> 0 | U34: =K34+N34+P34+Q34+R34+S34+T34 -> 0
C35: کسورات | D35: =آذر!C32 -> 0 | E35: =آذر!D32 -> 0 | F35: =آذر!E32 -> 0 | G35: =آذر!F32 -> 0 | H35: =آذر!G32 -> 0 | I35: =آذر!H32 -> 0 | J35: =آذر!I32 -> 0 | K35: =D35+E35+F35+G35+H35+I35+J35 -> 0 | U35: =K35+N35+P35+Q35+R35+S35+T35 -> 0
B36: دي | C36: ارسالی | D36: =دی!C30 -> 0 | E36: =دی!D30 -> 0 | F36: =دی!E30 -> 0 | G36: =دی!F30 -> 0 | H36: =دی!G30 -> 0 | I36: =دی!H30 -> 0 | J36: =دی!I30 -> 0 | K36: =D36+E36+F36+G36+H36+I36+J36 -> 0 | L36: =دی!K30 -> 0 | M36: =دی!L30 -> 0 | N36: =دی!M30 -> 0 | O36: =دی!N30 -> 0 | P36: =دی!O30 -> 0 | Q36: =دی!P30 -> 0 | R36: =دی!Q30 -> 0 | S36: =دی!R30 -> 0 | T36: =دی!S30 -> 0 | U36: =SUM(K36:T38)-N36 -> 0
C37: وصولی | D37: =دی!C31 -> 0 | E37: =دی!D31 -> 0 | F37: =دی!E31 -> 0 | G37: =دی!F31 -> 0 | H37: =دی!G31 -> 0 | I37: =دی!H31 -> 0 | J37: =دی!I31 -> 0 | K37: =D37+E37+F37+G37+H37+I37+J37 -> 0 | U37: =K37+N37+P37+Q37+R37+S37+T37 -> 0
C38: کسورات | D38: =دی!C32 -> 0 | E38: =دی!D32 -> 0 | F38: =دی!E32 -> 0 | G38: =دی!F32 -> 0 | H38: =دی!G32 -> 0 | I38: =دی!H32 -> 0 | J38: =دی!I32 -> 0 | K38: =D38+E38+F38+G38+H38+I38+J38 -> 0 | U38: =K38+N38+P38+Q38+R38+S38+T38 -> 0
B39: بهمن | C39: ارسالی | D39: =بهمن!C30 -> 0 | E39: =بهمن!D30 -> 0 | F39: =بهمن!E30 -> 0 | G39: =بهمن!F30 -> 0 | H39: =بهمن!G30 -> 0 | I39: =بهمن!H30 -> 0 | J39: =بهمن!I30 -> 0 | K39: =D39+E39+F39+G39+H39+I39+J39 -> 0 | L39: =بهمن!K30 -> 0 | M39: =بهمن!L30 -> 0 | N39: =بهمن!M30 -> 0 | O39: =بهمن!N30 -> 0 | P39: =بهمن!O30 -> 0 | Q39: =بهمن!P30 -> 0 | R39: =بهمن!Q30 -> 0 | S39: =بهمن!R30 -> 0 | T39: =بهمن!S30 -> 0 | U39: =SUM(K39:T41)-N39 -> 0
C40: وصولی | D40: =بهمن!C31 -> 0 | E40: =بهمن!D31 -> 0 | F40: =بهمن!E31 -> 0 | G40: =بهمن!F31 -> 0 | H40: =بهمن!G31 -> 0 | I40: =بهمن!H31 -> 0 | J40: =بهمن!I31 -> 0 | K40: =D40+E40+F40+G40+H40+I40+J40 -> 0 | U40: =K40+N40+P40+Q40+R40+S40+T40 -> 0
C41: کسورات | D41: =بهمن!C32 -> 0 | E41: =بهمن!D32 -> 0 | F41: =بهمن!E32 -> 0 | G41: =بهمن!F32 -> 0 | H41: =بهمن!G32 -> 0 | I41: =بهمن!H32 -> 0 | J41: =بهمن!I32 -> 0 | K41: =D41+E41+F41+G41+H41+I41+J41 -> 0 | U41: =K41+N41+P41+Q41+R41+S41+T41 -> 0
B42: اسفند | C42: ارسالی | D42: =اسفند!C30 -> 0 | E42: =اسفند!D30 -> 0 | F42: =اسفند!E30 -> 0 | G42: =اسفند!F30 -> 0 | H42: =اسفند!G30 -> 0 | I42: =اسفند!H30 -> 0 | J42: =اسفند!I30 -> 0 | K42: =D42+E42+F42+G42+H42+I42+J42 -> 0 | L42: =اسفند!K30 -> 0 | M42: =اسفند!L30 -> 0 | N42: =اسفند!M30 -> 0 | O42: =اسفند!N30 -> 0 | P42: =اسفند!O30 -> 0 | Q42: =اسفند!P30 -> 0 | R42: =اسفند!Q30 -> 0 | S42: =اسفند!R30 -> 0 | T42: =اسفند!S30 -> 0 | U42: =SUM(K42:T44)-N42 -> 0
C43: وصولی | D43: =اسفند!C31 -> 0 | E43: =اسفند!D31 -> 0 | F43: =اسفند!E31 -> 0 | G43: =اسفند!F31 -> 0 | H43: =اسفند!G31 -> 0 | I43: =اسفند!H31 -> 0 | J43: =اسفند!I31 -> 0 | K43: =D43+E43+F43+G43+H43+I43+J43 -> 0 | U43: =K43+N43+P43+Q43+R43+S43+T43 -> 0
C44: کسورات | D44: =اسفند!C32 -> 0 | E44: =اسفند!D32 -> 0 | F44: =اسفند!E32 -> 0 | G44: =اسفند!F32 -> 0 | H44: =اسفند!G32 -> 0 | I44: =اسفند!H32 -> 0 | J44: =اسفند!I32 -> 0 | K44: =D44+E44+F44+G44+H44+I44+J44 -> 0 | U44: =K44+N44+P44+Q44+R44+S44+T44 -> 0
B45: جمع کل | C45: ارسالی | D45: =D6+D9+D12+D15+D18+D21+D24+D27+D30+D33+D36+D39+D42 -> 0 | E45: =E6+E9+E12+E15+E18+E21+E24+E27+E30+E33+E36+E39+E42 -> 0 | F45: =F6+F9+F12+F15+F18+F21+F24+F27+F30+F33+F36+F39+F42 -> 0 | G45: =G6+G9+G12+G15+G18+G21+G24+G27+G30+G33+G36+G39+G42 -> 0 | H45: =H6+H9+H12+H15+H18+H21+H24+H27+H30+H33+H36+H39+H42 -> 0 | I45: =I6+I9+I12+I15+I18+I21+I24+I27+I30+I33+I36+I39+I42 -> 0 | J45: =J6+J9+J12+J15+J18+J21+J24+J27+J30+J33+J36+J39+J42 -> 0 | K45: =K6+K9+K12+K15+K18+K21+K24+K27+K30+K33+K36+K39+K42 -> 0 | L45: =SUM(L6:L44) -> 0 | M45: =SUM(M6:M44) -> 0 | N45: =SUM(N6:N44) -> 0 | O45: =SUM(O6:O44) -> 0 | P45: =SUM(P6:P44) -> 0 | Q45: =SUM(Q6:Q44) -> 0 | R45: =SUM(R6:R44) -> 0 | S45: =SUM(S6:S44) -> 0 | T45: =SUM(T6:T44) -> 0 | U45: =SUM(K45:T47)-N45 -> 0
C46: وصولی | D46: =D7+D10+D13+D16+D19+D22+D25+D28+D31+D34+D37+D40+D43 -> 0 | E46: =E7+E10+E13+E16+E19+E22+E25+E28+E31+E34+E37+E40+E43 -> 0 | F46: =F7+F10+F13+F16+F19+F22+F25+F28+F31+F34+F37+F40+F43 -> 0 | G46: =G7+G10+G13+G16+G19+G22+G25+G28+G31+G34+G37+G40+G43 -> 0 | H46: =H7+H10+H13+H16+H19+H22+H25+H28+H31+H34+H37+H40+H43 -> 0 | I46: =I7+I10+I13+I16+I19+I22+I25+I28+I31+I34+I37+I40+I43 -> 0 | J46: =J7+J10+J13+J16+J19+J22+J25+J28+J31+J34+J37+J40+J43 -> 0 | K46: =K7+K10+K13+K16+K19+K22+K25+K28+K31+K34+K37+K40+K43 -> 0 | U46: =K46+N46+P46+Q46+R46+S46+T46 -> 0
C47: کسورات | D47: =D8+D11+D14+D17+D20+D23+D26+D29+D32+D35+D38+D41+D44 -> 0 | E47: =E8+E11+E14+E17+E20+E23+E26+E29+E32+E35+E38+E41+E44 -> 0 | F47: =F8+F11+F14+F17+F20+F23+F26+F29+F32+F35+F38+F41+F44 -> 0 | G47: =G8+G11+G14+G17+G20+G23+G26+G29+G32+G35+G38+G41+G44 -> 0 | H47: =H8+H11+H14+H17+H20+H23+H26+H29+H32+H35+H38+H41+H44 -> 0 | I47: =I8+I11+I14+I17+I20+I23+I26+I29+I32+I35+I38+I41+I44 -> 0 | J47: =J8+J11+J14+J17+J20+J23+J26+J29+J32+J35+J38+J41+J44 -> 0 | K47: =K8+K11+K14+K17+K20+K23+K26+K29+K32+K35+K38+K41+K44 -> 0 | U47: =K47+N47+P47+Q47+R47+S47+T47 -> 0

Sheet 99933001
B1: کاربرگ اطلاعات درآمد 1393
B2: نام واحد
B3: برنامه:99933001
B4: دوره | C4: درامد | D4: بیمه ای | L4: کارت بهداشت | M4: سایر درآمد ها | N4: کنترل نسخ دریافتی ارسال نشده | O4: درامد نقدی (صندوق) | P4: بدهکاران اشخاص (بیماران تسویه نشده) | Q4: نیازمندان | R4: ترافیکی | S4: منازل سازمانی | T4: سایر قراردادها ودرامدها | U4: جمع کل درآمد
D5: تامین اجتماعی | E5: خدمات درمانی | F5: کمیته امداد | G5: نیروهای مسلح | H5: بیمه ذغال سنگ | I5: بیمه فولاد | J5: سایر بیمه ها | K5: جمع کل درامد بیمه ای
B6: فروردين | C6: ارسالی | D6: =فروردین!C33 -> 0 | E6: =فروردین!D33 -> 0 | F6: =فروردین!E33 -> 0 | G6: =فروردین!F33 -> 0 | H6: =فروردین!G33 -> 0 | I6: =فروردین!H33 -> 0 | J6: =فروردین!I33 -> 0 | K6: =D6+E6+F6+G6+H6+I6+J6 -> 0 | L6: =فروردین!K33 -> 0 | M6: =فروردین!L33 -> 0 | N6: =فروردین!M33 -> 0 | O6: =فروردین!N33 -> 0 | P6: =فروردین!O33 -> 0 | Q6: =فروردین!P33 -> 0 | R6: =فروردین!Q33 -> 0 | S6: =فروردین!R33 -> 0 | T6: =فروردین!S33 -> 0 | U6: =SUM(K6:T8)-N6-K7-K8 -> 0
C7: وصولی | D7: =فروردین!C34 -> 0 | E7: =فروردین!D34 -> 0 | F7: =فروردین!E34 -> 0 | G7: =فروردین!F34 -> 0 | H7: =فروردین!G34 -> 0 | I7: =فروردین!H34 -> 0 | J7: =فروردین!I34 -> 0 | K7: =D7+E7+F7+G7+H7+I7+J7 -> 0 | U7: =K7+N7+P7+Q7+R7+S7+T7 -> 0
C8: کسورات | D8: =فروردین!C35 -> 0 | E8: =فروردین!D35 -> 0 | F8: =فروردین!E35 -> 0 | G8: =فروردین!F35 -> 0 | H8: =فروردین!G35 -> 0 | I8: =فروردین!H35 -> 0 | J8: =فروردین!I35 -> 0 | K8: =D8+E8+F8+G8+H8+I8+J8 -> 0 | U8: =K8+N8+P8+Q8+R8+S8+T8 -> 0
B9: ارديبهشت | C9: ارسالی | D9: =اردیبهشت!C33 -> 0 | E9: =اردیبهشت!D33 -> 0 | F9: =اردیبهشت!E33 -> 0 | G9: =اردیبهشت!F33 -> 0 | H9: =اردیبهشت!G33 -> 0 | I9: =اردیبهشت!H33 -> 0 | J9: =اردیبهشت!I33 -> 0 | K9: =D9+E9+F9+G9+H9+I9+J9 -> 0 | L9: =اردیبهشت!K33 -> 0 | M9: =اردیبهشت!L33 -> 0 | N9: =اردیبهشت!M33 -> 0 | O9: =اردیبهشت!N33 -> 0 | P9: =اردیبهشت!O33 -> 0 | Q9: =اردیبهشت!P33 -> 0 | R9: =اردیبهشت!Q33 -> 0 | S9: =اردیبهشت!R33 -> 0 | T9: =اردیبهشت!S33 -> 0 | U9: =SUM(K9:T11)-N9 -> 0
C10: وصولی | D10: =اردیبهشت!C34 -> 0 | E10: =اردیبهشت!D34 -> 0 | F10: =اردیبهشت!E34 -> 0 | G10: =اردیبهشت!F34 -> 0 | H10: =اردیبهشت!G34 -> 0 | I10: =اردیبهشت!H34 -> 0 | J10: =اردیبهشت!I34 -> 0 | K10: =D10+E10+F10+G10+H10+I10+J10 -> 0 | U10: =K10+N10+P10+Q10+R10+S10+T10 -> 0
C11: کسورات | D11: =اردیبهشت!C35 -> 0 | E11: =اردیبهشت!D35 -> 0 | F11: =اردیبهشت!E35 -> 0 | G11: =اردیبهشت!F35 -> 0 | H11: =اردیبهشت!G35 -> 0 | I11: =اردیبهشت!H35 -> 0 | J11: =اردیبهشت!I35 -> 0 | K11: =D11+E11+F11+G11+H11+I11+J11 -> 0 | U11: =K11+N11+P11+Q11+R11+S11+T11 -> 0
B12: خرداد | C12: ارسالی | D12: =خرداد!C33 -> 0 | E12: =خرداد!D33 -> 0 | F12: =خرداد!E33 -> 0 | G12: =خرداد!F33 -> 0 | H12: =خرداد!G33 -> 0 | I12: =خرداد!H33 -> 0 | J12: =خرداد!I33 -> 0 | K12: =D12+E12+F12+G12+H12+I12+J12 -> 0 | L12: =خرداد!K33 -> 0 | M12: =خرداد!L33 -> 0 | N12: =خرداد!M33 -> 0 | O12: =خرداد!N33 -> 0 | P12: =خرداد!O33 -> 0 | Q12: =خرداد!P33 -> 0 | R12: =خرداد!Q33 -> 0 | S12: =خرداد!R33 -> 0 | T12: =خرداد!S33 -> 0 | U12: =SUM(K12:T14)-N12 -> 0
C13: وصولی | D13: =خرداد!C34 -> 0 | E13: =خرداد!D34 -> 0 | F13: =خرداد!E34 -> 0 | G13: =خرداد!F34 -> 0 | H13: =خرداد!G34 -> 0 | I13: =خرداد!H34 -> 0 | J13: =خرداد!I34 -> 0 | K13: =D13+E13+F13+G13+H13+I13+J13 -> 0 | U13: =K13+N13+P13+Q13+R13+S13+T13 -> 0
C14: کسورات | D14: =خرداد!C35 -> 0 | E14: =خرداد!D35 -> 0 | F14: =خرداد!E35 -> 0 | G14: =خرداد!F35 -> 0 | H14: =خرداد!G35 -> 0 | I14: =خرداد!H35 -> 0 | J14: =خرداد!I35 -> 0 | K14: =D14+E14+F14+G14+H14+I14+J14 -> 0 | U14: =K14+N14+P14+Q14+R14+S14+T14 -> 0
B15: تير | C15: ارسالی | D15: =تیر!C33 -> 0 | E15: =تیر!D33 -> 0 | F15: =تیر!E33 -> 0 | G15: =تیر!F33 -> 0 | H15: =تیر!G33 -> 0 | I15: =تیر!H33 -> 0 | J15: =تیر!I33 -> 0 | K15: =D15+E15+F15+G15+H15+I15+J15 -> 0 | L15: =تیر!K33 -> 0 | M15: =تیر!L33 -> 0 | N15: =تیر!M33 -> 0 | O15: =تیر!N33 -> 0 | P15: =تیر!O33 -> 0 | Q15: =تیر!P33 -> 0 | R15: =تیر!Q33 -> 0 | S15: =تیر!R33 -> 0 | T15: =تیر!S33 -> 0 | U15: =SUM(K15:T17)-N15 -> 0
C16: وصولی | D16: =تیر!C34 -> 0 | E16: =تیر!D34 -> 0 | F16: =تیر!E34 -> 0 | G16: =تیر!F34 -> 0 | H16: =تیر!G34 -> 0 | I16: =تیر!H34 -> 0 | J16: =تیر!I34 -> 0 | K16: =D16+E16+F16+G16+H16+I16+J16 -> 0 | U16: =K16+N16+P16+Q16+R16+S16+T16 -> 0
C17: کسورات | D17: =تیر!C35 -> 0 | E17: =تیر!D35 -> 0 | F17: =تیر!E35 -> 0 | G17: =تیر!F35 -> 0 | H17: =تیر!G35 -> 0 | I17: =تیر!H35 -> 0 | J17: =تیر!I35 -> 0 | K17: =D17+E17+F17+G17+H17+I17+J17 -> 0 | U17: =K17+N17+P17+Q17+R17+S17+T17 -> 0
B18: مرداد | C18: ارسالی | D18: =مرداد!C33 -> 0 | E18: =مرداد!D33 -> 0 | F18: =مرداد!E33 -> 0 | G18: =مرداد!F33 -> 0 | H18: =مرداد!G33 -> 0 | I18: =مرداد!H33 -> 0 | J18: =مرداد!I33 -> 0 | K18: =D18+E18+F18+G18+H18+I18+J18 -> 0 | L18: =مرداد!K33 -> 0 | M18: =مرداد!L33 -> 0 | N18: =مرداد!M33 -> 0 | O18: =مرداد!N33 -> 0 | P18: =مرداد!O33 -> 0 | Q18: =مرداد!P33 -> 0 | R18: =مرداد!Q33 -> 0 | S18: =مرداد!R33 -> 0 | T18: =مرداد!S33 -> 0 | U18: =SUM(K18:T20)-N18 -> 0
C19: وصولی | D19: =مرداد!C34 -> 0 | E19: =مرداد!D34 -> 0 | F19: =مرداد!E34 -> 0 | G19: =مرداد!F34 -> 0 | H19: =مرداد!G34 -> 0 | I19: =مرداد!H34 -> 0 | J19: =مرداد!I34 -> 0 | K19: =D19+E19+F19+G19+H19+I19+J19 -> 0 | U19: =K19+N19+P19+Q19+R19+S19+T19 -> 0
C20: کسورات | D20: =مرداد!C35 -> 0 | E20: =مرداد!D35 -> 0 | F20: =مرداد!E35 -> 0 | G20: =مرداد!F35 -> 0 | H20: =مرداد!G35 -> 0 | I20: =مرداد!H35 -> 0 | J20: =مرداد!I35 -> 0 | K20: =D20+E20+F20+G20+H20+I20+J20 -> 0 | U20: =K20+N20+P20+Q20+R20+S20+T20 -> 0
B21: تغییر تعرفه | C21: ارسالی | D21: ='تغییر تعرفه'!C33 -> 0 | E21: ='تغییر تعرفه'!D33 -> 0 | F21: ='تغییر تعرفه'!E33 -> 0 | G21: ='تغییر تعرفه'!F33 -> 0 | H21: ='تغییر تعرفه'!G33 -> 0 | I21: ='تغییر تعرفه'!H33 -> 0 | J21: ='تغییر تعرفه'!I33 -> 0 | K21: =D21+E21+F21+G21+H21+I21+J21 -> 0 | L21: ='تغییر تعرفه'!K33 -> 0 | M21: ='تغییر تعرفه'!L33 -> 0 | N21: ='تغییر تعرفه'!M33 -> 0 | O21: ='تغییر تعرفه'!N33 -> 0 | P21: ='تغییر تعرفه'!O33 -> 0 | Q21: ='تغییر تعرفه'!P33 -> 0 | R21: ='تغییر تعرفه'!Q33 -> 0 | S21: ='تغییر تعرفه'!R33 -> 0 | T21: ='تغییر تعرفه'!S33 -> 0 | U21: =SUM(K21:T23)-N21 -> 0
C22: وصولی | D22: ='تغییر تعرفه'!C34 -> 0 | E22: ='تغییر تعرفه'!D34 -> 0 | F22: ='تغییر تعرفه'!E34 -> 0 | G22: ='تغییر تعرفه'!F34 -> 0 | H22: ='تغییر تعرفه'!G34 -> 0 | I22: ='تغییر تعرفه'!H34 -> 0 | J22: ='تغییر تعرفه'!I34 -> 0 | K22: =D22+E22+F22+G22+H22+I22+J22 -> 0 | U22: =K22+N22+P22+Q22+R22+S22+T22 -> 0
C23: کسورات | D23: ='تغییر تعرفه'!C35 -> 0 | E23: ='تغییر تعرفه'!D35 -> 0 | F23: ='تغییر تعرفه'!E35 -> 0 | G23: ='تغییر تعرفه'!F35 -> 0 | H23: ='تغییر تعرفه'!G35 -> 0 | I23: ='تغییر تعرفه'!H35 -> 0 | J23: ='تغییر تعرفه'!I35 -> 0 | K23: =D23+E23+F23+G23+H23+I23+J23 -> 0 | U23: =K23+N23+P23+Q23+R23+S23+T23 -> 0
B24: شهريور | C24: ارسالی | D24: =شهریور!C33 -> 0 | E24: =شهریور!D33 -> 0 | F24: =شهریور!E33 -> 0 | G24: =شهریور!F33 -> 0 | H24: =شهریور!G33 -> 0 | I24: =شهریور!H33 -> 0 | J24: =شهریور!I33 -> 0 | K24: =D24+E24+F24+G24+H24+I24+J24 -> 0 | L24: =شهریور!K33 -> 0 | M24: =شهریور!L33 -> 0 | N24: =شهریور!M33 -> 0 | O24: =شهریور!N33 -> 0 | P24: =شهریور!O33 -> 0 | Q24: =شهریور!P33 -> 0 | R24: =شهریور!Q33 -> 0 | S24: =شهریور!R33 -> 0 | T24: =شهریور!S33 -> 0 | U24: =SUM(K24:T26)-N24 -> 0
C25: وصولی | D25: =شهریور!C34 -> 0 | E25: =شهریور!D34 -> 0 | F25: =شهریور!E34 -> 0 | G25: =شهریور!F34 -> 0 | H25: =شهریور!G34 -> 0 | I25: =شهریور!H34 -> 0 | J25: =شهریور!I34 -> 0 | K25: =D25+E25+F25+G25+H25+I25+J25 -> 0 | U25: =K25+N25+P25+Q25+R25+S25+T25 -> 0
C26: کسورات | D26: =شهریور!C35 -> 0 | E26: =شهریور!D35 -> 0 | F26: =شهریور!E35 -> 0 | G26: =شهریور!F35 -> 0 | H26: =شهریور!G35 -> 0 | I26: =شهریور!H35 -> 0 | J26: =شهریور!I35 -> 0 | K26: =D26+E26+F26+G26+H26+I26+J26 -> 0 | U26: =K26+N26+P26+Q26+R26+S26+T26 -> 0
B27: مهر | C27: ارسالی | D27: =مهر!C33 -> 0 | E27: =مهر!D33 -> 0 | F27: =مهر!E33 -> 0 | G27: =مهر!F33 -> 0 | H27: =مهر!G33 -> 0 | I27: =مهر!H33 -> 0 | J27: =مهر!I33 -> 0 | K27: =D27+E27+F27+G27+H27+I27+J27 -> 0 | L27: =مهر!K33 -> 0 | M27: =مهر!L33 -> 0 | N27: =مهر!M33 -> 0 | O27: =مهر!N33 -> 0 | P27: =مهر!O33 -> 0 | Q27: =مهر!P33 -> 0 | R27: =مهر!Q33 -> 0 | S27: =مهر!R33 -> 0 | T27: =مهر!S33 -> 0 | U27: =SUM(K27:T29)-N27 -> 0
C28: وصولی | D28: =مهر!C34 -> 0 | E28: =مهر!D34 -> 0 | F28: =مهر!E34 -> 0 | G28: =مهر!F34 -> 0 | H28: =مهر!G34 -> 0 | I28: =مهر!H34 -> 0 | J28: =مهر!I34 -> 0 | K28: =D28+E28+F28+G28+H28+I28+J28 -> 0 | U28: =K28+N28+P28+Q28+R28+S28+T28 -> 0
C29: کسورات | D29: =مهر!C35 -> 0 | E29: =مهر!D35 -> 0 | F29: =مهر!E35 -> 0 | G29: =مهر!F35 -> 0 | H29: =مهر!G35 -> 0 | I29: =مهر!H35 -> 0 | J29: =مهر!I35 -> 0 | K29: =D29+E29+F29+G29+H29+I29+J29 -> 0 | U29: =K29+N29+P29+Q29+R29+S29+T29 -> 0
B30: آبان | C30: ارسالی | D30: =آبان!C33 -> 0 | E30: =آبان!D33 -> 0 | F30: =آبان!E33 -> 0 | G30: =آبان!F33 -> 0 | H30: =آبان!G33 -> 0 | I30: =آبان!H33 -> 0 | J30: =آبان!I33 -> 0 | K30: =D30+E30+F30+G30+H30+I30+J30 -> 0 | L30: =آبان!K33 -> 0 | M30: =آبان!L33 -> 0 | N30: =آبان!M33 -> 0 | O30: =آبان!N33 -> 0 | P30: =آبان!O33 -> 0 | Q30: =آبان!P33 -> 0 | R30: =آبان!Q33 -> 0 | S30: =آبان!R33 -> 0 | T30: =آبان!S33 -> 0 | U30: =SUM(K30:T32)-N30 -> 0
C31: وصولی | D31: =آبان!C34 -> 0 | E31: =آبان!D34 -> 0 | F31: =آبان!E34 -> 0 | G31: =آبان!F34 -> 0 | H31: =آبان!G34 -> 0 | I31: =آبان!H34 -> 0 | J31: =آبان!I34 -> 0 | K31: =D31+E31+F31+G31+H31+I31+J31 -> 0 | U31: =K31+N31+P31+Q31+R31+S31+T31 -> 0
C32: کسورات | D32: =آبان!C35 -> 0 | E32: =آبان!D35 -> 0 | F32: =آبان!E35 -> 0 | G32: =آبان!F35 -> 0 | H32: =آبان!G35 -> 0 | I32: =آبان!H35 -> 0 | J32: =آبان!I35 -> 0 | K32: =D32+E32+F32+G32+H32+I32+J32 -> 0 | U32: =K32+N32+P32+Q32+R32+S32+T32 -> 0
B33: آذر | C33: ارسالی | D33: =آذر!C33 -> 0 | E33: =آذر!D33 -> 0 | F33: =آذر!E33 -> 0 | G33: =آذر!F33 -> 0 | H33: =آذر!G33 -> 0 | I33: =آذر!H33 -> 0 | J33: =آذر!I33 -> 0 | K33: =D33+E33+F33+G33+H33+I33+J33 -> 0 | L33: =آذر!K33 -> 0 | M33: =آذر!L33 -> 0 | N33: =آذر!M33 -> 0 | O33: =آذر!N33 -> 0 | P33: =آذر!O33 -> 0 | Q33: =آذر!P33 -> 0 | R33: =آذر!Q33 -> 0 | S33: =آذر!R33 -> 0 | T33: =آذر!S33 -> 0 | U33: =SUM(K33:T35)-N33 -> 0
C34: وصولی | D34: =آذر!C34 -> 0 | E34: =آذر!D34 -> 0 | F34: =آذر!E34 -> 0 | G34: =آذر!F34 -> 0 | H34: =آذر!G34 -> 0 | I34: =آذر!H34 -> 0 | J34: =آذر!I34 -> 0 | K34: =D34+E34+F34+G34+H34+I34+J34 -> 0 | U34: =K34+N34+P34+Q34+R34+S34+T34 -> 0
C35: کسورات | D35: =آذر!C35 -> 0 | E35: =آذر!D35 -> 0 | F35: =آذر!E35 -> 0 | G35: =آذر!F35 -> 0 | H35: =آذر!G35 -> 0 | I35: =آذر!H35 -> 0 | J35: =آذر!I35 -> 0 | K35: =D35+E35+F35+G35+H35+I35+J35 -> 0 | U35: =K35+N35+P35+Q35+R35+S35+T35 -> 0
B36: دي | C36: ارسالی | D36: =دی!C33 -> 0 | E36: =دی!D33 -> 0 | F36: =دی!E33 -> 0 | G36: =دی!F33 -> 0 | H36: =دی!G33 -> 0 | I36: =دی!H33 -> 0 | J36: =دی!I33 -> 0 | K36: =D36+E36+F36+G36+H36+I36+J36 -> 0 | L36: =دی!K33 -> 0 | M36: =دی!L33 -> 0 | N36: =دی!M33 -> 0 | O36: =دی!N33 -> 0 | P36: =دی!O33 -> 0 | Q36: =دی!P33 -> 0 | R36: =دی!Q33 -> 0 | S36: =دی!R33 -> 0 | T36: =دی!S33 -> 0 | U36: =SUM(K36:T38)-N36 -> 0
C37: وصولی | D37: =دی!C34 -> 0 | E37: =دی!D34 -> 0 | F37: =دی!E34 -> 0 | G37: =دی!F34 -> 0 | H37: =دی!G34 -> 0 | I37: =دی!H34 -> 0 | J37: =دی!I34 -> 0 | K37: =D37+E37+F37+G37+H37+I37+J37 -> 0 | U37: =K37+N37+P37+Q37+R37+S37+T37 -> 0
C38: کسورات | D38: =دی!C35 -> 0 | E38: =دی!D35 -> 0 | F38: =دی!E35 -> 0 | G38: =دی!F35 -> 0 | H38: =دی!G35 -> 0 | I38: =دی!H35 -> 0 | J38: =دی!I35 -> 0 | K38: =D38+E38+F38+G38+H38+I38+J38 -> 0 | U38: =K38+N38+P38+Q38+R38+S38+T38 -> 0
B39: بهمن | C39: ارسالی | D39: =بهمن!C33 -> 0 | E39: =بهمن!D33 -> 0 | F39: =بهمن!E33 -> 0 | G39: =بهمن!F33 -> 0 | H39: =بهمن!G33 -> 0 | I39: =بهمن!H33 -> 0 | J39: =بهمن!I33 -> 0 | K39: =D39+E39+F39+G39+H39+I39+J39 -> 0 | L39: =بهمن!K33 -> 0 | M39: =بهمن!L33 -> 0 | N39: =بهمن!M33 -> 0 | O39: =بهمن!N33 -> 0 | P39: =بهمن!O33 -> 0 | Q39: =بهمن!P33 -> 0 | R39: =بهمن!Q33 -> 0 | S39: =بهمن!R33 -> 0 | T39: =بهمن!S33 -> 0 | U39: =SUM(K39:T41)-N39 -> 0
C40: وصولی | D40: =بهمن!C34 -> 0 | E40: =بهمن!D34 -> 0 | F40: =بهمن!E34 -> 0 | G40: =بهمن!F34 -> 0 | H40: =بهمن!G34 -> 0 | I40: =بهمن!H34 -> 0 | J40: =بهمن!I34 -> 0 | K40: =D40+E40+F40+G40+H40+I40+J40 -> 0 | U40: =K40+N40+P40+Q40+R40+S40+T40 -> 0
C41: کسورات | D41: =بهمن!C35 -> 0 | E41: =بهمن!D35 -> 0 | F41: =بهمن!E35 -> 0 | G41: =بهمن!F35 -> 0 | H41: =بهمن!G35 -> 0 | I41: =بهمن!H35 -> 0 | J41: =بهمن!I35 -> 0 | K41: =D41+E41+F41+G41+H41+I41+J41 -> 0 | U41: =K41+N41+P41+Q41+R41+S41+T41 -> 0
B42: اسفند | C42: ارسالی | D42: =اسفند!C33 -> 0 | E42: =اسفند!D33 -> 0 | F42: =اسفند!E33 -> 0 | G42: =اسفند!F33 -> 0 | H42: =اسفند!G33 -> 0 | I42: =اسفند!H33 -> 0 | J42: =اسفند!I33 -> 0 | K42: =D42+E42+F42+G42+H42+I42+J42 -> 0 | L42: =اسفند!K33 -> 0 | M42: =اسفند!L33 -> 0 | N42: =اسفند!M33 -> 0 | O42: =اسفند!N33 -> 0 | P42: =اسفند!O33 -> 0 | Q42: =اسفند!P33 -> 0 | R42: =اسفند!Q33 -> 0 | S42: =اسفند!R33 -> 0 | T42: =اسفند!S33 -> 0 | U42: =SUM(K42:T44)-N42 -> 0
C43: وصولی | D43: =اسفند!C34 -> 0 | E43: =اسفند!D34 -> 0 | F43: =اسفند!E34 -> 0 | G43: =اسفند!F34 -> 0 | H43: =اسفند!G34 -> 0 | I43: =اسفند!H34 -> 0 | J43: =اسفند!I34 -> 0 | K43: =D43+E43+F43+G43+H43+I43+J43 -> 0 | U43: =K43+N43+P43+Q43+R43+S43+T43 -> 0
C44: کسورات | D44: =اسفند!C35 -> 0 | E44: =اسفند!D35 -> 0 | F44: =اسفند!E35 -> 0 | G44: =اسفند!F35 -> 0 | H44: =اسفند!G35 -> 0 | I44: =اسفند!H35 -> 0 | J44: =اسفند!I35 -> 0 | K44: =D44+E44+F44+G44+H44+I44+J44 -> 0 | U44: =K44+N44+P44+Q44+R44+S44+T44 -> 0
B45: جمع کل | C45: ارسالی | D45: =D6+D9+D12+D15+D18+D21+D24+D27+D30+D33+D36+D39+D42 -> 0 | E45: =E6+E9+E12+E15+E18+E21+E24+E27+E30+E33+E36+E39+E42 -> 0 | F45: =F6+F9+F12+F15+F18+F21+F24+F27+F30+F33+F36+F39+F42 -> 0 | G45: =G6+G9+G12+G15+G18+G21+G24+G27+G30+G33+G36+G39+G42 -> 0 | H45: =H6+H9+H12+H15+H18+H21+H24+H27+H30+H33+H36+H39+H42 -> 0 | I45: =I6+I9+I12+I15+I18+I21+I24+I27+I30+I33+I36+I39+I42 -> 0 | J45: =J6+J9+J12+J15+J18+J21+J24+J27+J30+J33+J36+J39+J42 -> 0 | K45: =K6+K9+K12+K15+K18+K21+K24+K27+K30+K33+K36+K39+K42 -> 0 | L45: =SUM(L6:L44) -> 0 | M45: =SUM(M6:M44) -> 0 | N45: =SUM(N6:N44) -> 0 | O45: =SUM(O6:O44) -> 0 | P45: =SUM(P6:P44) -> 0 | Q45: =SUM(Q6:Q44) -> 0 | R45: =SUM(R6:R44) -> 0 | S45: =SUM(S6:S44) -> 0 | T45: =SUM(T6:T44) -> 0 | U45: =SUM(K45:T47)-N45 -> 0
C46: وصولی | D46: =D7+D10+D13+D16+D19+D22+D25+D28+D31+D34+D37+D40+D43 -> 0 | E46: =E7+E10+E13+E16+E19+E22+E25+E28+E31+E34+E37+E40+E43 -> 0 | F46: =F7+F10+F13+F16+F19+F22+F25+F28+F31+F34+F37+F40+F43 -> 0 | G46: =G7+G10+G13+G16+G19+G22+G25+G28+G31+G34+G37+G40+G43 -> 0 | H46: =H7+H10+H13+H16+H19+H22+H25+H28+H31+H34+H37+H40+H43 -> 0 | I46: =I7+I10+I13+I16+I19+I22+I25+I28+I31+I34+I37+I40+I43 -> 0 | J46: =J7+J10+J13+J16+J19+J22+J25+J28+J31+J34+J37+J40+J43 -> 0 | K46: =K7+K10+K13+K16+K19+K22+K25+K28+K31+K34+K37+K40+K43 -> 0 | U46: =K46+N46+P46+Q46+R46+S46+T46 -> 0
C47: کسورات | D47: =D8+D11+D14+D17+D20+D23+D26+D29+D32+D35+D38+D41+D44 -> 0 | E47: =E8+E11+E14+E17+E20+E23+E26+E29+E32+E35+E38+E41+E44 -> 0 | F47: =F8+F11+F14+F17+F20+F23+F26+F29+F32+F35+F38+F41+F44 -> 0 | G47: =G8+G11+G14+G17+G20+G23+G26+G29+G32+G35+G38+G41+G44 -> 0 | H47: =H8+H11+H14+H17+H20+H23+H26+H29+H32+H35+H38+H41+H44 -> 0 | I47: =I8+I11+I14+I17+I20+I23+I26+I29+I32+I35+I38+I41+I44 -> 0 | J47: =J8+J11+J14+J17+J20+J23+J26+J29+J32+J35+J38+J41+J44 -> 0 | K47: =K8+K11+K14+K17+K20+K23+K26+K29+K32+K35+K38+K41+K44 -> 0 | U47: =K47+N47+P47+Q47+R47+S47+T47 -> 0

Sheet 10437
B1: کاربرگ اطلاعات درآمد 1393
B2: نام واحد
B3: برنامه:10437000
B4: دوره | C4: درامد | D4: بیمه ای | L4: کارت بهداشت | M4: سایر درآمد ها | N4: کنترل نسخ دریافتی ارسال نشده | O4: درامد نقدی (صندوق) | P4: بدهکاران اشخاص (بیماران تسویه نشده) | Q4: نیازمندان | R4: ترافیکی | S4: منازل سازمانی | T4: سایر قراردادها ودرامدها | U4: جمع کل درآمد
D5: تامین اجتماعی | E5: خدمات درمانی | F5: کمیته امداد | G5: نیروهای مسلح | H5: بیمه ذغال سنگ | I5: بیمه فولاد | J5: سایر بیمه ها | K5: جمع کل درامد بیمه ای
B6: فروردين | C6: ارسالی | D6: =فروردین!C36 -> 0 | E6: =فروردین!D36 -> 0 | F6: =فروردین!E36 -> 0 | G6: =فروردین!F36 -> 0 | H6: =فروردین!G36 -> 0 | I6: =فروردین!H36 -> 0 | J6: =فروردین!I36 -> 0 | K6: =D6+E6+F6+G6+H6+I6+J6 -> 0 | L6: =فروردین!K36 -> 0 | M6: =فروردین!L36 -> 0 | N6: =فروردین!M36 -> 0 | O6: =فروردین!N36 -> 0 | P6: =فروردین!O36 -> 0 | Q6: =فروردین!P36 -> 0 | R6: =فروردین!Q36 -> 0 | S6: =فروردین!R36 -> 0 | T6: =فروردین!S36 -> 0 | U6: =SUM(K6:T8)-N6-K7-K8 -> 0
C7: وصولی | D7: =فروردین!C37 -> 0 | E7: =فروردین!D37 -> 0 | F7: =فروردین!E37 -> 0 | G7: =فروردین!F37 -> 0 | H7: =فروردین!G37 -> 0 | I7: =فروردین!H37 -> 0 | J7: =فروردین!I37 -> 0 | K7: =D7+E7+F7+G7+H7+I7+J7 -> 0 | U7: =K7+N7+P7+Q7+R7+S7+T7 -> 0
C8: کسورات | D8: =فروردین!C38 -> 0 | E8: =فروردین!D38 -> 0 | F8: =فروردین!E38 -> 0 | G8: =فروردین!F38 -> 0 | H8: =فروردین!G38 -> 0 | I8: =فروردین!H38 -> 0 | J8: =فروردین!I38 -> 0 | K8: =D8+E8+F8+G8+H8+I8+J8 -> 0 | U8: =K8+N8+P8+Q8+R8+S8+T8 -> 0
B9: ارديبهشت | C9: ارسالی | D9: =اردیبهشت!C36 -> 0 | E9: =اردیبهشت!D36 -> 0 | F9: =اردیبهشت!E36 -> 0 | G9: =اردیبهشت!F36 -> 0 | H9: =اردیبهشت!G36 -> 0 | I9: =اردیبهشت!H36 -> 0 | J9: =اردیبهشت!I36 -> 0 | K9: =D9+E9+F9+G9+H9+I9+J9 -> 0 | L9: =اردیبهشت!K36 -> 0 | M9: =اردیبهشت!L36 -> 0 | N9: =اردیبهشت!M36 -> 0 | O9: =اردیبهشت!N36 -> 0 | P9: =اردیبهشت!O36 -> 0 | Q9: =اردیبهشت!P36 -> 0 | R9: =اردیبهشت!Q36 -> 0 | S9: =اردیبهشت!R36 -> 0 | T9: =اردیبهشت!S36 -> 0 | U9: =SUM(K9:T11)-N9 -> 0
C10: وصولی | D10: =اردیبهشت!C37 -> 0 | E10: =اردیبهشت!D37 -> 0 | F10: =اردیبهشت!E37 -> 0 | G10: =اردیبهشت!F37 -> 0 | H10: =اردیبهشت!G37 -> 0 | I10: =اردیبهشت!H37 -> 0 | J10: =اردیبهشت!I37 -> 0 | K10: =D10+E10+F10+G10+H10+I10+J10 -> 0 | U10: =K10+N10+P10+Q10+R10+S10+T10 -> 0
C11: کسورات | D11: =اردیبهشت!C38 -> 0 | E11: =اردیبهشت!D38 -> 0 | F11: =اردیبهشت!E38 -> 0 | G11: =اردیبهشت!F38 -> 0 | H11: =اردیبهشت!G38 -> 0 | I11: =اردیبهشت!H38 -> 0 | J11: =اردیبهشت!I38 -> 0 | K11: =D11+E11+F11+G11+H11+I11+J11 -> 0 | U11: =K11+N11+P11+Q11+R11+S11+T11 -> 0
B12: خرداد | C12: ارسالی | D12: =خرداد!C36 -> 0 | E12: =خرداد!D36 -> 0 | F12: =خرداد!E36 -> 0 | G12: =خرداد!F36 -> 0 | H12: =خرداد!G36 -> 0 | I12: =خرداد!H36 -> 0 | J12: =خرداد!I36 -> 0 | K12: =D12+E12+F12+G12+H12+I12+J12 -> 0 | L12: =خرداد!K36 -> 0 | M12: =خرداد!L36 -> 0 | N12: =خرداد!M36 -> 0 | O12: =خرداد!N36 -> 0 | P12: =خرداد!O36 -> 0 | Q12: =خرداد!P36 -> 0 | R12: =خرداد!Q36 -> 0 | S12: =خرداد!R36 -> 0 | T12: =خرداد!S36 -> 0 | U12: =SUM(K12:T14)-N12 -> 0
C13: وصولی | D13: =خرداد!C37 -> 0 | E13: =خرداد!D37 -> 0 | F13: =خرداد!E37 -> 0 | G13: =خرداد!F37 -> 0 | H13: =خرداد!G37 -> 0 | I13: =خرداد!H37 -> 0 | J13: =خرداد!I37 -> 0 | K13: =D13+E13+F13+G13+H13+I13+J13 -> 0 | U13: =K13+N13+P13+Q13+R13+S13+T13 -> 0
C14: کسورات | D14: =خرداد!C38 -> 0 | E14: =خرداد!D38 -> 0 | F14: =خرداد!E38 -> 0 | G14: =خرداد!F38 -> 0 | H14: =خرداد!G38 -> 0 | I14: =خرداد!H38 -> 0 | J14: =خرداد!I38 -> 0 | K14: =D14+E14+F14+G14+H14+I14+J14 -> 0 | U14: =K14+N14+P14+Q14+R14+S14+T14 -> 0
B15: تير | C15: ارسالی | D15: =تیر!C36 -> 0 | E15: =تیر!D36 -> 0 | F15: =تیر!E36 -> 0 | G15: =تیر!F36 -> 0 | H15: =تیر!G36 -> 0 | I15: =تیر!H36 -> 0 | J15: =تیر!I36 -> 0 | K15: =D15+E15+F15+G15+H15+I15+J15 -> 0 | L15: =تیر!K36 -> 0 | M15: =تیر!L36 -> 0 | N15: =تیر!M36 -> 0 | O15: =تیر!N36 -> 0 | P15: =تیر!O36 -> 0 | Q15: =تیر!P36 -> 0 | R15: =تیر!Q36 -> 0 | S15: =تیر!R36 -> 0 | T15: =تیر!S36 -> 0 | U15: =SUM(K15:T17)-N15 -> 0
C16: وصولی | D16: =تیر!C37 -> 0 | E16: =تیر!D37 -> 0 | F16: =تیر!E37 -> 0 | G16: =تیر!F37 -> 0 | H16: =تیر!G37 -> 0 | I16: =تیر!H37 -> 0 | J16: =تیر!I37 -> 0 | K16: =D16+E16+F16+G16+H16+I16+J16 -> 0 | U16: =K16+N16+P16+Q16+R16+S16+T16 -> 0
C17: کسورات | D17: =تیر!C38 -> 0 | E17: =تیر!D38 -> 0 | F17: =تیر!E38 -> 0 | G17: =تیر!F38 -> 0 | H17: =تیر!G38 -> 0 | I17: =تیر!H38 -> 0 | J17: =تیر!I38 -> 0 | K17: =D17+E17+F17+G17+H17+I17+J17 -> 0 | U17: =K17+N17+P17+Q17+R17+S17+T17 -> 0
B18: مرداد | C18: ارسالی | D18: =مرداد!C36 -> 0 | E18: =مرداد!D36 -> 0 | F18: =مرداد!E36 -> 0 | G18: =مرداد!F36 -> 0 | H18: =مرداد!G36 -> 0 | I18: =مرداد!H36 -> 0 | J18: =مرداد!I36 -> 0 | K18: =D18+E18+F18+G18+H18+I18+J18 -> 0 | L18: =مرداد!K36 -> 0 | M18: =مرداد!L36 -> 0 | N18: =مرداد!M36 -> 0 | O18: =مرداد!N36 -> 0 | P18: =مرداد!O36 -> 0 | Q18: =مرداد!P36 -> 0 | R18: =مرداد!Q36 -> 0 | S18: =مرداد!R36 -> 0 | T18: =مرداد!S36 -> 0 | U18: =SUM(K18:T20)-N18 -> 0
C19: وصولی | D19: =مرداد!C37 -> 0 | E19: =مرداد!D37 -> 0 | F19: =مرداد!E37 -> 0 | G19: =مرداد!F37 -> 0 | H19: =مرداد!G37 -> 0 | I19: =مرداد!H37 -> 0 | J19: =مرداد!I37 -> 0 | K19: =D19+E19+F19+G19+H19+I19+J19 -> 0 | U19: =K19+N19+P19+Q19+R19+S19+T19 -> 0
C20: کسورات | D20: =مرداد!C38 -> 0 | E20: =مرداد!D38 -> 0 | F20: =مرداد!E38 -> 0 | G20: =مرداد!F38 -> 0 | H20: =مرداد!G38 -> 0 | I20: =مرداد!H38 -> 0 | J20: =مرداد!I38 -> 0 | K20: =D20+E20+F20+G20+H20+I20+J20 -> 0 | U20: =K20+N20+P20+Q20+R20+S20+T20 -> 0
B21: تغییر تعرفه | C21: ارسالی | D21: ='تغییر تعرفه'!C36 -> 0 | E21: ='تغییر تعرفه'!D36 -> 0 | F21: ='تغییر تعرفه'!E36 -> 0 | G21: ='تغییر تعرفه'!F36 -> 0 | H21: ='تغییر تعرفه'!G36 -> 0 | I21: ='تغییر تعرفه'!H36 -> 0 | J21: ='تغییر تعرفه'!I36 -> 0 | K21: =D21+E21+F21+G21+H21+I21+J21 -> 0 | L21: ='تغییر تعرفه'!K36 -> 0 | M21: ='تغییر تعرفه'!L36 -> 0 | N21: ='تغییر تعرفه'!M36 -> 0 | O21: ='تغییر تعرفه'!N36 -> 0 | P21: ='تغییر تعرفه'!O36 -> 0 | Q21: ='تغییر تعرفه'!P36 -> 0 | R21: ='تغییر تعرفه'!Q36 -> 0 | S21: ='تغییر تعرفه'!R36 -> 0 | T21: ='تغییر تعرفه'!S36 -> 0 | U21: =SUM(K21:T23)-N21 -> 0
C22: وصولی | D22: ='تغییر تعرفه'!C37 -> 0 | E22: ='تغییر تعرفه'!D37 -> 0 | F22: ='تغییر تعرفه'!E37 -> 0 | G22: ='تغییر تعرفه'!F37 -> 0 | H22: ='تغییر تعرفه'!G37 -> 0 | I22: ='تغییر تعرفه'!H37 -> 0 | J22: ='تغییر تعرفه'!I37 -> 0 | K22: =D22+E22+F22+G22+H22+I22+J22 -> 0 | U22: =K22+N22+P22+Q22+R22+S22+T22 -> 0
C23: کسورات | D23: ='تغییر تعرفه'!C38 -> 0 | E23: ='تغییر تعرفه'!D38 -> 0 | F23: ='تغییر تعرفه'!E38 -> 0 | G23: ='تغییر تعرفه'!F38 -> 0 | H23: ='تغییر تعرفه'!G38 -> 0 | I23: ='تغییر تعرفه'!H38 -> 0 | J23: ='تغییر تعرفه'!I38 -> 0 | K23: =D23+E23+F23+G23+H23+I23+J23 -> 0 | U23: =K23+N23+P23+Q23+R23+S23+T23 -> 0
B24: شهريور | C24: ارسالی | D24: =شهریور!C36 -> 0 | E24: =شهریور!D36 -> 0 | F24: =شهریور!E36 -> 0 | G24: =شهریور!F36 -> 0 | H24: =شهریور!G36 -> 0 | I24: =شهریور!H36 -> 0 | J24: =شهریور!I36 -> 0 | K24: =D24+E24+F24+G24+H24+I24+J24 -> 0 | L24: =شهریور!K36 -> 0 | M24: =شهریور!L36 -> 0 | N24: =شهریور!M36 -> 0 | O24: =شهریور!N36 -> 0 | P24: =شهریور!O36 -> 0 | Q24: =شهریور!P36 -> 0 | R24: =شهریور!Q36 -> 0 | S24: =شهریور!R36 -> 0 | T24: =شهریور!S36 -> 0 | U24: =SUM(K24:T26)-N24 -> 0
C25: وصولی | D25: =شهریور!C37 -> 0 | E25: =شهریور!D37 -> 0 | F25: =شهریور!E37 -> 0 | G25: =شهریور!F37 -> 0 | H25: =شهریور!G37 -> 0 | I25: =شهریور!H37 -> 0 | J25: =شهریور!I37 -> 0 | K25: =D25+E25+F25+G25+H25+I25+J25 -> 0 | U25: =K25+N25+P25+Q25+R25+S25+T25 -> 0
C26: کسورات | D26: =شهریور!C38 -> 0 | E26: =شهریور!D38 -> 0 | F26: =شهریور!E38 -> 0 | G26: =شهریور!F38 -> 0 | H26: =شهریور!G38 -> 0 | I26: =شهریور!H38 -> 0 | J26: =شهریور!I38 -> 0 | K26: =D26+E26+F26+G26+H26+I26+J26 -> 0 | U26: =K26+N26+P26+Q26+R26+S26+T26 -> 0
B27: مهر | C27: ارسالی | D27: =مهر!C36 -> 0 | E27: =مهر!D36 -> 0 | F27: =مهر!E36 -> 0 | G27: =مهر!F36 -> 0 | H27: =مهر!G36 -> 0 | I27: =مهر!H36 -> 0 | J27: =مهر!I36 -> 0 | K27: =D27+E27+F27+G27+H27+I27+J27 -> 0 | L27: =مهر!K36 -> 0 | M27: =مهر!L36 -> 0 | N27: =مهر!M36 -> 0 | O27: =مهر!N36 -> 0 | P27: =مهر!O36 -> 0 | Q27: =مهر!P36 -> 0 | R27: =مهر!Q36 -> 0 | S27: =مهر!R36 -> 0 | T27: =مهر!S36 -> 0 | U27: =SUM(K27:T29)-N27 -> 0
C28: وصولی | D28: =مهر!C37 -> 0 | E28: =مهر!D37 -> 0 | F28: =مهر!E37 -> 0 | G28: =مهر!F37 -> 0 | H28: =مهر!G37 -> 0 | I28: =مهر!H37 -> 0 | J28: =مهر!I37 -> 0 | K28: =D28+E28+F28+G28+H28+I28+J28 -> 0 | U28: =K28+N28+P28+Q28+R28+S28+T28 -> 0
C29: کسورات | D29: =مهر!C38 -> 0 | E29: =مهر!D38 -> 0 | F29: =مهر!E38 -> 0 | G29: =مهر!F38 -> 0 | H29: =مهر!G38 -> 0 | I29: =مهر!H38 -> 0 | J29: =مهر!I38 -> 0 | K29: =D29+E29+F29+G29+H29+I29+J29 -> 0 | U29: =K29+N29+P29+Q29+R29+S29+T29 -> 0
B30: آبان | C30: ارسالی | D30: =آبان!C36 -> 0 | E30: =آبان!D36 -> 0 | F30: =آبان!E36 -> 0 | G30: =آبان!F36 -> 0 | H30: =آبان!G36 -> 0 | I30: =آبان!H36 -> 0 | J30: =آبان!I36 -> 0 | K30: =D30+E30+F30+G30+H30+I30+J30 -> 0 | L30: =آبان!K36 -> 0 | M30: =آبان!L36 -> 0 | N30: =آبان!M36 -> 0 | O30: =آبان!N36 -> 0 | P30: =آبان!O36 -> 0 | Q30: =آبان!P36 -> 0 | R30: =آبان!Q36 -> 0 | S30: =آبان!R36 -> 0 | T30: =آبان!S36 -> 0 | U30: =SUM(K30:T32)-N30 -> 0
C31: وصولی | D31: =آبان!C37 -> 0 | E31: =آبان!D37 -> 0 | F31: =آبان!E37 -> 0 | G31: =آبان!F37 -> 0 | H31: =آبان!G37 -> 0 | I31: =آبان!H37 -> 0 | J31: =آبان!I37 -> 0 | K31: =D31+E31+F31+G31+H31+I31+J31 -> 0 | U31: =K31+N31+P31+Q31+R31+S31+T31 -> 0
C32: کسورات | D32: =آبان!C38 -> 0 | E32: =آبان!D38 -> 0 | F32: =آبان!E38 -> 0 | G32: =آبان!F38 -> 0 | H32: =آبان!G38 -> 0 | I32: =آبان!H38 -> 0 | J32: =آبان!I38 -> 0 | K32: =D32+E32+F32+G32+H32+I32+J32 -> 0 | U32: =K32+N32+P32+Q32+R32+S32+T32 -> 0
B33: آذر | C33: ارسالی | D33: =آذر!C36 -> 0 | E33: =آذر!D36 -> 0 | F33: =آذر!E36 -> 0 | G33: =آذر!F36 -> 0 | H33: =آذر!G36 -> 0 | I33: =آذر!H36 -> 0 | J33: =آذر!I36 -> 0 | K33: =D33+E33+F33+G33+H33+I33+J33 -> 0 | L33: =آذر!K36 -> 0 | M33: =آذر!L36 -> 0 | N33: =آذر!M36 -> 0 | O33: =آذر!N36 -> 0 | P33: =آذر!O36 -> 0 | Q33: =آذر!P36 -> 0 | R33: =آذر!Q36 -> 0 | S33: =آذر!R36 -> 0 | T33: =آذر!S36 -> 0 | U33: =SUM(K33:T35)-N33 -> 0
C34: وصولی | D34: =آذر!C37 -> 0 | E34: =آذر!D37 -> 0 | F34: =آذر!E37 -> 0 | G34: =آذر!F37 -> 0 | H34: =آذر!G37 -> 0 | I34: =آذر!H37 -> 0 | J34: =آذر!I37 -> 0 | K34: =D34+E34+F34+G34+H34+I34+J34 -> 0 | U34: =K34+N34+P34+Q34+R34+S34+T34 -> 0
C35: کسورات | D35: =آذر!C38 -> 0 | E35: =آذر!D38 -> 0 | F35: =آذر!E38 -> 0 | G35: =آذر!F38 -> 0 | H35: =آذر!G38 -> 0 | I35: =آذر!H38 -> 0 | J35: =آذر!I38 -> 0 | K35: =D35+E35+F35+G35+H35+I35+J35 -> 0 | U35: =K35+N35+P35+Q35+R35+S35+T35 -> 0
B36: دي | C36: ارسالی | D36: =دی!C36 -> 0 | E36: =دی!D36 -> 0 | F36: =دی!E36 -> 0 | G36: =دی!F36 -> 0 | H36: =دی!G36 -> 0 | I36: =دی!H36 -> 0 | J36: =دی!I36 -> 0 | K36: =D36+E36+F36+G36+H36+I36+J36 -> 0 | L36: =دی!K36 -> 0 | M36: =دی!L36 -> 0 | N36: =دی!M36 -> 0 | O36: =دی!N36 -> 0 | P36: =دی!O36 -> 0 | Q36: =دی!P36 -> 0 | R36: =دی!Q36 -> 0 | S36: =دی!R36 -> 0 | T36: =دی!S36 -> 0 | U36: =SUM(K36:T38)-N36 -> 0
C37: وصولی | D37: =دی!C37 -> 0 | E37: =دی!D37 -> 0 | F37: =دی!E37 -> 0 | G37: =دی!F37 -> 0 | H37: =دی!G37 -> 0 | I37: =دی!H37 -> 0 | J37: =دی!I37 -> 0 | K37: =D37+E37+F37+G37+H37+I37+J37 -> 0 | U37: =K37+N37+P37+Q37+R37+S37+T37 -> 0
C38: کسورات | D38: =دی!C38 -> 0 | E38: =دی!D38 -> 0 | F38: =دی!E38 -> 0 | G38: =دی!F38 -> 0 | H38: =دی!G38 -> 0 | I38: =دی!H38 -> 0 | J38: =دی!I38 -> 0 | K38: =D38+E38+F38+G38+H38+I38+J38 -> 0 | U38: =K38+N38+P38+Q38+R38+S38+T38 -> 0
B39: بهمن | C39: ارسالی | D39: =بهمن!C36 -> 0 | E39: =بهمن!D36 -> 0 | F39: =بهمن!E36 -> 0 | G39: =بهمن!F36 -> 0 | H39: =بهمن!G36 -> 0 | I39: =بهمن!H36 -> 0 | J39: =بهمن!I36 -> 0 | K39: =D39+E39+F39+G39+H39+I39+J39 -> 0 | L39: =بهمن!K36 -> 0 | M39: =بهمن!L36 -> 0 | N39: =بهمن!M36 -> 0 | O39: =بهمن!N36 -> 0 | P39: =بهمن!O36 -> 0 | Q39: =بهمن!P36 -> 0 | R39: =بهمن!Q36 -> 0 | S39: =بهمن!R36 -> 0 | T39: =بهمن!S36 -> 0 | U39: =SUM(K39:T41)-N39 -> 0
C40: وصولی | D40: =بهمن!C37 -> 0 | E40: =بهمن!D37 -> 0 | F40: =بهمن!E37 -> 0 | G40: =بهمن!F37 -> 0 | H40: =بهمن!G37 -> 0 | I40: =بهمن!H37 -> 0 | J40: =بهمن!I37 -> 0 | K40: =D40+E40+F40+G40+H40+I40+J40 -> 0 | U40: =K40+N40+P40+Q40+R40+S40+T40 -> 0
C41: کسورات | D41: =بهمن!C38 -> 0 | E41: =بهمن!D38 -> 0 | F41: =بهمن!E38 -> 0 | G41: =بهمن!F38 -> 0 | H41: =بهمن!G38 -> 0 | I41: =بهمن!H38 -> 0 | J41: =بهمن!I38 -> 0 | K41: =D41+E41+F41+G41+H41+I41+J41 -> 0 | U41: =K41+N41+P41+Q41+R41+S41+T41 -> 0
B42: اسفند | C42: ارسالی | D42: =اسفند!C36 -> 0 | E42: =اسفند!D36 -> 0 | F42: =اسفند!E36 -> 0 | G42: =اسفند!F36 -> 0 | H42: =اسفند!G36 -> 0 | I42: =اسفند!H36 -> 0 | J42: =اسفند!I36 -> 0 | K42: =D42+E42+F42+G42+H42+I42+J42 -> 0 | L42: =اسفند!K36 -> 0 | M42: =اسفند!L36 -> 0 | N42: =اسفند!M36 -> 0 | O42: =اسفند!N36 -> 0 | P42: =اسفند!O36 -> 0 | Q42: =اسفند!P36 -> 0 | R42: =اسفند!Q36 -> 0 | S42: =اسفند!R36 -> 0 | T42: =اسفند!S36 -> 0 | U42: =SUM(K42:T44)-N42 -> 0
C43: وصولی | D43: =اسفند!C37 -> 0 | E43: =اسفند!D37 -> 0 | F43: =اسفند!E37 -> 0 | G43: =اسفند!F37 -> 0 | H43: =اسفند!G37 -> 0 | I43: =اسفند!H37 -> 0 | J43: =اسفند!I37 -> 0 | K43: =D43+E43+F43+G43+H43+I43+J43 -> 0 | U43: =K43+N43+P43+Q43+R43+S43+T43 -> 0
C44: کسورات | D44: =اسفند!C38 -> 0 | E44: =اسفند!D38 -> 0 | F44: =اسفند!E38 -> 0 | G44: =اسفند!F38 -> 0 | H44: =اسفند!G38 -> 0 | I44: =اسفند!H38 -> 0 | J44: =اسفند!I38 -> 0 | K44: =D44+E44+F44+G44+H44+I44+J44 -> 0 | U44: =K44+N44+P44+Q44+R44+S44+T44 -> 0
B45: جمع کل | C45: ارسالی | D45: =D6+D9+D12+D15+D18+D21+D24+D27+D30+D33+D36+D39+D42 -> 0 | E45: =E6+E9+E12+E15+E18+E21+E24+E27+E30+E33+E36+E39+E42 -> 0 | F45: =F6+F9+F12+F15+F18+F21+F24+F27+F30+F33+F36+F39+F42 -> 0 | G45: =G6+G9+G12+G15+G18+G21+G24+G27+G30+G33+G36+G39+G42 -> 0 | H45: =H6+H9+H12+H15+H18+H21+H24+H27+H30+H33+H36+H39+H42 -> 0 | I45: =I6+I9+I12+I15+I18+I21+I24+I27+I30+I33+I36+I39+I42 -> 0 | J45: =J6+J9+J12+J15+J18+J21+J24+J27+J30+J33+J36+J39+J42 -> 0 | K45: =K6+K9+K12+K15+K18+K21+K24+K27+K30+K33+K36+K39+K42 -> 0 | L45: =SUM(L6:L44) -> 0 | M45: =SUM(M6:M44) -> 0 | N45: =SUM(N6:N44) -> 0 | O45: =SUM(O6:O44) -> 0 | P45: =SUM(P6:P44) -> 0 | Q45: =SUM(Q6:Q44) -> 0 | R45: =SUM(R6:R44) -> 0 | S45: =SUM(S6:S44) -> 0 | T45: =SUM(T6:T44) -> 0 | U45: =SUM(K45:T47)-N45 -> 0
C46: وصولی | D46: =D7+D10+D13+D16+D19+D22+D25+D28+D31+D34+D37+D40+D43 -> 0 | E46: =E7+E10+E13+E16+E19+E22+E25+E28+E31+E34+E37+E40+E43 -> 0 | F46: =F7+F10+F13+F16+F19+F22+F25+F28+F31+F34+F37+F40+F43 -> 0 | G46: =G7+G10+G13+G16+G19+G22+G25+G28+G31+G34+G37+G40+G43 -> 0 | H46: =H7+H10+H13+H16+H19+H22+H25+H28+H31+H34+H37+H40+H43 -> 0 | I46: =I7+I10+I13+I16+I19+I22+I25+I28+I31+I34+I37+I40+I43 -> 0 | J46: =J7+J10+J13+J16+J19+J22+J25+J28+J31+J34+J37+J40+J43 -> 0 | K46: =K7+K10+K13+K16+K19+K22+K25+K28+K31+K34+K37+K40+K43 -> 0 | U46: =K46+N46+P46+Q46+R46+S46+T46 -> 0
C47: کسورات | D47: =D8+D11+D14+D17+D20+D23+D26+D29+D32+D35+D38+D41+D44 -> 0 | E47: =E8+E11+E14+E17+E20+E23+E26+E29+E32+E35+E38+E41+E44 -> 0 | F47: =F8+F11+F14+F17+F20+F23+F26+F29+F32+F35+F38+F41+F44 -> 0 | G47: =G8+G11+G14+G17+G20+G23+G26+G29+G32+G35+G38+G41+G44 -> 0 | H47: =H8+H11+H14+H17+H20+H23+H26+H29+H32+H35+H38+H41+H44 -> 0 | I47: =I8+I11+I14+I17+I20+I23+I26+I29+I32+I35+I38+I41+I44 -> 0 | J47: =J8+J11+J14+J17+J20+J23+J26+J29+J32+J35+J38+J41+J44 -> 0 | K47: =K8+K11+K14+K17+K20+K23+K26+K29+K32+K35+K38+K41+K44 -> 0 | U47: =K47+N47+P47+Q47+R47+S47+T47 -> 0

Sheet فروردین
A1: کاربرگ درآمد فروردین 1393
A2: نام واحد :
A4: برنامه | B4: درامد | C4: بیمه ای | K4: کارت بهداشت | L4: سایر درآمد ها | M4: کنترل نسخ دریافتی ارسال نشده | N4: درامد نقدی (صندوق) | O4: بدهکاران اشخاص (بیماران تسویه نشده) | P4: نیازمندان | Q4: ترافیکی | R4: منازل سازمانی | S4: سایر قراردادها ودرامدها (قرارداد پزشک خانواده) | T4: جمع کل درآمد
C5: تامین اجتماعی | D5: خدمات درمانی | E5: کمیته امداد | F5: نیروهای مسلح | G5: بیمه ذغال سنگ | H5: بیمه فولاد | I5: سایر بیمه ها | J5: جمع کل درامد بیمه ای
A6: 30315000 | B6: ارسالی | J6: =SUM(C6:I6) -> 0 | T6: =J6+K6+L6+N6+O6+P6+Q6+R6+S6 -> 0
B7: وصولی | C7: =B51 -> 0 | D7: =C51 -> 0 | E7: =D51 -> 0 | F7: =E51 -> 0 | G7: =F51 -> 0 | H7: =G51 -> 0 | I7: =H51 -> 0 | J7: =SUM(C7:I7) -> 0 | T7: =SUM(J7:S7) -> 0
B8: کسورات | J8: =SUM(C8:I8) -> 0 | T8: =SUM(J8:S8) -> 0
A9: 30316000 | B9: ارسالی | J9: =SUM(C9:I9) -> 0 | T9: =J9+K9+L9+N9+O9+P9+Q9+R9+S9 -> 0
B10: وصولی | C10: =B54 -> 0 | D10: =C54 -> 0 | E10: =D54 -> 0 | F10: =E54 -> 0 | G10: =F54 -> 0 | H10: =G54 -> 0 | I10: =H54 -> 0 | J10: =SUM(C10:I10) -> 0 | T10: =SUM(J10:S10) -> 0
B11: کسورات | J11: =SUM(C11:I11) -> 0 | T11: =SUM(J11:S11) -> 0
A12: 30303000 | B12: ارسالی | J12: =SUM(C12:I12) -> 0 | T12: =J12+K12+L12+N12+O12+P12+Q12+R12+S12 -> 0
B13: وصولی | C13: =B57 -> 0 | D13: =C57 -> 0 | E13: =D57 -> 0 | F13: =E57 -> 0 | G13: =F57 -> 0 | H13: =G57 -> 0 | I13: =H57 -> 0 | J13: =SUM(C13:I13) -> 0 | T13: =SUM(J13:S13) -> 0
B14: کسورات | J14: =SUM(C14:I14) -> 0 | T14: =SUM(J14:S14) -> 0
A15: 30301000 | B15: ارسالی | J15: =SUM(C15:I15) -> 0 | T15: =J15+K15+L15+N15+O15+P15+Q15+R15+S15 -> 0
B16: وصولی | C16: =B60 -> 0 | D16: =C60 -> 0 | E16: =D60 -> 0 | F16: =E60 -> 0 | G16: =F60 -> 0 | H16: =G60 -> 0 | I16: =H60 -> 0 | J16: =SUM(C16:I16) -> 0 | T16: =SUM(J16:S16) -> 0
B17: کسورات | J17: =SUM(C17:I17) -> 0 | T17: =SUM(J17:S17) -> 0
A18: 30327000 | B18: ارسالی | J18: =SUM(C18:I18) -> 0 | T18: =J18+K18+L18+N18+O18+P18+Q18+R18+S18 -> 0
B19: وصولی | C19: =B63 -> 0 | D19: =C63 -> 0 | E19: =D63 -> 0 | F19: =E63 -> 0 | G19: =F63 -> 0 | H19: =G63 -> 0 | I19: =H63 -> 0 | J19: =SUM(C19:I19) -> 0 | T19: =SUM(J19:S19) -> 0
B20: کسورات | J20: =SUM(C20:I20) -> 0 | T20: =SUM(J20:S20) -> 0
A21: 30107000 | B21: ارسالی | J21: =SUM(C21:I21) -> 0 | T21: =J21+K21+L21+N21+O21+P21+Q21+R21+S21 -> 0
B22: وصولی | C22: =B66 -> 0 | D22: =C66 -> 0 | E22: =D66 -> 0 | F22: =E66 -> 0 | G22: =F66 -> 0 | H22: =G66 -> 0 | I22: =H66 -> 0 | J22: =SUM(C22:I22) -> 0 | T22: =SUM(J22:S22) -> 0
B23: کسورات | J23: =SUM(C23:I23) -> 0 | T23: =SUM(J23:S23) -> 0
A24: 30129000 | B24: ارسالی | J24: =SUM(C24:I24) -> 0 | T24: =J24+K24+L24+N24+O24+P24+Q24+R24+S24 -> 0
B25: وصولی | C25: =B69 -> 0 | D25: =C69 -> 0 | E25: =D69 -> 0 | F25: =E69 -> 0 | G25: =F69 -> 0 | H25: =G69 -> 0 | I25: =H69 -> 0 | J25: =SUM(C25:I25) -> 0 | T25: =SUM(J25:S25) -> 0
B26: کسورات | J26: =SUM(C26:I26) -> 0 | T26: =SUM(J26:S26) -> 0
A27: 30121000 | B27: ارسالی | J27: =SUM(C27:I27) -> 0 | T27: =J27+K27+L27+N27+O27+P27+Q27+R27+S27 -> 0
B28: وصولی | C28: =B72 -> 0 | D28: =C72 -> 0 | E28: =D72 -> 0 | F28: =E72 -> 0 | G28: =F72 -> 0 | H28: =G72 -> 0 | I28: =H72 -> 0 | J28: =SUM(C28:I28) -> 0 | T28: =SUM(J28:S28) -> 0
B29: کسورات | J29: =SUM(C29:I29) -> 0 | T29: =SUM(J29:S29) -> 0
A30: 10506000 | B30: ارسالی | J30: =SUM(C30:I30) -> 0 | T30: =J30+K30+L30+N30+O30+P30+Q30+R30+S30 -> 0
B31: وصولی | C31: =B75 -> 0 | D31: =C75 -> 0 | E31: =D75 -> 0 | F31: =E75 -> 0 | G31: =F75 -> 0 | H31: =G75 -> 0 | I31: =H75 -> 0 | J31: =SUM(C31:I31) -> 0 | T31: =SUM(J31:S31) -> 0
B32: کسورات | J32: =SUM(C32:I32) -> 0 | T32: =SUM(J32:S32) -> 0
A33: 99933001 | B33: ارسالی | J33: =SUM(C33:I33) -> 0 | T33: =J33+K33+L33+N33+O33+P33+Q33+R33+S33 -> 0
B34: وصولی | C34: =B78 -> 0 | D34: =C78 -> 0 | E34: =D78 -> 0 | F34: =E78 -> 0 | G34: =F78 -> 0 | H34: =G78 -> 0 | I34: =H78 -> 0 | J34: =SUM(C34:I34) -> 0 | T34: =SUM(J34:S34) -> 0
B35: کسورات | J35: =SUM(C35:I35) -> 0 | T35: =SUM(J35:S35) -> 0
A36: 10437000 | B36: ارسالی | J36: =SUM(C36:I36) -> 0 | T36: =J36+K36+L36+N36+O36+P36+Q36+R36+S36 -> 0
B37: وصولی | C37: =B81 -> 0 | D37: =C81 -> 0 | E37: =D81 -> 0 | F37: =E81 -> 0 | G37: =F81 -> 0 | H37: =G81 -> 0 | I37: =H81 -> 0 | J37: =SUM(C37:I37) -> 0 | T37: =SUM(J37:S37) -> 0
B38: کسورات | J38: =SUM(C38:I38) -> 0 | T38: =SUM(J38:S38) -> 0
A39: جمع کل | B39: ارسالی | C39: =C6+C9+C12+C15+C18+C21+C24+C27+C30+C33+C36 -> 0 | D39: =D6+D9+D12+D15+D18+D21+D24+D27+D30+D33+D36 -> 0 | E39: =E6+E9+E12+E15+E18+E21+E24+E27+E30+E33+E36 -> 0 | F39: =F6+F9+F12+F15+F18+F21+F24+F27+F30+F33+F36 -> 0 | G39: =G6+G9+G12+G15+G18+G21+G24+G27+G30+G33+G36 -> 0 | H39: =H6+H9+H12+H15+H18+H21+H24+H27+H30+H33+H36 -> 0 | I39: =I6+I9+I12+I15+I18+I21+I24+I27+I30+I33+I36 -> 0 | J39: =J6+J9+J12+J15+J18+J21+J24+J27+J30+J33+J36 -> 0 | K39: =SUM(K6:K38) -> 0 | L39: =SUM(L6:L38) -> 0 | M39: =SUM(M6:M38) -> 0 | N39: =SUM(N6:N38) -> 0 | O39: =SUM(O6:O38) -> 0 | P39: =SUM(P6:P38) -> 0 | Q39: =SUM(Q6:Q38) -> 0 | R39: =SUM(R6:R38) -> 0 | S39: =SUM(S6:S38) -> 0 | T39: =J39+K39+L39+N39+O39+P39+Q39+R39+S39 -> 0
B40: وصولی | C40: =C7+C10+C13+C16+C19+C22+C25+C28+C31+C34+C37 -> 0 | D40: =D7+D10+D13+D16+D19+D22+D25+D28+D31+D34+D37 -> 0 | E40: =E7+E10+E13+E16+E19+E22+E25+E28+E31+E34+E37 -> 0 | F40: =F7+F10+F13+F16+F19+F22+F25+F28+F31+F34+F37 -> 0 | G40: =G7+G10+G13+G16+G19+G22+G25+G28+G31+G34+G37 -> 0 | H40: =H7+H10+H13+H16+H19+H22+H25+H28+H31+H34+H37 -> 0 | I40: =I7+I10+I13+I16+I19+I22+I25+I28+I31+I34+I37 -> 0 | J40: =J7+J10+J13+J16+J19+J22+J25+J28+J31+J34+J37 -> 0 | T40: =SUM(J40:S40) -> 0
B41: کسورات | C41: =C8+C11+C14+C17+C20+C23+C26+C29+C32+C35+C38 -> 0 | D41: =D8+D11+D14+D17+D20+D23+D26+D29+D32+D35+D38 -> 0 | E41: =E8+E11+E14+E17+E20+E23+E26+E29+E32+E35+E38 -> 0 | F41: =F8+F11+F14+F17+F20+F23+F26+F29+F32+F35+F38 -> 0 | G41: =G8+G11+G14+G17+G20+G23+G26+G29+G32+G35+G38 -> 0 | H41: =H8+H11+H14+H17+H20+H23+H26+H29+H32+H35+H38 -> 0 | I41: =I8+I11+I14+I17+I20+I23+I26+I29+I32+I35+I38 -> 0 | J41: =J8+J11+J14+J17+J20+J23+J26+J29+J32+J35+J38 -> 0 | T41: =SUM(J41:S41) -> 0
A46: کاربرگ وصولی و ارسال به ستاد
A47: نام واحد:
A48: نام ماه:
A49: برنامه | B49: بیمه ای | J49: درامد نقدی (صندوق) | K49: جمع کل درآمد وصولی | L49: جمع کل درآمد ارسال شده به ستاد
B50: تامین اجتماعی | C50: خدمات درمانی | D50: کمیته امداد | E50: نیروهای مسلح | F50: بیمه ذغال سنگ | G50: بیمه فولاد | H50: سایر بیمه ها | I50: جمع کل درامد بیمه ای
A51: 30315000 | I51: =B51+C51+D51+E51+F51+G51+H51 -> 0 | J51: =N6 -> 0 | K51: =I51+J51 -> 0
A54: 30316000 | I54: =B54+C54+D54+E54+F54+G54+H54 -> 0 | J54: =N9 -> 0 | K54: =I54+J54 -> 0
A57: 30303000 | I57: =B57+C57+D57+E57+F57+G57+H57 -> 0 | J57: =N12 -> 0 | K57: =I57+J57 -> 0
A60: 30301000 | I60: =B60+C60+D60+E60+F60+G60+H60 -> 0 | J60: =N15 -> 0 | K60: =I60+J60 -> 0
A63: 30327000 | I63: =B63+C63+D63+E63+F63+G63+H63 -> 0 | J63: =N18 -> 0 | K63: =I63+J63 -> 0
A66: 30107000 | I66: =B66+C66+D66+E66+F66+G66+H66 -> 0 | J66: =N21 -> 0 | K66: =I66+J66 -> 0
A69: 30129000 | I69: =B69+C69+D69+E69+F69+G69+H69 -> 0 | J69: =N24 -> 0 | K69: =I69+J69 -> 0
A72: 30121000 | I72: =B72+C72+D72+E72+F72+G72+H72 -> 0 | J72: =N27 -> 0 | K72: =I72+J72 -> 0
A75: 10506000 | I75: =B75+C75+D75+E75+F75+G75+H75 -> 0 | J75: =N30 -> 0 | K75: =I75+J75 -> 0
A78: 99933001 | I78: =B78+C78+D78+E78+F78+G78+H78 -> 0 | J78: =N33 -> 0 | K78: =I78+J78 -> 0
A81: 10437000 | I81: =B81+C81+D81+E81+F81+G81+H81 -> 0 | J81: =N36 -> 0 | K81: =I81+J81 -> 0
A84: جمع کل | B84: =B51+B54+B57+B60+B63+B66+B69+B72+B75+B78+B81 -> 0 | C84: =C51+C54+C57+C60+C63+C66+C69+C72+C75+C78+C81 -> 0 | D84: =D51+D54+D57+D60+D63+D66+D69+D72+D75+D78+D81 -> 0 | E84: =E51+E54+E57+E60+E63+E66+E69+E72+E75+E78+E81 -> 0 | F84: =F51+F54+F57+F60+F63+F66+F69+F72+F75+F78+F81 -> 0 | G84: =G51+G54+G57+G60+G63+G66+G69+G72+G75+G78+G81 -> 0 | H84: =H51+H54+H57+H60+H63+H66+H69+H72+H75+H78+H81 -> 0 | I84: =B84+C84+D84+E84+F84+G84+H84 -> 0 | J84: =J51+J54+J57+J60+J63+J66+J69+J72+J75+J78+J81 -> 0 | K84: =I84+J84 -> 0 | L84: =SUM(L51:L83) -> 0

Sheet اردیبهشت
A1: کاربرگ درآمد اردیبهشت 1393
A2: نام واحد :
A4: برنامه | B4: درامد | C4: بیمه ای | K4: کارت بهداشت | L4: سایر درآمد ها | M4: کنترل نسخ دریافتی ارسال نشده | N4: درامد نقدی (صندوق) | O4: بدهکاران اشخاص (بیماران تسویه نشده) | P4: نیازمندان | Q4: ترافیکی | R4: منازل سازمانی | S4: سایر قراردادها ودرامدها (قرارداد پزشک خانواده) | T4: جمع کل درآمد
C5: تامین اجتماعی | D5: خدمات درمانی | E5: کمیته امداد | F5: نیروهای مسلح | G5: بیمه ذغال سنگ | H5: بیمه فولاد | I5: سایر بیمه ها | J5: جمع کل درامد بیمه ای
A6: 30315000 | B6: ارسالی | J6: =SUM(C6:I6) -> 0 | T6: =J6+K6+L6+N6+O6+P6+Q6+R6+S6 -> 0
B7: وصولی | C7: =B51 -> 0 | D7: =C51 -> 0 | E7: =D51 -> 0 | F7: =E51 -> 0 | G7: =F51 -> 0 | H7: =G51 -> 0 | I7: =H51 -> 0 | J7: =SUM(C7:I7) -> 0
B8: کسورات | J8: =SUM(C8:I8) -> 0
A9: 30316000 | B9: ارسالی | J9: =SUM(C9:I9) -> 0 | T9: =J9+K9+L9+N9+O9+P9+Q9+R9+S9 -> 0
B10: وصولی | C10: =B54 -> 0 | D10: =C54 -> 0 | E10: =D54 -> 0 | F10: =E54 -> 0 | G10: =F54 -> 0 | H10: =G54 -> 0 | I10: =H54 -> 0 | J10: =SUM(C10:I10) -> 0
B11: کسورات | J11: =SUM(C11:I11) -> 0
A12: 30303000 | B12: ارسالی | J12: =SUM(C12:I12) -> 0 | T12: =J12+K12+L12+N12+O12+P12+Q12+R12+S12 -> 0
B13: وصولی | C13: =B57 -> 0 | D13: =C57 -> 0 | E13: =D57 -> 0 | F13: =E57 -> 0 | G13: =F57 -> 0 | H13: =G57 -> 0 | I13: =H57 -> 0 | J13: =SUM(C13:I13) -> 0
B14: کسورات | J14: =SUM(C14:I14) -> 0
A15: 30301000 | B15: ارسالی | J15: =SUM(C15:I15) -> 0 | T15: =J15+K15+L15+N15+O15+P15+Q15+R15+S15 -> 0
B16: وصولی | C16: =B60 -> 0 | D16: =C60 -> 0 | E16: =D60 -> 0 | F16: =E60 -> 0 | G16: =F60 -> 0 | H16: =G60 -> 0 | I16: =H60 -> 0 | J16: =SUM(C16:I16) -> 0
B17: کسورات | J17: =SUM(C17:I17) -> 0
A18: 30327000 | B18: ارسالی | J18: =SUM(C18:I18) -> 0 | T18: =J18+K18+L18+N18+O18+P18+Q18+R18+S18 -> 0
B19: وصولی | C19: =B63 -> 0 | D19: =C63 -> 0 | E19: =D63 -> 0 | F19: =E63 -> 0 | G19: =F63 -> 0 | H19: =G63 -> 0 | I19: =H63 -> 0 | J19: =SUM(C19:I19) -> 0
B20: کسورات | J20: =SUM(C20:I20) -> 0
A21: 30107000 | B21: ارسالی | J21: =SUM(C21:I21) -> 0 | T21: =J21+K21+L21+N21+O21+P21+Q21+R21+S21 -> 0
B22: وصولی | C22: =B66 -> 0 | D22: =C66 -> 0 | E22: =D66 -> 0 | F22: =E66 -> 0 | G22: =F66 -> 0 | H22: =G66 -> 0 | I22: =H66 -> 0 | J22: =SUM(C22:I22) -> 0
B23: کسورات | J23: =SUM(C23:I23) -> 0
A24: 30129000 | B24: ارسالی | J24: =SUM(C24:I24) -> 0 | T24: =J24+K24+L24+N24+O24+P24+Q24+R24+S24 -> 0
B25: وصولی | C25: =B69 -> 0 | D25: =C69 -> 0 | E25: =D69 -> 0 | F25: =E69 -> 0 | G25: =F69 -> 0 | H25: =G69 -> 0 | I25: =H69 -> 0 | J25: =SUM(C25:I25) -> 0
B26: کسورات | J26: =SUM(C26:I26) -> 0
A27: 30121000 | B27: ارسالی | J27: =SUM(C27:I27) -> 0 | T27: =J27+K27+L27+N27+O27+P27+Q27+R27+S27 -> 0
B28: وصولی | C28: =B72 -> 0 | D28: =C72 -> 0 | E28: =D72 -> 0 | F28: =E72 -> 0 | G28: =F72 -> 0 | H28: =G72 -> 0 | I28: =H72 -> 0 | J28: =SUM(C28:I28) -> 0
B29: کسورات | J29: =SUM(C29:I29) -> 0
A30: 10506000 | B30: ارسالی | J30: =SUM(C30:I30) -> 0 | T30: =J30+K30+L30+N30+O30+P30+Q30+R30+S30 -> 0
B31: وصولی | C31: =B75 -> 0 | D31: =C75 -> 0 | E31: =D75 -> 0 | F31: =E75 -> 0 | G31: =F75 -> 0 | H31: =G75 -> 0 | I31: =H75 -> 0 | J31: =SUM(C31:I31) -> 0
B32: کسورات | J32: =SUM(C32:I32) -> 0
A33: 99933001 | B33: ارسالی | J33: =SUM(C33:I33) -> 0 | T33: =J33+K33+L33+N33+O33+P33+Q33+R33+S33 -> 0
B34: وصولی | C34: =B78 -> 0 | D34: =C78 -> 0 | E34: =D78 -> 0 | F34: =E78 -> 0 | G34: =F78 -> 0 | H34: =G78 -> 0 | I34: =H78 -> 0 | J34: =SUM(C34:I34) -> 0
B35: کسورات | J35: =SUM(C35:I35) -> 0
A36: 10437000 | B36: ارسالی | J36: =SUM(C36:I36) -> 0 | T36: =J36+K36+L36+N36+O36+P36+Q36+R36+S36 -> 0
B37: وصولی | C37: =B81 -> 0 | D37: =C81 -> 0 | E37: =D81 -> 0 | F37: =E81 -> 0 | G37: =F81 -> 0 | H37: =G81 -> 0 | I37: =H81 -> 0 | J37: =SUM(C37:I37) -> 0
B38: کسورات | J38: =SUM(C38:I38) -> 0
A39: جمع کل | B39: ارسالی | C39: =C6+C9+C12+C15+C18+C21+C24+C27+C30+C33+C36 -> 0 | D39: =D6+D9+D12+D15+D18+D21+D24+D27+D30+D33+D36 -> 0 | E39: =E6+E9+E12+E15+E18+E21+E24+E27+E30+E33+E36 -> 0 | F39: =F6+F9+F12+F15+F18+F21+F24+F27+F30+F33+F36 -> 0 | G39: =G6+G9+G12+G15+G18+G21+G24+G27+G30+G33+G36 -> 0 | H39: =H6+H9+H12+H15+H18+H21+H24+H27+H30+H33+H36 -> 0 | I39: =I6+I9+I12+I15+I18+I21+I24+I27+I30+I33+I36 -> 0 | J39: =J6+J9+J12+J15+J18+J21+J24+J27+J30+J33+J36 -> 0 | K39: =SUM(K6:K38) -> 0 | L39: =SUM(L6:L38) -> 0 | M39: =SUM(M6:M38) -> 0 | N39: =SUM(N6:N38) -> 0 | O39: =SUM(O6:O38) -> 0 | P39: =SUM(P6:P38) -> 0 | Q39: =SUM(Q6:Q38) -> 0 | R39: =SUM(R6:R38) -> 0 | S39: =SUM(S6:S38) -> 0 | T39: =J39+K39+L39+N39+O39+P39+Q39+R39+S39 -> 0
B40: وصولی | C40: =C7+C10+C13+C16+C19+C22+C25+C28+C31+C34+C37 -> 0 | D40: =D7+D10+D13+D16+D19+D22+D25+D28+D31+D34+D37 -> 0 | E40: =E7+E10+E13+E16+E19+E22+E25+E28+E31+E34+E37 -> 0 | F40: =F7+F10+F13+F16+F19+F22+F25+F28+F31+F34+F37 -> 0 | G40: =G7+G10+G13+G16+G19+G22+G25+G28+G31+G34+G37 -> 0 | H40: =H7+H10+H13+H16+H19+H22+H25+H28+H31+H34+H37 -> 0 | I40: =I7+I10+I13+I16+I19+I22+I25+I28+I31+I34+I37 -> 0 | J40: =J7+J10+J13+J16+J19+J22+J25+J28+J31+J34+J37 -> 0
B41: کسورات | C41: =C8+C11+C14+C17+C20+C23+C26+C29+C32+C35+C38 -> 0 | D41: =D8+D11+D14+D17+D20+D23+D26+D29+D32+D35+D38 -> 0 | E41: =E8+E11+E14+E17+E20+E23+E26+E29+E32+E35+E38 -> 0 | F41: =F8+F11+F14+F17+F20+F23+F26+F29+F32+F35+F38 -> 0 | G41: =G8+G11+G14+G17+G20+G23+G26+G29+G32+G35+G38 -> 0 | H41: =H8+H11+H14+H17+H20+H23+H26+H29+H32+H35+H38 -> 0 | I41: =I8+I11+I14+I17+I20+I23+I26+I29+I32+I35+I38 -> 0 | J41: =J8+J11+J14+J17+J20+J23+J26+J29+J32+J35+J38 -> 0
A46: کاربرگ وصولی و ارسال به ستاد
A47: نام واحد:
A48: نام ماه:
A49: برنامه | B49: بیمه ای | J49: درامد نقدی (صندوق) | K49: جمع کل درآمد وصولی | L49: جمع کل درآمد ارسال شده به ستاد
B50: تامین اجتماعی | C50: خدمات درمانی | D50: کمیته امداد | E50: نیروهای مسلح | F50: بیمه ذغال سنگ | G50: بیمه فولاد | H50: سایر بیمه ها | I50: جمع کل درامد بیمه ای
A51: 30315000 | I51: =B51+C51+D51+E51+F51+G51+H51 -> 0 | J51: =N6 -> 0 | K51: =I51+J51 -> 0
D53: =D51-D52 -> 0
A54: 30316000 | I54: =B54+C54+D54+E54+F54+G54+H54 -> 0 | J54: =N9 -> 0 | K54: =I54+J54 -> 0
A57: 30303000 | I57: =B57+C57+D57+E57+F57+G57+H57 -> 0 | J57: =N12 -> 0 | K57: =I57+J57 -> 0
A60: 30301000 | I60: =B60+C60+D60+E60+F60+G60+H60 -> 0 | J60: =N15 -> 0 | K60: =I60+J60 -> 0
A63: 30327000 | I63: =B63+C63+D63+E63+F63+G63+H63 -> 0 | J63: =N18 -> 0 | K63: =I63+J63 -> 0
A66: 30107000 | I66: =B66+C66+D66+E66+F66+G66+H66 -> 0 | J66: =N21 -> 0 | K66: =I66+J66 -> 0
A69: 30129000 | I69: =B69+C69+D69+E69+F69+G69+H69 -> 0 | J69: =N24 -> 0 | K69: =I69+J69 -> 0
A72: 30121000 | I72: =B72+C72+D72+E72+F72+G72+H72 -> 0 | J72: =N27 -> 0 | K72: =I72+J72 -> 0
A75: 10506000 | I75: =B75+C75+D75+E75+F75+G75+H75 -> 0 | J75: =N30 -> 0 | K75: =I75+J75 -> 0
A78: 99933001 | I78: =B78+C78+D78+E78+F78+G78+H78 -> 0 | J78: =N33 -> 0 | K78: =I78+J78 -> 0
A81: 10437000 | I81: =B81+C81+D81+E81+F81+G81+H81 -> 0 | J81: =N36 -> 0 | K81: =I81+J81 -> 0
A84: جمع کل | B84: =B51+B54+B57+B60+B63+B66+B69+B72+B75+B78+B81 -> 0 | C84: =C51+C54+C57+C60+C63+C66+C69+C72+C75+C78+C81 -> 0 | D84: =D51+D54+D57+D60+D63+D66+D69+D72+D75+D78+D81 -> 0 | E84: =E51+E54+E57+E60+E63+E66+E69+E72+E75+E78+E81 -> 0 | F84: =F51+F54+F57+F60+F63+F66+F69+F72+F75+F78+F81 -> 0 | G84: =G51+G54+G57+G60+G63+G66+G69+G72+G75+G78+G81 -> 0 | H84: =H51+H54+H57+H60+H63+H66+H69+H72+H75+H78+H81 -> 0 | I84: =B84+C84+D84+E84+F84+G84+H84 -> 0 | J84: =SUM(J51:J83) -> 0 | K84: =I84+J84 -> 0 | L84: =SUM(L51:L83) -> 0

Sheet خرداد
A1: کاربرگ درآمد خرداد 1393
A2: نام واحد :
A4: برنامه | B4: درامد | C4: بیمه ای | K4: کارت بهداشت | L4: سایر درآمد ها | M4: کنترل نسخ دریافتی ارسال نشده | N4: درامد نقدی (صندوق) | O4: بدهکاران اشخاص (بیماران تسویه نشده) | P4: نیازمندان | Q4: ترافیکی | R4: منازل سازمانی | S4: سایر قراردادها ودرامدها (قرارداد پزشک خانواده) | T4: جمع کل درآمد
C5: تامین اجتماعی | D5: خدمات درمانی | E5: کمیته امداد | F5: نیروهای مسلح | G5: بیمه ذغال سنگ | H5: بیمه فولاد | I5: سایر بیمه ها | J5: جمع کل درامد بیمه ای
A6: 30315000 | B6: ارسالی | J6: =SUM(C6:I6) -> 0 | T6: =J6+K6+L6+N6+O6+P6+Q6+R6+S6 -> 0
B7: وصولی | C7: =B51 -> 0 | D7: =C51 -> 0 | E7: =D51 -> 0 | F7: =E51 -> 0 | G7: =F51 -> 0 | H7: =G51 -> 0 | I7: =H51 -> 0 | J7: =SUM(C7:I7) -> 0 | T7: =SUM(J7:S7) -> 0
B8: کسورات | J8: =SUM(C8:I8) -> 0 | T8: =SUM(J8:S8) -> 0
A9: 30316000 | B9: ارسالی | J9: =SUM(C9:I9) -> 0 | T9: =J9+K9+L9+N9+O9+P9+Q9+R9+S9 -> 0
B10: وصولی | C10: =B54 -> 0 | D10: =C54 -> 0 | E10: =D54 -> 0 | F10: =E54 -> 0 | G10: =F54 -> 0 | H10: =G54 -> 0 | I10: =H54 -> 0 | J10: =SUM(C10:I10) -> 0 | T10: =SUM(J10:S10) -> 0
B11: کسورات | J11: =SUM(C11:I11) -> 0 | T11: =SUM(J11:S11) -> 0
A12: 30303000 | B12: ارسالی | J12: =SUM(C12:I12) -> 0 | T12: =J12+K12+L12+N12+O12+P12+Q12+R12+S12 -> 0
B13: وصولی | C13: =B57 -> 0 | D13: =C57 -> 0 | E13: =D57 -> 0 | F13: =E57 -> 0 | G13: =F57 -> 0 | H13: =G57 -> 0 | I13: =H57 -> 0 | J13: =SUM(C13:I13) -> 0 | T13: =SUM(J13:S13) -> 0
B14: کسورات | J14: =SUM(C14:I14) -> 0 | T14: =SUM(J14:S14) -> 0
A15: 30301000 | B15: ارسالی | J15: =SUM(C15:I15) -> 0 | T15: =J15+K15+L15+N15+O15+P15+Q15+R15+S15 -> 0
B16: وصولی | C16: =B60 -> 0 | D16: =C60 -> 0 | E16: =D60 -> 0 | F16: =E60 -> 0 | G16: =F60 -> 0 | H16: =G60 -> 0 | I16: =H60 -> 0 | J16: =SUM(C16:I16) -> 0 | T16: =SUM(J16:S16) -> 0
B17: کسورات | J17: =SUM(C17:I17) -> 0 | T17: =SUM(J17:S17) -> 0
A18: 30327000 | B18: ارسالی | J18: =SUM(C18:I18) -> 0 | T18: =J18+K18+L18+N18+O18+P18+Q18+R18+S18 -> 0
B19: وصولی | C19: =B63 -> 0 | D19: =C63 -> 0 | E19: =D63 -> 0 | F19: =E63 -> 0 | G19: =F63 -> 0 | H19: =G63 -> 0 | I19: =H63 -> 0 | J19: =SUM(C19:I19) -> 0 | T19: =SUM(J19:S19) -> 0
B20: کسورات | J20: =SUM(C20:I20) -> 0 | T20: =SUM(J20:S20) -> 0
A21: 30107000 | B21: ارسالی | J21: =SUM(C21:I21) -> 0 | T21: =J21+K21+L21+N21+O21+P21+Q21+R21+S21 -> 0
B22: وصولی | C22: =B66 -> 0 | D22: =C66 -> 0 | E22: =D66 -> 0 | F22: =E66 -> 0 | G22: =F66 -> 0 | H22: =G66 -> 0 | I22: =H66 -> 0 | J22: =SUM(C22:I22) -> 0 | T22: =SUM(J22:S22) -> 0
B23: کسورات | J23: =SUM(C23:I23) -> 0 | T23: =SUM(J23:S23) -> 0
A24: 30129000 | B24: ارسالی | J24: =SUM(C24:I24) -> 0 | T24: =J24+K24+L24+N24+O24+P24+Q24+R24+S24 -> 0
B25: وصولی | C25: =B69 -> 0 | D25: =C69 -> 0 | E25: =D69 -> 0 | F25: =E69 -> 0 | G25: =F69 -> 0 | H25: =G69 -> 0 | I25: =H69 -> 0 | J25: =SUM(C25:I25) -> 0 | T25: =SUM(J25:S25) -> 0
B26: کسورات | J26: =SUM(C26:I26) -> 0 | T26: =SUM(J26:S26) -> 0
A27: 30121000 | B27: ارسالی | J27: =SUM(C27:I27) -> 0 | T27: =J27+K27+L27+N27+O27+P27+Q27+R27+S27 -> 0
B28: وصولی | C28: =B72 -> 0 | D28: =C72 -> 0 | E28: =D72 -> 0 | F28: =E72 -> 0 | G28: =F72 -> 0 | H28: =G72 -> 0 | I28: =H72 -> 0 | J28: =SUM(C28:I28) -> 0 | T28: =SUM(J28:S28) -> 0
B29: کسورات | J29: =SUM(C29:I29) -> 0 | T29: =SUM(J29:S29) -> 0
A30: 10506000 | B30: ارسالی | J30: =SUM(C30:I30) -> 0 | T30: =J30+K30+L30+N30+O30+P30+Q30+R30+S30 -> 0
B31: وصولی | C31: =B75 -> 0 | D31: =C75 -> 0 | E31: =D75 -> 0 | F31: =E75 -> 0 | G31: =F75 -> 0 | H31: =G75 -> 0 | I31: =H75 -> 0 | J31: =SUM(C31:I31) -> 0 | T31: =SUM(J31:S31) -> 0
B32: کسورات | J32: =SUM(C32:I32) -> 0 | T32: =SUM(J32:S32) -> 0
A33: 99933001 | B33: ارسالی | J33: =SUM(C33:I33) -> 0 | T33: =J33+K33+L33+N33+O33+P33+Q33+R33+S33 -> 0
B34: وصولی | C34: =B78 -> 0 | D34: =C78 -> 0 | E34: =D78 -> 0 | F34: =E78 -> 0 | G34: =F78 -> 0 | H34: =G78 -> 0 | I34: =H78 -> 0 | J34: =SUM(C34:I34) -> 0 | T34: =SUM(J34:S34) -> 0
B35: کسورات | J35: =SUM(C35:I35) -> 0 | T35: =SUM(J35:S35) -> 0
A36: 10437000 | B36: ارسالی | J36: =SUM(C36:I36) -> 0 | T36: =J36+K36+L36+N36+O36+P36+Q36+R36+S36 -> 0
B37: وصولی | C37: =B81 -> 0 | D37: =C81 -> 0 | E37: =D81 -> 0 | F37: =E81 -> 0 | G37: =F81 -> 0 | H37: =G81 -> 0 | I37: =H81 -> 0 | J37: =SUM(C37:I37) -> 0 | T37: =SUM(J37:S37) -> 0
B38: کسورات | J38: =SUM(C38:I38) -> 0 | T38: =SUM(J38:S38) -> 0
A39: جمع کل | B39: ارسالی | C39: =C6+C9+C12+C15+C18+C21+C24+C27+C30+C33+C36 -> 0 | D39: =D6+D9+D12+D15+D18+D21+D24+D27+D30+D33+D36 -> 0 | E39: =E6+E9+E12+E15+E18+E21+E24+E27+E30+E33+E36 -> 0 | F39: =F6+F9+F12+F15+F18+F21+F24+F27+F30+F33+F36 -> 0 | G39: =G6+G9+G12+G15+G18+G21+G24+G27+G30+G33+G36 -> 0 | H39: =H6+H9+H12+H15+H18+H21+H24+H27+H30+H33+H36 -> 0 | I39: =I6+I9+I12+I15+I18+I21+I24+I27+I30+I33+I36 -> 0 | J39: =J6+J9+J12+J15+J18+J21+J24+J27+J30+J33+J36 -> 0 | K39: =SUM(K6:K38) -> 0 | L39: =SUM(L6:L38) -> 0 | M39: =SUM(M6:M38) -> 0 | N39: =SUM(N6:N38) -> 0 | O39: =SUM(O6:O38) -> 0 | P39: =SUM(P6:P38) -> 0 | Q39: =SUM(Q6:Q38) -> 0 | R39: =SUM(R6:R38) -> 0 | S39: =SUM(S6:S38) -> 0 | T39: =J39+K39+L39+N39+O39+P39+Q39+R39+S39 -> 0
B40: وصولی | C40: =C7+C10+C13+C16+C19+C22+C25+C28+C31+C34+C37 -> 0 | D40: =D7+D10+D13+D16+D19+D22+D25+D28+D31+D34+D37 -> 0 | E40: =E7+E10+E13+E16+E19+E22+E25+E28+E31+E34+E37 -> 0 | F40: =F7+F10+F13+F16+F19+F22+F25+F28+F31+F34+F37 -> 0 | G40: =G7+G10+G13+G16+G19+G22+G25+G28+G31+G34+G37 -> 0 | H40: =H7+H10+H13+H16+H19+H22+H25+H28+H31+H34+H37 -> 0 | I40: =I7+I10+I13+I16+I19+I22+I25+I28+I31+I34+I37 -> 0 | J40: =J7+J10+J13+J16+J19+J22+J25+J28+J31+J34+J37 -> 0 | T40: =SUM(J40:S40) -> 0
B41: کسورات | C41: =C8+C11+C14+C17+C20+C23+C26+C29+C32+C35+C38 -> 0 | D41: =D8+D11+D14+D17+D20+D23+D26+D29+D32+D35+D38 -> 0 | E41: =E8+E11+E14+E17+E20+E23+E26+E29+E32+E35+E38 -> 0 | F41: =F8+F11+F14+F17+F20+F23+F26+F29+F32+F35+F38 -> 0 | G41: =G8+G11+G14+G17+G20+G23+G26+G29+G32+G35+G38 -> 0 | H41: =H8+H11+H14+H17+H20+H23+H26+H29+H32+H35+H38 -> 0 | I41: =I8+I11+I14+I17+I20+I23+I26+I29+I32+I35+I38 -> 0 | J41: =J8+J11+J14+J17+J20+J23+J26+J29+J32+J35+J38 -> 0 | T41: =SUM(J41:S41) -> 0
A46: کاربرگ وصولی و ارسال به ستاد
A47: نام واحد:
A48: نام ماه:
A49: برنامه | B49: بیمه ای | J49: درامد نقدی (صندوق) | K49: جمع کل درآمد وصولی | L49: جمع کل درآمد ارسال شده به ستاد
B50: تامین اجتماعی | C50: خدمات درمانی | D50: کمیته امداد | E50: نیروهای مسلح | F50: بیمه ذغال سنگ | G50: بیمه فولاد | H50: سایر بیمه ها | I50: جمع کل درامد بیمه ای
A51: 30315000 | I51: =B51+C51+D51+E51+F51+G51+H51 -> 0 | J51: =N6 -> 0 | K51: =I51+J51 -> 0
D53: =D51-D52 -> 0 | E53: =E51-E52 -> 0 | F53: =F51-F52 -> 0 | G53: =G51-G52 -> 0 | H53: =H51-H52 -> 0
A54: 30316000 | I54: =B54+C54+D54+E54+F54+G54+H54 -> 0 | J54: =N9 -> 0 | K54: =I54+J54 -> 0
A57: 30303000 | I57: =B57+C57+D57+E57+F57+G57+H57 -> 0 | J57: =N12 -> 0 | K57: =I57+J57 -> 0
A60: 30301000 | I60: =B60+C60+D60+E60+F60+G60+H60 -> 0 | J60: =N15 -> 0 | K60: =I60+J60 -> 0
A63: 30327000 | I63: =B63+C63+D63+E63+F63+G63+H63 -> 0 | J63: =N18 -> 0 | K63: =I63+J63 -> 0
A66: 30107000 | I66: =B66+C66+D66+E66+F66+G66+H66 -> 0 | J66: =N21 -> 0 | K66: =I66+J66 -> 0
A69: 30129000 | I69: =B69+C69+D69+E69+F69+G69+H69 -> 0 | J69: =N24 -> 0 | K69: =I69+J69 -> 0
A72: 30121000 | I72: =B72+C72+D72+E72+F72+G72+H72 -> 0 | J72: =N27 -> 0 | K72: =I72+J72 -> 0
A75: 10506000 | I75: =B75+C75+D75+E75+F75+G75+H75 -> 0 | J75: =N30 -> 0 | K75: =I75+J75 -> 0
A78: 99933001 | I78: =B78+C78+D78+E78+F78+G78+H78 -> 0 | J78: =N33 -> 0 | K78: =I78+J78 -> 0
A81: 10437000 | I81: =B81+C81+D81+E81+F81+G81+H81 -> 0 | J81: =N36 -> 0 | K81: =I81+J81 -> 0
A84: جمع کل | B84: =B51+B54+B57+B60+B63+B66+B69+B72+B75+B78+B81 -> 0 | C84: =C51+C54+C57+C60+C63+C66+C69+C72+C75+C78+C81 -> 0 | D84: =D51+D54+D57+D60+D63+D66+D69+D72+D75+D78+D81 -> 0 | E84: =E51+E54+E57+E60+E63+E66+E69+E72+E75+E78+E81 -> 0 | F84: =F51+F54+F57+F60+F63+F66+F69+F72+F75+F78+F81 -> 0 | G84: =G51+G54+G57+G60+G63+G66+G69+G72+G75+G78+G81 -> 0 | H84: =H51+H54+H57+H60+H63+H66+H69+H72+H75+H78+H81 -> 0 | I84: =B84+C84+D84+E84+F84+G84+H84 -> 0 | J84: =SUM(J51:J83) -> 0 | K84: =I84+J84 -> 0 | L84: =SUM(L51:L83) -> 0

Sheet تیر
A1: کاربرگ درآمد تیر 1393
A2: نام واحد :
A4: برنامه | B4: درامد | C4: بیمه ای | K4: کارت بهداشت | L4: سایر درآمد ها | M4: کنترل نسخ دریافتی ارسال نشده | N4: درامد نقدی (صندوق) | O4: بدهکاران اشخاص (بیماران تسویه نشده) | P4: نیازمندان | Q4: ترافیکی | R4: منازل سازمانی | S4: سایر قراردادها ودرامدها (قرارداد پزشک خانواده) | T4: جمع کل درآمد
C5: تامین اجتماعی | D5: خدمات درمانی | E5: کمیته امداد | F5: نیروهای مسلح | G5: بیمه ذغال سنگ | H5: بیمه فولاد | I5: سایر بیمه ها | J5: جمع کل درامد بیمه ای
A6: 30315000 | B6: ارسالی | J6: =SUM(C6:I6) -> 0 | T6: =J6+K6+L6+N6+O6+P6+Q6+R6+S6 -> 0
B7: وصولی | C7: =B51 -> 0 | D7: =C51 -> 0 | E7: =D51 -> 0 | F7: =E51 -> 0 | G7: =F51 -> 0 | H7: =G51 -> 0 | I7: =H51 -> 0 | J7: =SUM(C7:I7) -> 0
B8: کسورات | J8: =SUM(C8:I8) -> 0
A9: 30316000 | B9: ارسالی | J9: =SUM(C9:I9) -> 0 | T9: =J9+K9+L9+N9+O9+P9+Q9+R9+S9 -> 0
B10: وصولی | C10: =B54 -> 0 | D10: =C54 -> 0 | E10: =D54 -> 0 | F10: =E54 -> 0 | G10: =F54 -> 0 | H10: =G54 -> 0 | I10: =H54 -> 0 | J10: =SUM(C10:I10) -> 0
B11: کسورات | J11: =SUM(C11:I11) -> 0
A12: 30303000 | B12: ارسالی | J12: =SUM(C12:I12) -> 0 | T12: =J12+K12+L12+N12+O12+P12+Q12+R12+S12 -> 0
B13: وصولی | C13: =B57 -> 0 | D13: =C57 -> 0 | E13: =D57 -> 0 | F13: =E57 -> 0 | G13: =F57 -> 0 | H13: =G57 -> 0 | I13: =H57 -> 0 | J13: =SUM(C13:I13) -> 0
B14: کسورات | J14: =SUM(C14:I14) -> 0
A15: 30301000 | B15: ارسالی | J15: =SUM(C15:I15) -> 0 | T15: =J15+K15+L15+N15+O15+P15+Q15+R15+S15 -> 0
B16: وصولی | C16: =B60 -> 0 | D16: =C60 -> 0 | E16: =D60 -> 0 | F16: =E60 -> 0 | G16: =F60 -> 0 | H16: =G60 -> 0 | I16: =H60 -> 0 | J16: =SUM(C16:I16) -> 0
B17: کسورات | J17: =SUM(C17:I17) -> 0
A18: 30327000 | B18: ارسالی | J18: =SUM(C18:I18) -> 0 | T18: =J18+K18+L18+N18+O18+P18+Q18+R18+S18 -> 0
B19: وصولی | C19: =B63 -> 0 | D19: =C63 -> 0 | E19: =D63 -> 0 | F19: =E63 -> 0 | G19: =F63 -> 0 | H19: =G63 -> 0 | I19: =H63 -> 0 | J19: =SUM(C19:I19) -> 0
B20: کسورات | J20: =SUM(C20:I20) -> 0
A21: 30107000 | B21: ارسالی | J21: =SUM(C21:I21) -> 0 | T21: =J21+K21+L21+N21+O21+P21+Q21+R21+S21 -> 0
B22: وصولی | C22: =B66 -> 0 | D22: =C66 -> 0 | E22: =D66 -> 0 | F22: =E66 -> 0 | G22: =F66 -> 0 | H22: =G66 -> 0 | I22: =H66 -> 0 | J22: =SUM(C22:I22) -> 0
B23: کسورات | J23: =SUM(C23:I23) -> 0
A24: 30129000 | B24: ارسالی | J24: =SUM(C24:I24) -> 0 | T24: =J24+K24+L24+N24+O24+P24+Q24+R24+S24 -> 0
B25: وصولی | C25: =B69 -> 0 | D25: =C69 -> 0 | E25: =D69 -> 0 | F25: =E69 -> 0 | G25: =F69 -> 0 | H25: =G69 -> 0 | I25: =H69 -> 0 | J25: =SUM(C25:I25) -> 0
B26: کسورات | J26: =SUM(C26:I26) -> 0
A27: 30121000 | B27: ارسالی | J27: =SUM(C27:I27) -> 0 | T27: =J27+K27+L27+N27+O27+P27+Q27+R27+S27 -> 0
B28: وصولی | C28: =B72 -> 0 | D28: =C72 -> 0 | E28: =D72 -> 0 | F28: =E72 -> 0 | G28: =F72 -> 0 | H28: =G72 -> 0 | I28: =H72 -> 0 | J28: =SUM(C28:I28) -> 0
B29: کسورات | J29: =SUM(C29:I29) -> 0
A30: 10506000 | B30: ارسالی | J30: =SUM(C30:I30) -> 0 | T30: =J30+K30+L30+N30+O30+P30+Q30+R30+S30 -> 0
B31: وصولی | C31: =B75 -> 0 | D31: =C75 -> 0 | E31: =D75 -> 0 | F31: =E75 -> 0 | G31: =F75 -> 0 | H31: =G75 -> 0 | I31: =H75 -> 0 | J31: =SUM(C31:I31) -> 0
B32: کسورات | J32: =SUM(C32:I32) -> 0
A33: 99933001 | B33: ارسالی | J33: =SUM(C33:I33) -> 0 | T33: =J33+K33+L33+N33+O33+P33+Q33+R33+S33 -> 0
B34: وصولی | C34: =B78 -> 0 | D34: =C78 -> 0 | E34: =D78 -> 0 | F34: =E78 -> 0 | G34: =F78 -> 0 | H34: =G78 -> 0 | I34: =H78 -> 0 | J34: =SUM(C34:I34) -> 0
B35: کسورات | J35: =SUM(C35:I35) -> 0
A36: 10437000 | B36: ارسالی | J36: =SUM(C36:I36) -> 0 | T36: =J36+K36+L36+N36+O36+P36+Q36+R36+S36 -> 0
B37: وصولی | C37: =B81 -> 0 | D37: =C81 -> 0 | E37: =D81 -> 0 | F37: =E81 -> 0 | G37: =F81 -> 0 | H37: =G81 -> 0 | I37: =H81 -> 0 | J37: =SUM(C37:I37) -> 0
B38: کسورات | J38: =SUM(C38:I38) -> 0
A39: جمع کل | B39: ارسالی | C39: =C6+C9+C12+C15+C18+C21+C24+C27+C30+C33+C36 -> 0 | D39: =D6+D9+D12+D15+D18+D21+D24+D27+D30+D33+D36 -> 0 | E39: =E6+E9+E12+E15+E18+E21+E24+E27+E30+E33+E36 -> 0 | F39: =F6+F9+F12+F15+F18+F21+F24+F27+F30+F33+F36 -> 0 | G39: =G6+G9+G12+G15+G18+G21+G24+G27+G30+G33+G36 -> 0 | H39: =H6+H9+H12+H15+H18+H21+H24+H27+H30+H33+H36 -> 0 | I39: =I6+I9+I12+I15+I18+I21+I24+I27+I30+I33+I36 -> 0 | J39: =J6+J9+J12+J15+J18+J21+J24+J27+J30+J33+J36 -> 0 | K39: =SUM(K6:K38) -> 0 | L39: =SUM(L6:L38) -> 0 | M39: =SUM(M6:M38) -> 0 | N39: =SUM(N6:N38) -> 0 | O39: =SUM(O6:O38) -> 0 | P39: =SUM(P6:P38) -> 0 | Q39: =SUM(Q6:Q38) -> 0 | R39: =SUM(R6:R38) -> 0 | S39: =SUM(S6:S38) -> 0 | T39: =J39+K39+L39+N39+O39+P39+Q39+R39+S39 -> 0
B40: وصولی | C40: =C7+C10+C13+C16+C19+C22+C25+C28+C31+C34+C37 -> 0 | D40: =D7+D10+D13+D16+D19+D22+D25+D28+D31+D34+D37 -> 0 | E40: =E7+E10+E13+E16+E19+E22+E25+E28+E31+E34+E37 -> 0 | F40: =F7+F10+F13+F16+F19+F22+F25+F28+F31+F34+F37 -> 0 | G40: =G7+G10+G13+G16+G19+G22+G25+G28+G31+G34+G37 -> 0 | H40: =H7+H10+H13+H16+H19+H22+H25+H28+H31+H34+H37 -> 0 | I40: =I7+I10+I13+I16+I19+I22+I25+I28+I31+I34+I37 -> 0 | J40: =J7+J10+J13+J16+J19+J22+J25+J28+J31+J34+J37 -> 0
B41: کسورات | C41: =C8+C11+C14+C17+C20+C23+C26+C29+C32+C35+C38 -> 0 | D41: =D8+D11+D14+D17+D20+D23+D26+D29+D32+D35+D38 -> 0 | E41: =E8+E11+E14+E17+E20+E23+E26+E29+E32+E35+E38 -> 0 | F41: =F8+F11+F14+F17+F20+F23+F26+F29+F32+F35+F38 -> 0 | G41: =G8+G11+G14+G17+G20+G23+G26+G29+G32+G35+G38 -> 0 | H41: =H8+H11+H14+H17+H20+H23+H26+H29+H32+H35+H38 -> 0 | I41: =I8+I11+I14+I17+I20+I23+I26+I29+I32+I35+I38 -> 0 | J41: =J8+J11+J14+J17+J20+J23+J26+J29+J32+J35+J38 -> 0
A46: کاربرگ وصولی و ارسال به ستاد
A47: نام واحد:
A48: نام ماه:
A49: برنامه | B49: بیمه ای | J49: درامد نقدی (صندوق) | K49: جمع کل درآمد وصولی | L49: جمع کل درآمد ارسال شده به ستاد
B50: تامین اجتماعی | C50: خدمات درمانی | D50: کمیته امداد | E50: نیروهای مسلح | F50: بیمه ذغال سنگ | G50: بیمه فولاد | H50: سایر بیمه ها | I50: جمع کل درامد بیمه ای
A51: 30315000 | I51: =B51+C51+D51+E51+F51+G51+H51 -> 0 | J51: =N6 -> 0 | K51: =I51+J51 -> 0
D53: =D51-D52 -> 0
A54: 30316000 | I54: =B54+C54+D54+E54+F54+G54+H54 -> 0 | J54: =N9 -> 0 | K54: =I54+J54 -> 0
A57: 30303000 | I57: =B57+C57+D57+E57+F57+G57+H57 -> 0 | J57: =N12 -> 0 | K57: =I57+J57 -> 0
A60: 30301000 | I60: =B60+C60+D60+E60+F60+G60+H60 -> 0 | J60: =N15 -> 0 | K60: =I60+J60 -> 0
A63: 30327000 | I63: =B63+C63+D63+E63+F63+G63+H63 -> 0 | J63: =N18 -> 0 | K63: =I63+J63 -> 0
A66: 30107000 | I66: =B66+C66+D66+E66+F66+G66+H66 -> 0 | J66: =N21 -> 0 | K66: =I66+J66 -> 0
A69: 30129000 | I69: =B69+C69+D69+E69+F69+G69+H69 -> 0 | J69: =N24 -> 0 | K69: =I69+J69 -> 0
A72: 30121000 | I72: =B72+C72+D72+E72+F72+G72+H72 -> 0 | J72: =N27 -> 0 | K72: =I72+J72 -> 0
A75: 10506000 | I75: =B75+C75+D75+E75+F75+G75+H75 -> 0 | J75: =N30 -> 0 | K75: =I75+J75 -> 0
A78: 99933001 | I78: =B78+C78+D78+E78+F78+G78+H78 -> 0 | J78: =N33 -> 0 | K78: =I78+J78 -> 0
A81: 10437000 | I81: =B81+C81+D81+E81+F81+G81+H81 -> 0 | J81: =N36 -> 0 | K81: =I81+J81 -> 0
A84: جمع کل | B84: =B51+B54+B57+B60+B63+B66+B69+B72+B75+B78+B81 -> 0 | C84: =C51+C54+C57+C60+C63+C66+C69+C72+C75+C78+C81 -> 0 | D84: =D51+D54+D57+D60+D63+D66+D69+D72+D75+D78+D81 -> 0 | E84: =E51+E54+E57+E60+E63+E66+E69+E72+E75+E78+E81 -> 0 | F84: =F51+F54+F57+F60+F63+F66+F69+F72+F75+F78+F81 -> 0 | G84: =G51+G54+G57+G60+G63+G66+G69+G72+G75+G78+G81 -> 0 | H84: =H51+H54+H57+H60+H63+H66+H69+H72+H75+H78+H81 -> 0 | I84: =B84+C84+D84+E84+F84+G84+H84 -> 0 | J84: =SUM(J51:J83) -> 0 | K84: =I84+J84 -> 0 | L84: =SUM(L51:L83) -> 0

Sheet مرداد
A1: کاربرگ درآمد مرداد 1393
A2: نام واحد :
A4: برنامه | B4: درامد | C4: بیمه ای | K4: کارت بهداشت | L4: سایر درآمد ها | M4: کنترل نسخ دریافتی ارسال نشده | N4: درامد نقدی (صندوق) | O4: بدهکاران اشخاص (بیماران تسویه نشده) | P4: نیازمندان | Q4: ترافیکی | R4: منازل سازمانی | S4: سایر قراردادها ودرامدها (قرارداد پزشک خانواده) | T4: جمع کل درآمد
C5: تامین اجتماعی | D5: خدمات درمانی | E5: کمیته امداد | F5: نیروهای مسلح | G5: بیمه ذغال سنگ | H5: بیمه فولاد | I5: سایر بیمه ها | J5: جمع کل درامد بیمه ای
A6: 30315000 | B6: ارسالی | J6: =SUM(C6:I6) -> 0 | T6: =J6+K6+L6+N6+O6+P6+Q6+R6+S6 -> 0
B7: وصولی | C7: =B51 -> 0 | D7: =C51 -> 0 | E7: =D51 -> 0 | F7: =E51 -> 0 | G7: =F51 -> 0 | H7: =G51 -> 0 | I7: =H51 -> 0 | J7: =SUM(C7:I7) -> 0 | T7: =SUM(J7:S7) -> 0
B8: کسورات | J8: =SUM(C8:I8) -> 0 | T8: =SUM(J8:S8) -> 0
A9: 30316000 | B9: ارسالی | J9: =SUM(C9:I9) -> 0 | T9: =J9+K9+L9+N9+O9+P9+Q9+R9+S9 -> 0
B10: وصولی | C10: =B54 -> 0 | D10: =C54 -> 0 | E10: =D54 -> 0 | F10: =E54 -> 0 | G10: =F54 -> 0 | H10: =G54 -> 0 | I10: =H54 -> 0 | J10: =SUM(C10:I10) -> 0 | T10: =SUM(J10:S10) -> 0
B11: کسورات | J11: =SUM(C11:I11) -> 0 | T11: =SUM(J11:S11) -> 0
A12: 30303000 | B12: ارسالی | J12: =SUM(C12:I12) -> 0 | T12: =J12+K12+L12+N12+O12+P12+Q12+R12+S12 -> 0
B13: وصولی | C13: =B57 -> 0 | D13: =C57 -> 0 | E13: =D57 -> 0 | F13: =E57 -> 0 | G13: =F57 -> 0 | H13: =G57 -> 0 | I13: =H57 -> 0 | J13: =SUM(C13:I13) -> 0 | T13: =SUM(J13:S13) -> 0
B14: کسورات | J14: =SUM(C14:I14) -> 0 | T14: =SUM(J14:S14) -> 0
A15: 30301000 | B15: ارسالی | J15: =SUM(C15:I15) -> 0 | T15: =J15+K15+L15+N15+O15+P15+Q15+R15+S15 -> 0
B16: وصولی | C16: =B60 -> 0 | D16: =C60 -> 0 | E16: =D60 -> 0 | F16: =E60 -> 0 | G16: =F60 -> 0 | H16: =G60 -> 0 | I16: =H60 -> 0 | J16: =SUM(C16:I16) -> 0 | T16: =SUM(J16:S16) -> 0
B17: کسورات | J17: =SUM(C17:I17) -> 0 | T17: =SUM(J17:S17) -> 0
A18: 30327000 | B18: ارسالی | J18: =SUM(C18:I18) -> 0 | T18: =J18+K18+L18+N18+O18+P18+Q18+R18+S18 -> 0
B19: وصولی | C19: =B63 -> 0 | D19: =C63 -> 0 | E19: =D63 -> 0 | F19: =E63 -> 0 | G19: =F63 -> 0 | H19: =G63 -> 0 | I19: =H63 -> 0 | J19: =SUM(C19:I19) -> 0 | T19: =SUM(J19:S19) -> 0
B20: کسورات | J20: =SUM(C20:I20) -> 0 | T20: =SUM(J20:S20) -> 0
A21: 30107000 | B21: ارسالی | J21: =SUM(C21:I21) -> 0 | T21: =J21+K21+L21+N21+O21+P21+Q21+R21+S21 -> 0
B22: وصولی | C22: =B66 -> 0 | D22: =C66 -> 0 | E22: =D66 -> 0 | F22: =E66 -> 0 | G22: =F66 -> 0 | H22: =G66 -> 0 | I22: =H66 -> 0 | J22: =SUM(C22:I22) -> 0 | T22: =SUM(J22:S22) -> 0
B23: کسورات | J23: =SUM(C23:I23) -> 0 | T23: =SUM(J23:S23) -> 0
A24: 30129000 | B24: ارسالی | J24: =SUM(C24:I24) -> 0 | T24: =J24+K24+L24+N24+O24+P24+Q24+R24+S24 -> 0
B25: وصولی | C25: =B69 -> 0 | D25: =C69 -> 0 | E25: =D69 -> 0 | F25: =E69 -> 0 | G25: =F69 -> 0 | H25: =G69 -> 0 | I25: =H69 -> 0 | J25: =SUM(C25:I25) -> 0 | T25: =SUM(J25:S25) -> 0
B26: کسورات | J26: =SUM(C26:I26) -> 0 | T26: =SUM(J26:S26) -> 0
A27: 30121000 | B27: ارسالی | J27: =SUM(C27:I27) -> 0 | T27: =J27+K27+L27+N27+O27+P27+Q27+R27+S27 -> 0
B28: وصولی | C28: =B72 -> 0 | D28: =C72 -> 0 | E28: =D72 -> 0 | F28: =E72 -> 0 | G28: =F72 -> 0 | H28: =G72 -> 0 | I28: =H72 -> 0 | J28: =SUM(C28:I28) -> 0 | T28: =SUM(J28:S28) -> 0
B29: کسورات | J29: =SUM(C29:I29) -> 0 | T29: =SUM(J29:S29) -> 0
A30: 10506000 | B30: ارسالی | J30: =SUM(C30:I30) -> 0 | T30: =J30+K30+L30+N30+O30+P30+Q30+R30+S30 -> 0
B31: وصولی | C31: =B75 -> 0 | D31: =C75 -> 0 | E31: =D75 -> 0 | F31: =E75 -> 0 | G31: =F75 -> 0 | H31: =G75 -> 0 | I31: =H75 -> 0 | J31: =SUM(C31:I31) -> 0 | T31: =SUM(J31:S31) -> 0
B32: کسورات | J32: =SUM(C32:I32) -> 0 | T32: =SUM(J32:S32) -> 0
A33: 99933001 | B33: ارسالی | J33: =SUM(C33:I33) -> 0 | T33: =J33+K33+L33+N33+O33+P33+Q33+R33+S33 -> 0
B34: وصولی | C34: =B78 -> 0 | D34: =C78 -> 0 | E34: =D78 -> 0 | F34: =E78 -> 0 | G34: =F78 -> 0 | H34: =G78 -> 0 | I34: =H78 -> 0 | J34: =SUM(C34:I34) -> 0 | T34: =SUM(J34:S34) -> 0
B35: کسورات | J35: =SUM(C35:I35) -> 0 | T35: =SUM(J35:S35) -> 0
A36: 10437000 | B36: ارسالی | J36: =SUM(C36:I36) -> 0 | T36: =J36+K36+L36+N36+O36+P36+Q36+R36+S36 -> 0
