Workbook

Sheet کاربرگ کلی
B1: دانشگاه علوم پزشکی و خدمات بهداشتی درمانی کرمان
B2: کاربرگ گام به گام بستن حسابهای سال 1393
B3: واحد : ....................
B5: ردیف | C5: شرح | E5: انجام شده | F5: بررسی توسط شرکت | G5: توضیحات | H5: پیوست
B6: 1 | C6: انبار | D6: آیا گزارش انبارگردانی جهت کنترل موجودی انبار ارسال شده است ؟ | E6: ='کاربرگ 1'!E5 -> 0 | F6: ='کاربرگ 1'!F5 -> 0 | G6: ='کاربرگ 1'!G5 -> 0
B7: 2 | D7: آیا شمارش انبار گردانی کالا در سیستم ثبت شده است؟ | E7: ='کاربرگ 1'!E6 -> 0 | F7: ='کاربرگ 1'!F6 -> 0 | G7: ='کاربرگ 1'!G6 -> 0
B8: 3 | D8: آیا رسید و حواله کسر و اضافه انبارگردانی صادر و تأیید شده است؟ | E8: ='کاربرگ 1'!E7 -> 0 | F8: ='کاربرگ 1'!F7 -> 0 | G8: ='کاربرگ 1'!G7 -> 0
B9: 4 | D9: آیا کليه رسیدهای کالاهای ارسالی از واحدهای تابعه و ستاد صادر شده است؟ | E9: ='کاربرگ 1'!E8 -> 0 | F9: ='کاربرگ 1'!F8 -> 0 | G9: ='کاربرگ 1'!G8 -> 0
B10: 5 | D10: آیا کلیه رسید ها از مرحله تأیید نشده رد شده است؟ | E10: ='کاربرگ 1'!E9 -> 0 | F10: ='کاربرگ 1'!F9 -> 0 | G10: ='کاربرگ 1'!G9 -> 0
B11: 6 | D11: آیا کلیه رسیدها نرخ گذاری و تأیید شده است؟ | E11: ='کاربرگ 1'!E10 -> 0 | F11: ='کاربرگ 1'!F10 -> 0 | G11: ='کاربرگ 1'!G10 -> 0
B12: 7 | D12: آیا سند حسابداری رسیدهای انبار صادر شده است؟ | E12: ='کاربرگ 1'!E11 -> 0 | F12: ='کاربرگ 1'!F11 -> 0 | G12: ='کاربرگ 1'!G11 -> 0
B13: 8 | D13: آیا کلیه حواله های انبار از مرحله تأیید نشده رد شده است؟ | E13: ='کاربرگ 1'!E12 -> 0 | F13: ='کاربرگ 1'!F12 -> 0 | G13: ='کاربرگ 1'!G12 -> 0
B14: 9 | D14: آیا سند حسابداری حواله های انبار صادر شده است؟ | E14: ='کاربرگ 1'!E13 -> 0 | F14: ='کاربرگ 1'!F13 -> 0 | G14: ='کاربرگ 1'!G13 -> 0
B15: 10 | D15: آیا موجودی انبار پایان دوره با انبارگردانی کنترل شده است؟ | E15: ='کاربرگ 1'!E14 -> 0 | F15: ='کاربرگ 1'!F14 -> 0 | G15: ='کاربرگ 1'!G14 -> 0
B16: 11 | C16: اموال | D16: آیا تأییدیه اتمام ثبت اموال واحد به همراه آخرین شناسه اموال ثبت شده ارسال شده است؟ | E16: ='کاربرگ 1'!E15 -> 0 | F16: ='کاربرگ 1'!F15 -> 0 | G16: ='کاربرگ 1'!G15 -> 0
B17: 12 | D17: آیا سند حسابداری اموال ابتدای دوره صادر شده است؟ | E17: ='کاربرگ 1'!E16 -> 0 | F17: ='کاربرگ 1'!F16 -> 0 | G17: ='کاربرگ 1'!G16 -> 0
B18: 13 | D18: آیا کارتهای اموال ایجاد شده از حواله های انبار نهایی شده است ؟ | E18: ='کاربرگ 1'!E17 -> 0 | F18: ='کاربرگ 1'!F17 -> 0 | G18: ='کاربرگ 1'!G17 -> 0
B19: 14 | D19: آیا فرم شماره 16 در اتاق ها نصب شده و با نرم افزار تطابق دارد؟ | E19: ='کاربرگ 1'!E18 -> 0 | F19: ='کاربرگ 1'!F18 -> 0 | G19: ='کاربرگ 1'!G18 -> 0
B20: 15 | C20: آیا کاربرگ نهایی حقوق خزانه جهت بررسی ارسال شده است؟ | E20: ='کاربرگ 2'!E5 -> 0 | F20: ='کاربرگ 2'!F5 -> 0 | G20: ='کاربرگ 2'!G5 -> 0
B21: 16 | C21: شناسایی حقوق | D21: آیا سند شناسایی حقوق خزانه ثبت شده است؟ | E21: ='کاربرگ 2'!E6 -> 0 | F21: ='کاربرگ 2'!F6 -> 0 | G21: ='کاربرگ 2'!G6 -> 0
B22: 17 | D22: آیا سند شناسایی حقوق خزانه از لحاظ نقدی و تعهدی بررسی شده است ؟ | E22: ='کاربرگ 2'!E7 -> 0 | F22: ='کاربرگ 2'!F7 -> 0 | G22: ='کاربرگ 2'!G7 -> 0
B23: 18 | D23: آیا سند شناسایی حقوق خزانه با کاربرگ حقوق خزانه از نظر مبلغ کنترل شده است؟ | E23: ='کاربرگ 2'!E8 -> 0 | F23: ='کاربرگ 2'!F8 -> 0 | G23: ='کاربرگ 2'!G8 -> 0
B24: 19 | D24: آیا سند شناسایی حقوق خزانه با کاربرگ حقوق خزانه از نظر T1 کنترل شده است؟ | E24: ='کاربرگ 2'!E9 -> 0 | F24: ='کاربرگ 2'!F9 -> 0 | G24: ='کاربرگ 2'!G9 -> 0
B25: 20 | D25: آیا سند شناسایی حقوق خزانه با کاربرگ حقوق خزانه از نظر T2 کنترل شده است؟ | E25: ='کاربرگ 2'!E10 -> 0 | F25: ='کاربرگ 2'!F10 -> 0 | G25: ='کاربرگ 2'!G10 -> 0
B26: 21 | C26: خالص پرداختی | D26: آیا سند خالص پرداخت حقوق خزانه ثبت شده است؟ | E26: ='کاربرگ 2'!E11 -> 0 | F26: ='کاربرگ 2'!F11 -> 0 | G26: ='کاربرگ 2'!G11 -> 0
B27: 22 | D27: آیا سند خالص پرداخت حقوق خزانه از لحاظ نقدی و تعهدی بررسی شده است ؟ | E27: ='کاربرگ 2'!E12 -> 0 | F27: ='کاربرگ 2'!F12 -> 0 | G27: ='کاربرگ 2'!G12 -> 0
B28: 23 | D28: آیا سند خالص پرداختی حقوق خزانه با کاربرگ حقوق خزانه از نظر مبلغ کنترل شده است؟ | E28: ='کاربرگ 2'!E13 -> 0 | F28: ='کاربرگ 2'!F13 -> 0 | G28: ='کاربرگ 2'!G13 -> 0
B29: 24 | D29: آیا سند خالص پرداختی حقوق خزانه با کاربرگ حقوق خزانه از نظر T1 کنترل شده است؟ | E29: ='کاربرگ 2'!E14 -> 0 | F29: ='کاربرگ 2'!F14 -> 0 | G29: ='کاربرگ 2'!G14 -> 0
B30: 25 | D30: آیا سند خالص پرداختی حقوق خزانه با کاربرگ حقوق خزانه از نظر T2 کنترل شده است؟ | E30: ='کاربرگ 2'!E15 -> 0 | F30: ='کاربرگ 2'!F15 -> 0 | G30: ='کاربرگ 2'!G15 -> 0
B31: 26 | C31: سایر کسور | D31: آیا سند سایر کسور حقوق خزانه ثبت شده است؟ | E31: ='کاربرگ 2'!E16 -> 0 | F31: ='کاربرگ 2'!F16 -> 0 | G31: ='کاربرگ 2'!G16 -> 0
B32: 27 | D32: آیا سند سایر کسور حقوق خزانه از لحاظ نقدی و تعهدی بررسی شده است ؟ | E32: ='کاربرگ 2'!E17 -> 0 | F32: ='کاربرگ 2'!F17 -> 0 | G32: ='کاربرگ 2'!G17 -> 0
B33: 28 | D33: آیا سند سایر کسور حقوق خزانه با کاربرگ حقوق خزانه از نظر مبلغ کنترل شده است؟ | E33: ='کاربرگ 2'!E18 -> 0 | F33: ='کاربرگ 2'!F18 -> 0 | G33: ='کاربرگ 2'!G18 -> 0
B34: 29 | D34: آیا سند خالص پرداختی حقوق خزانه با کاربرگ حقوق خزانه از نظر T1 کنترل شده است؟ | E34: ='کاربرگ 2'!E19 -> 0 | F34: ='کاربرگ 2'!F19 -> 0 | G34: ='کاربرگ 2'!G19 -> 0
B35: 30 | D35: آیا سند خالص پرداختی حقوق خزانه با کاربرگ حقوق خزانه از نظر T2 کنترل شده است؟ | E35: ='کاربرگ 2'!E20 -> 0 | F35: ='کاربرگ 2'!F20 -> 0 | G35: ='کاربرگ 2'!G20 -> 0
B36: 31 | C36: کسور قانونی | D36: آیا سند کسور قانونی حقوق خزانه ثبت شده است؟ | E36: ='کاربرگ 2'!E21 -> 0 | F36: ='کاربرگ 2'!F21 -> 0 | G36: ='کاربرگ 2'!G21 -> 0
B37: 32 | D37: آیا سند کسور قانونی حقوق خزانه از لحاظ نقدی و تعهدی بررسی شده است ؟ | E37: ='کاربرگ 2'!E22 -> 0 | F37: ='کاربرگ 2'!F22 -> 0 | G37: ='کاربرگ 2'!G22 -> 0
B38: 33 | D38: آیا سند کسور قانونی حقوق خزانه با کاربرگ حقوق خزانه از نظر مبلغ کنترل شده است؟ | E38: ='کاربرگ 2'!E23 -> 0 | F38: ='کاربرگ 2'!F23 -> 0 | G38: ='کاربرگ 2'!G23 -> 0
B39: 34 | D39: آیا سند کسور حقوق خزانه با کاربرگ حقوق خزانه از نظر T1 کنترل شده است؟ | E39: ='کاربرگ 2'!E24 -> 0 | F39: ='کاربرگ 2'!F24 -> 0 | G39: ='کاربرگ 2'!G24 -> 0
B40: 35 | D40: آیا سند کسور حقوق خزانه با کاربرگ حقوق خزانه از نظر T2 کنترل شده است؟ | E40: ='کاربرگ 2'!E25 -> 0 | F40: ='کاربرگ 2'!F25 -> 0 | G40: ='کاربرگ 2'!G25 -> 0
B41: 36 | C41: رابط حقوق | D41: آیا رابط حقوق از لحاظ مبلغ با کاربرگ کنترل شده است ؟ | E41: ='کاربرگ 3'!E5 -> 0 | F41: ='کاربرگ 3'!F5 -> 0 | G41: ='کاربرگ 3'!G5 -> 0
B42: 37 | D42: آیا رابط حقوق از لحاظ T2 با کاربرگ حقوق کنترل شده است ؟ | E42: ='کاربرگ 3'!E6 -> 0 | F42: ='کاربرگ 3'!F6 -> 0 | G42: ='کاربرگ 3'!G6 -> 0
B43: 38 | D43: آیا رابط حقوق از لحاظ T3 کنترل شده است ؟ | E43: ='کاربرگ 3'!E7 -> 0 | F43: ='کاربرگ 3'!F7 -> 0 | G43: ='کاربرگ 3'!G7 -> 0
B44: 39 | C44: رابط اعتبار | D44: آیا سند اعتبارات سایر دریافتی ثبت شده است ؟ | E44: ='کاربرگ 4'!E5 -> 0 | F44: ='کاربرگ 4'!F5 -> 0 | G44: ='کاربرگ 4'!G5 -> 0
B45: 40 | D45: آیا سند اعتبارات سایر دریافتی از لحاظ نقدی و تعهدی بررسی شده است ؟ | E45: ='کاربرگ 4'!E6 -> 0 | F45: ='کاربرگ 4'!F6 -> 0 | G45: ='کاربرگ 4'!G6 -> 0
B46: 41 | D46: آیا رابط اعتبار ستاد و واحد از لحاظ مبلغ باهم کنترل شده است ؟ | E46: ='کاربرگ 4'!E7 -> 0 | F46: ='کاربرگ 4'!F7 -> 0 | G46: ='کاربرگ 4'!G7 -> 0
B47: 42 | D47: آیا تخصیص اعتبار رابط بودجه ای در این واحد ثبت شده است؟ | E47: ='کاربرگ 4'!E8 -> 0 | F47: ='کاربرگ 4'!F8 -> 0 | G47: ='کاربرگ 4'!G8 -> 0
B48: 43 | D48: آیا رابط اعتبار ستاد و واحد از لحاظT2 باهم کنترل شده است ؟ | E48: ='کاربرگ 4'!E9 -> 0 | F48: ='کاربرگ 4'!F9 -> 0 | G48: ='کاربرگ 4'!G9 -> 0
B49: 44 | D49: آیا رابط اعتبار از لحاظ T3 کنترل شده است ؟ | E49: ='کاربرگ 4'!E10 -> 0 | F49: ='کاربرگ 4'!F10 -> 0 | G49: ='کاربرگ 4'!G10 -> 0
B50: 45 | C50: رابط موجودی کالا | D50: آیا رابط موجودی کالای واحدهای ارسال کننده با این واحد از لحاظ مبلغ باهم کنترل شده است ؟ | E50: ='کاربرگ 5'!E5 -> 0 | F50: ='کاربرگ 5'!F5 -> 0 | G50: ='کاربرگ 5'!G5 -> 0
B51: 46 | D51: آیا سند رابط موجودی کالا از لحاظ نقدی و تعهدی بررسی شده است ؟ | E51: ='کاربرگ 5'!E6 -> 0 | F51: ='کاربرگ 5'!F6 -> 0 | G51: ='کاربرگ 5'!G6 -> 0
B52: 47 | D52: آیا رابط موجودی کالای واحدهای ارسال کننده با این واحد از لحاظT2 باهم کنترل شده است ؟ | E52: ='کاربرگ 5'!E7 -> 0 | F52: ='کاربرگ 5'!F7 -> 0 | G52: ='کاربرگ 5'!G7 -> 0
B53: 48 | D53: آیا رابط موجودی کالای واحدهای ارسال کننده با این واحد از لحاظ T3 کنترل شده است ؟ | E53: ='کاربرگ 5'!E8 -> 0 | F53: ='کاربرگ 5'!F8 -> 0 | G53: ='کاربرگ 5'!G8 -> 0
B54: 49 | C54: رابط اموال | D54: آیا رابط اموال واحدهای ارسال کننده با این واحد از لحاظ مبلغ باهم کنترل شده است ؟ | E54: ='کاربرگ 5'!E9 -> 0 | F54: ='کاربرگ 5'!F9 -> 0 | G54: ='کاربرگ 5'!G9 -> 0
B55: 50 | D55: آیا سند رابط اموال از لحاظ نقدی و تعهدی بررسی شده است ؟ | E55: ='کاربرگ 5'!E10 -> 0 | F55: ='کاربرگ 5'!F10 -> 0 | G55: ='کاربرگ 5'!G10 -> 0
B56: 51 | D56: آیا رابط اموال واحدهای ارسال کننده با این واحد از لحاظT2 باهم کنترل شده است ؟ | E56: ='کاربرگ 5'!E11 -> 0 | F56: ='کاربرگ 5'!F11 -> 0 | G56: ='کاربرگ 5'!G11 -> 0
B57: 52 | D57: آیا رابط اموال واحدهای ارسال کننده با این واحد از لحاظ T3 کنترل شده است ؟ | E57: ='کاربرگ 5'!E12 -> 0 | F57: ='کاربرگ 5'!F12 -> 0 | G57: ='کاربرگ 5'!G12 -> 0
B58: 53 | C58: رابط سپرده | D58: آیا سند ارسال وجوه سپرده ها به ستاد ثبت شده است ؟ | E58: ='کاربرگ 5'!E13 -> 0 | F58: ='کاربرگ 5'!F13 -> 0 | G58: ='کاربرگ 5'!G13 -> 0
B59: 54 | D59: آیا سند رابط سپرده از لحاظ نقدی و تعهدی بررسی شده است ؟ | E59: ='کاربرگ 5'!E14 -> 0 | F59: ='کاربرگ 5'!F14 -> 0 | G59: ='کاربرگ 5'!G14 -> 0
B60: 55 | D60: آیا رابط سپرده با حساب سپرده با هم کنترل شده است؟ | E60: ='کاربرگ 5'!E15 -> 0 | F60: ='کاربرگ 5'!F15 -> 0 | G60: ='کاربرگ 5'!G15 -> 0
B61: 56 | D61: آیا رابط سپرده ستاد و واحد از لحاظ مبلغ باهم کنترل شده است ؟ | E61: ='کاربرگ 5'!E16 -> 0 | F61: ='کاربرگ 5'!F16 -> 0 | G61: ='کاربرگ 5'!G16 -> 0
B62: 57 | D62: آیا رابط سپرده ستاد و واحد از لحاظT1 باهم کنترل شده است ؟ | E62: ='کاربرگ 5'!E17 -> 0 | F62: ='کاربرگ 5'!F17 -> 0 | G62: ='کاربرگ 5'!G17 -> 0
B63: 58 | D63: آیا رابط سپرده ستاد و واحد از لحاظT2 باهم کنترل شده است ؟ | E63: ='کاربرگ 5'!E18 -> 0 | F63: ='کاربرگ 5'!F18 -> 0 | G63: ='کاربرگ 5'!G18 -> 0
B64: 59 | D64: آیا رابط سپرده از لحاظ T3 کنترل شده است ؟ | E64: ='کاربرگ 5'!E19 -> 0 | F64: ='کاربرگ 5'!F19 -> 0 | G64: ='کاربرگ 5'!G19 -> 0
B65: 60 | C65: رابط سایر | D65: آیا اسناد رابط سایر (معاملات فی مابین واحدها) ثبت شده است ؟ | E65: ='کاربرگ 5'!E20 -> 0 | F65: ='کاربرگ 5'!F20 -> 0 | G65: ='کاربرگ 5'!G20 -> 0
B66: 61 | D66: آیا سند رابط سایر از لحاظ نقدی و تعهدی بررسی شده است ؟ | E66: ='کاربرگ 5'!E21 -> 0 | F66: ='کاربرگ 5'!F21 -> 0 | G66: ='کاربرگ 5'!G21 -> 0
B67: 62 | D67: آیا رابط سایر واحدهای ذینفع با این واحد از لحاظ مبلغ باهم کنترل شده است ؟ | E67: ='کاربرگ 5'!E22 -> 0 | F67: ='کاربرگ 5'!F22 -> 0 | G67: ='کاربرگ 5'!G22 -> 0
B68: 63 | D68: آیا رابط سایر واحدهای ذینفع با این واحد از لحاظT1 باهم کنترل شده است ؟ | E68: ='کاربرگ 5'!E23 -> 0 | F68: ='کاربرگ 5'!F23 -> 0 | G68: ='کاربرگ 5'!G23 -> 0
B69: 64 | D69: آیا رابط سایر واحدهای ذینفع با این واحد از لحاظT2 باهم کنترل شده است ؟ | E69: ='کاربرگ 5'!E24 -> 0 | F69: ='کاربرگ 5'!F24 -> 0 | G69: ='کاربرگ 5'!G24 -> 0
B70: 65 | D70: آیا رابط سایر واحدهای ذینفع با این واحد از لحاظT3 باهم کنترل شده است ؟ | E70: ='کاربرگ 5'!E25 -> 0 | F70: ='کاربرگ 5'!F25 -> 0 | G70: ='کاربرگ 5'!G25 -> 0
B71: 66 | C71: رابط درآمد | D71: آیا سند درآمد ارسالی به ستاد در دفاتر ثبت شده است ؟ | E71: ='کاربرگ 5'!E26 -> 0 | F71: ='کاربرگ 5'!F26 -> 0 | G71: ='کاربرگ 5'!G26 -> 0
B72: 67 | D72: آیا تیک نقدی و تعهدی رعایت شده است؟ | E72: ='کاربرگ 5'!E27 -> 0 | F72: ='کاربرگ 5'!F27 -> 0 | G72: ='کاربرگ 5'!G27 -> 0
B73: 68 | D73: آیا رابط درآمد ستاد و واحد از لحاظ مبلغ باهم کنترل شده است ؟ | E73: ='کاربرگ 5'!E28 -> 0 | F73: ='کاربرگ 5'!F28 -> 0 | G73: ='کاربرگ 5'!G28 -> 0
B74: 69 | D74: آیا رابط درآمد ستاد و واحد از لحاظT1 باهم کنترل شده است ؟ | E74: ='کاربرگ 5'!E29 -> 0 | F74: ='کاربرگ 5'!F29 -> 0 | G74: ='کاربرگ 5'!G29 -> 0
B75: 70 | D75: آیا رابط درآمد ستاد و واحد از لحاظT2 باهم کنترل شده است ؟ | E75: ='کاربرگ 5'!E30 -> 0 | F75: ='کاربرگ 5'!F30 -> 0 | G75: ='کاربرگ 5'!G30 -> 0
B76: 71 | D76: آیا رابط درآمد از لحاظ T3 کنترل شده است ؟ | E76: ='کاربرگ 5'!E31 -> 0 | F76: ='کاربرگ 5'!F31 -> 0 | G76: ='کاربرگ 5'!G31 -> 0
B77: 72 | C77: بازخرید خدمت | D77: آیا سند ذخیره بازخرید خدمت کارکنان مربوط به سال 91 ثبت شده است؟ | E77: ='کاربرگ 6'!E5 -> 0 | F77: ='کاربرگ 6'!F5 -> 0 | G77: ='کاربرگ 6'!G5 -> 0
B78: 73 | D78: آیا سند ذخیره بازخرید خدمت کارکنان به صورت تعهدی ثبت شده است؟ | E78: ='کاربرگ 6'!E6 -> 0 | F78: ='کاربرگ 6'!F6 -> 0 | G78: ='کاربرگ 6'!G6 -> 0
B79: 74 | C79: ذخیره پیش پرداخت و علی الحساب | D79: آیا سند ذخیره مربوط به کار انجام شده پیش پرداختها و علی الحسابها صادر شده است؟ | E79: ='کاربرگ 6'!E7 -> 0 | F79: ='کاربرگ 6'!F7 -> 0 | G79: ='کاربرگ 6'!G7 -> 0
B80: 75 | D80: آیا سند ذخیره مربوط به کار انجام شده پیش پرداختها و علی الحسابها به صورت تعهدی صادر شده است؟ | E80: ='کاربرگ 6'!E8 -> 0 | F80: ='کاربرگ 6'!F8 -> 0 | G80: ='کاربرگ 6'!G8 -> 0
B81: 76 | C81: ذ.ه. تحقق یافته پرداخت نشده | D81: آیا سند ذخیره هزینه های تحقق یافته پرداخت نشده مربوط به سال 91 ثبت شده است ؟ | E81: ='کاربرگ 6'!E9 -> 0 | F81: ='کاربرگ 6'!F9 -> 0 | G81: ='کاربرگ 6'!G9 -> 0
B82: 77 | D82: آیا سند ذخیره هزینه های تحقق یافته پرداخت نشده به صورت تعهدی ثبت شده است ؟ | E82: ='کاربرگ 6'!E10 -> 0 | F82: ='کاربرگ 6'!F10 -> 0 | G82: ='کاربرگ 6'!G10 -> 0
B83: 78 | C83: بستانکاران تدارکات | D83: آیا اسناد پرداخت نشده مربوط به تدارکات به حساب بستانکار ذینفعان در دفاتر ثبت شده است؟ | E83: ='کاربرگ 6'!E11 -> 0 | F83: ='کاربرگ 6'!F11 -> 0 | G83: ='کاربرگ 6'!G11 -> 0
B84: 79 | D84: آیا اسناد پرداخت نشده مربوط به تدارکات به حساب بستانکار ذینفعان به صورت تعهدی ثبت شده است؟ | E84: ='کاربرگ 6'!E12 -> 0 | F84: ='کاربرگ 6'!F12 -> 0 | G84: ='کاربرگ 6'!G12 -> 0
B85: 80 | C85: تعهدات پرسنلی | D85: آیا سند تعهدات پرسنلی تا پایان سال 91 در دفاتر ثبت شده است؟ | E85: ='کاربرگ 6'!E13 -> 0 | F85: ='کاربرگ 6'!F13 -> 0 | G85: ='کاربرگ 6'!G13 -> 0
B86: 81 | D86: آیا سند تعهدات پرسنلی تا پایان سال 91 به صورت تعهدی ثبت شده است؟ | E86: ='کاربرگ 6'!E14 -> 0 | F86: ='کاربرگ 6'!F14 -> 0 | G86: ='کاربرگ 6'!G14 -> 0
B87: 82 | C87: مطالبات احتمالی | D87: آیا سند مطالبات احتمالی غیر بیمه ای موسسه ثبت شده است ؟ | E87: ='کاربرگ 6'!E15 -> 0 | F87: ='کاربرگ 6'!F15 -> 0 | G87: ='کاربرگ 6'!G15 -> 0
B88: 83 | D88: آیا سند مطالبات احتمالی غیر بیمه ای موسسه به صورت تعهدی ثبت شده است ؟ | E88: ='کاربرگ 6'!E16 -> 0 | F88: ='کاربرگ 6'!F16 -> 0 | G88: ='کاربرگ 6'!G16 -> 0
B89: 84 | C89: آیا کاربرگ نهایی درآمد جهت بررسی ارسال شده است ؟ | E89: ='کاربرگ 7'!E5 -> 0 | F89: ='کاربرگ 7'!F5 -> 0 | G89: ='کاربرگ 7'!G5 -> 0
B90: 85 | C90: کنترل افتتاحیه | D90: آیا مانده طلب از شرکتهای بیمه ای سال 1390 با کاربرگ ارسالی تطبیق دارد؟ | E90: ='کاربرگ 7'!E6 -> 0 | F90: ='کاربرگ 7'!F6 -> 0 | G90: ='کاربرگ 7'!G6 -> 0
B91: 86 | D91: آیا مانده نسخ ارسال نشده به بیمه سال 1390 با کاربرگ ارسالی تطبیق دارد؟ | E91: ='کاربرگ 7'!E7 -> 0 | F91: ='کاربرگ 7'!F7 -> 0 | G91: ='کاربرگ 7'!G7 -> 0
B92: 87 | C92: درآمد نقدی | D92: آیا درآمد نقدی خدمات ارائه شده در دفاتر ثبت شده است؟ | E92: ='کاربرگ 7'!E8 -> 0 | F92: ='کاربرگ 7'!F8 -> 0 | G92: ='کاربرگ 7'!G8 -> 0
B93: 88 | D93: آیا تیک نقدی و تعهدی رعایت شده است؟ | E93: ='کاربرگ 7'!E9 -> 0 | F93: ='کاربرگ 7'!F9 -> 0 | G93: ='کاربرگ 7'!G9 -> 0
B94: 89 | D94: آیا درآمد نقدی خدمات ارائه شده با کاربرگ ارسالی تطبیق داده شده است ؟ | E94: ='کاربرگ 7'!E10 -> 0 | F94: ='کاربرگ 7'!F10 -> 0 | G94: ='کاربرگ 7'!G10 -> 0
B95: 90 | C95: نسخ دریافتی | D95: آیا نسخ دریافتی ارسال نشده به ریز شرکتهای بیمه ای در دفاتر ثبت شده است ؟ | E95: ='کاربرگ 7'!E11 -> 0 | F95: ='کاربرگ 7'!F11 -> 0 | G95: ='کاربرگ 7'!G11 -> 0
B96: 91 | D96: آیا تیک نقدی و تعهدی رعایت شده است؟ | E96: ='کاربرگ 7'!E12 -> 0 | F96: ='کاربرگ 7'!F12 -> 0 | G96: ='کاربرگ 7'!G12 -> 0
B97: 92 | D97: آیا نسخ دریافتی ارسال نشده بیمه ای به ریز شرکتها با کاربرگ ارسالی کنترل شده است ؟ | E97: ='کاربرگ 7'!E13 -> 0 | F97: ='کاربرگ 7'!F13 -> 0 | G97: ='کاربرگ 7'!G13 -> 0
B98: 93 | C98: نسخ ارسالی | D98: آیا طلب از شرکتهای بیمه ای(نسخ ارسالی به بیمه) در دفاتر ثبت شده است ؟ | E98: ='کاربرگ 7'!E14 -> 0 | F98: ='کاربرگ 7'!F14 -> 0 | G98: ='کاربرگ 7'!G14 -> 0
B99: 94 | D99: آیا تیک نقدی و تعهدی رعایت شده است؟ | E99: ='کاربرگ 7'!E15 -> 0 | F99: ='کاربرگ 7'!F15 -> 0 | G99: ='کاربرگ 7'!G15 -> 0
B100: 95 | D100: آیا طلب از شرکتهای بیمه ای به ریز شرکتها با کاربرگ ارسالی کنترل شده است ؟ | E100: ='کاربرگ 7'!E16 -> 0 | F100: ='کاربرگ 7'!F16 -> 0 | G100: ='کاربرگ 7'!G16 -> 0
B101: 96 | C101: مصدومان ترافیکی | D101: آیا درآمد مصدومان ترافیکی در دفاتر ثبت شده است؟ | E101: ='کاربرگ 7'!E17 -> 0 | F101: ='کاربرگ 7'!F17 -> 0 | G101: ='کاربرگ 7'!G17 -> 0
...

Sheet کاربرگ 1
B1: دانشگاه علوم پزشکی و خدمات بهداشتی درمانی کرمان
B2: کاربرگ گام به گام بستن حسابهای سال 1393
B3: واحد : ....................
B4: ردیف | E4: انجام شده | F4: بررسی توسط شرکت | G4: توضیحات | H4: نکته : در تکمیل این کاربرگ به تعداد انبارهای فیزیکی دقت نمائید .
B5: 1 | C5: انبار | D5: آیا گزارش انبارگردانی جهت کنترل موجودی انبار ارسال شده است ؟
B6: 2 | D6: آیا شمارش انبار گردانی کالا در سیستم ثبت شده است؟
B7: 3 | D7: آیا رسید و حواله کسر و اضافه انبارگردانی صادر و تأیید شده است؟
B8: 4 | D8: آیا کله رسیدهای کالاهای ارسالی از واحدهای تابعه و ستاد صادر شده است؟
B9: 5 | D9: آیا کلیه رسید ها از مرحله تأیید نشده رد شده است؟
B10: 6 | D10: آیا کلیه رسیدها نرخ گذاری و تأیید شده است؟
B11: 7 | D11: آیا سند حسابداری رسیدهای انبار صادر شده است؟
B12: 8 | D12: آیا کلیه حواله های انبار از مرحله تأیید نشده رد شده است؟
B13: 9 | D13: آیا سند حسابداری حواله های انبار صادر شده است؟
B14: 10 | D14: آیا موجودی انبار پایان دوره با انبارگردانی کنترل شده است؟
B15: 11 | C15: اموال | D15: آیا تأییدیه اتمام ثبت اموال واحد به همراه آخرین شناسه اموال ثبت شده ارسال شده است؟
B16: 12 | D16: آیا سند حسابداری اموال ابتدای دوره صادر شده است؟
B17: 13 | D17: آیا کارتهای اموال ایجاد شده از حواله های انبار نهایی شده است ؟
B18: 14 | D18: آیا فرم شماره 16 در اتاق ها نصب شده و با نرم افزار تطابق دارد؟
B20: شماره آخرین رسید انبار
B21: شماره آخرین رسید انبار طبق صورتجلسه انبارگردانی
B22: شماره آخرین حواله انبار
B23: شماره آخرین حواله انبار طبق صورتجلسه انبارگردانی

Sheet کاربرگ 2
A1: دانشگاه علوم پزشکی و خدمات بهداشتی درمانی کرمان
A2: کاربرگ گام به گام بستن حسابهای سال 1393
A3: واحد : ....................
B4: ردیف | C4: شرح | E4: انجام شده | F4: بررسی توسط شرکت | G4: توضیحات
B5: 1 | C5: آیا کاربرگ نهایی حقوق خزانه جهت بررسی ارسال شده است؟
B6: 2 | C6: شناسایی حقوق | D6: آیا سند شناسایی حقوق خزانه ثبت شده است؟
B7: 3 | D7: آیا سند شناسایی حقوق خزانه از لحاظ نقدی و تعهدی بررسی شده است ؟
B8: 4 | D8: آیا سند شناسایی حقوق خزانه با کاربرگ حقوق خزانه از نظر مبلغ کنترل شده است؟
B9: 5 | D9: آیا سند شناسایی حقوق خزانه با کاربرگ حقوق خزانه از نظر T1 کنترل شده است؟
B10: 6 | D10: آیا سند شناسایی حقوق خزانه با کاربرگ حقوق خزانه از نظر T2 کنترل شده است؟
B11: 7 | C11: خالص پرداختی | D11: آیا سند خالص پرداخت حقوق خزانه ثبت شده است؟
B12: 8 | D12: آیا سند خالص پرداخت حقوق خزانه از لحاظ نقدی و تعهدی بررسی شده است ؟
B13: 9 | D13: آیا سند خالص پرداختی حقوق خزانه با کاربرگ حقوق خزانه از نظر مبلغ کنترل شده است؟
B14: 10 | D14: آیا سند خالص پرداختی حقوق خزانه با کاربرگ حقوق خزانه از نظر T1 کنترل شده است؟
B15: 11 | D15: آیا سند خالص پرداختی حقوق خزانه با کاربرگ حقوق خزانه از نظر T2 کنترل شده است؟
B16: 12 | C16: سایر کسور | D16: آیا سند سایر کسور حقوق خزانه ثبت شده است؟
B17: 13 | D17: آیا سند سایر کسور حقوق خزانه از لحاظ نقدی و تعهدی بررسی شده است ؟
B18: 14 | D18: آیا سند سایر کسور حقوق خزانه با کاربرگ حقوق خزانه از نظر مبلغ کنترل شده است؟
B19: 15 | D19: آیا سند خالص پرداختی حقوق خزانه با کاربرگ حقوق خزانه از نظر T1 کنترل شده است؟
B20: 16 | D20: آیا سند خالص پرداختی حقوق خزانه با کاربرگ حقوق خزانه از نظر T2 کنترل شده است؟
B21: 17 | C21: کسور قانونی | D21: آیا سند کسور قانونی حقوق خزانه ثبت شده است؟
B22: 18 | D22: آیا سند کسور قانونی حقوق خزانه از لحاظ نقدی و تعهدی بررسی شده است ؟
B23: 19 | D23: آیا سند کسور قانونی حقوق خزانه با کاربرگ حقوق خزانه از نظر مبلغ کنترل شده است؟
B24: 20 | D24: آیا سند کسور حقوق خزانه با کاربرگ حقوق خزانه از نظر T1 کنترل شده است؟
B25: 21 | D25: آیا سند کسور حقوق خزانه با کاربرگ حقوق خزانه از نظر T2 کنترل شده است؟

Sheet کاربرگ  3
B1: دانشگاه علوم پزشکی و خدمات بهداشتی درمانی کرمان
B2: کاربرگ گام به گام بستن حسابهای سال 1393
B3: واحد : ....................
B4: ردیف | C4: شرح | E4: انجام شده | F4: بررسی توسط شرکت | G4: توضیحات
B5: 1 | C5: آیا رابط حقوق از لحاظ مبلغ با کاربرگ کنترل شده است ؟
B6: 2 | C6: آیا رابط حقوق از لحاظ T2 با کاربرگ حقوق کنترل شده است ؟
B7: 3 | C7: آیا رابط حقوق از لحاظ T3 کنترل شده است ؟

Sheet کاربرگ  1-3
B1: دانشگاه علوم پزشکی و خدمات بهداشتی درمانی کرمان
B2: کاربرگ گام به گام بستن حسابهای سال 1393
B3: واحد : ....................
B4: رديف | C4: كد حساب | D4: شرح | E4: شناسه فعالیت در ستاد | F4: گردش | H4: مانده
F5: بدهكار | G5: بستانكار | H5: بدهكار | I5: بستانكار
B6: 1
B7: 2
B8: 3
B9: 4
B10: 5
B11: 6
B12: 7
B13: 8
B14: 9
B15: 10
B16: 11
B17: 12
... B30: 25

Sheet کاربرگ 4
B1: دانشگاه علوم پزشکی و خدمات بهداشتی درمانی کرمان
B2: کاربرگ گام به گام بستن حسابهای سال 1393
B3: واحد : ....................
B4: ردیف | C4: شرح | E4: انجام شده | F4: بررسی توسط شرکت | G4: توضیحات
B5: 1 | C5: رابط اعتبار | D5: آیا سند اعتبارات سایر دریافتی ثبت شده است ؟
B6: 2 | D6: آیا سند اعتبارات سایر دریافتی از لحاظ نقدی و تعهدی بررسی شده است ؟
B7: 3 | D7: آیا رابط اعتبار ستاد و واحد از لحاظ مبلغ باهم کنترل شده است ؟
B8: 4 | D8: آیا تخصیص اعتبار رابط بودجه ای در واحدها ثبت شده است؟
B9: 5 | D9: آیا رابط اعتبار ستاد و واحد از لحاظT2 باهم کنترل شده است ؟
B10: 6 | D10: آیا رابط اعتبار از لحاظ T3 کنترل شده است ؟

Sheet کاربرگ  1-4
B1: دانشگاه علوم پزشکی و خدمات بهداشتی درمانی کرمان
B2: کاربرگ گام به گام بستن حسابهای سال 1393
B3: واحد : ....................
B4: رديف | C4: كد حساب | D4: شرح | E4: شناسه فعالیت در ستاد | F4: گردش | H4: مانده
F5: بدهكار | G5: بستانكار | H5: بدهكار | I5: بستانكار
B6: 1
B7: 2
B8: 3
B9: 4
B10: 5
B11: 6
B12: 7
B13: 8
B14: 9
B15: 10
B16: 11
B17: 12
... B30: 25

Sheet کاربرگ 5
B1: دانشگاه علوم پزشکی و خدمات بهداشتی درمانی کرمان
B2: کاربرگ گام به گام بستن حسابهای سال 1393
B3: واحد : ....................
B4: ردیف | C4: شرح | E4: انجام شده | F4: بررسی توسط شرکت | G4: توضیحات
B5: 1 | C5: رابط موجودی کالا | D5: آیا رابط موجودی کالای واحدهای ارسال کننده با این واحد از لحاظ مبلغ باهم کنترل شده است ؟
B6: 2 | D6: آیا سند رابط موجودی کالا از لحاظ نقدی و تعهدی بررسی شده است ؟
B7: 3 | D7: آیا رابط موجودی کالای واحدهای ارسال کننده با این واحد از لحاظT2 باهم کنترل شده است ؟
B8: 4 | D8: آیا رابط موجودی کالای واحدهای ارسال کننده با این واحد از لحاظ T3 کنترل شده است ؟
B9: 5 | C9: رابط اموال | D9: آیا رابط اموال واحدهای ارسال کننده با این واحد از لحاظ مبلغ باهم کنترل شده است ؟
B10: 6 | D10: آیا سند رابط اموال از لحاظ نقدی و تعهدی بررسی شده است ؟
B11: 7 | D11: آیا رابط اموال واحدهای ارسال کننده با این واحد از لحاظT2 باهم کنترل شده است ؟
B12: 8 | D12: آیا رابط اموال واحدهای ارسال کننده با این واحد از لحاظ T3 کنترل شده است ؟
B13: 9 | C13: رابط سپرده | D13: آیا سند ارسال وجوه سپرده ها به ستاد ثبت شده است ؟
B14: 10 | D14: آیا سند رابط سپرده از لحاظ نقدی و تعهدی بررسی شده است ؟
B15: 11 | D15: آیا رابط سپرده با حساب سپرده با هم کنترل شده است؟
B16: 12 | D16: آیا رابط سپرده ستاد و واحد از لحاظ مبلغ باهم کنترل شده است ؟
B17: 13 | D17: آیا رابط سپرده ستاد و واحد از لحاظT1 باهم کنترل شده است ؟
B18: 14 | D18: آیا رابط سپرده ستاد و واحد از لحاظT2 باهم کنترل شده است ؟
B19: 15 | D19: آیا رابط سپرده از لحاظ T3 کنترل شده است ؟
B20: 16 | C20: رابط سایر | D20: آیا اسناد رابط سایر (معاملات فی مابین واحدها) ثبت شده است ؟
B21: 17 | D21: آیا سند رابط سایر از لحاظ نقدی و تعهدی بررسی شده است ؟
B22: 18 | D22: آیا رابط سایر واحدهای ذینفع با این واحد از لحاظ مبلغ باهم کنترل شده است ؟
B23: 19 | D23: آیا رابط سایر واحدهای ذینفع با این واحد از لحاظT1 باهم کنترل شده است ؟
B24: 20 | D24: آیا رابط سایر واحدهای ذینفع با این واحد از لحاظT2 باهم کنترل شده است ؟
B25: 21 | D25: آیا رابط سایر واحدهای ذینفع با این واحد از لحاظT3 باهم کنترل شده است ؟
B26: 22 | C26: رابط درآمد | D26: آیا سند درآمد ارسالی به ستاد در دفاتر ثبت شده است ؟
B27: 23 | D27: آیا تیک نقدی و تعهدی رعایت شده است؟
B28: 24 | D28: آیا رابط درآمد ستاد و واحد از لحاظ مبلغ باهم کنترل شده است ؟
B29: 25 | D29: آیا رابط درآمد ستاد و واحد از لحاظT1 باهم کنترل شده است ؟
B30: 26 | D30: آیا رابط درآمد ستاد و واحد از لحاظT2 باهم کنترل شده است ؟
B31: 27 | D31: آیا رابط درآمد از لحاظ T3 کنترل شده است ؟

Sheet کاربرگ  1-5
B1: دانشگاه علوم پزشکی و خدمات بهداشتی درمانی کرمان
B2: کاربرگ گام به گام بستن حسابهای سال 1393
B3: واحد : ....................
B4: رديف | C4: كد حساب | D4: شرح | E4: شناسه فعالیت در ستاد | F4: نقدی / تعهدی | G4: گردش | I4: مانده
G5: بدهكار | H5: بستانكار | I5: بدهكار | J5: بستانكار
B6: 1
B7: 2
B8: 3
B9: 4
B10: 5
B11: 6
B12: 7
B13: 8
B14: 9
B15: 10
B16: 11
B17: 12
... B30: 25

Sheet کاربرگ 6
B1: دانشگاه علوم پزشکی و خدمات بهداشتی درمانی کرمان
B2: کاربرگ گام به گام بستن حسابهای سال 1393
B3: واحد : ....................
B4: ردیف | C4: شرح | E4: انجام شده | F4: بررسی توسط شرکت | G4: توضیحات
B5: 1 | C5: بازخرید خدمت | D5: آیا سند ذخیره بازخرید خدمت کارکنان مربوط به سال 91 ثبت شده است؟
B6: 2 | D6: آیا سند ذخیره بازخرید خدمت کارکنان به صورت تعهدی ثبت شده است؟
B7: 3 | C7: ذخیره پیش پرداخت و علی الحساب | D7: آیا سند ذخیره مربوط به کار انجام شده پیش پرداختها و علی الحسابها صادر شده است؟
B8: 4 | D8: آیا سند ذخیره مربوط به کار انجام شده پیش پرداختها و علی الحسابها به صورت تعهدی صادر شده است؟
B9: 5 | C9: ذ.ه. تحقق یافته پرداخت نشده | D9: آیا سند ذخیره هزینه های تحقق یافته پرداخت نشده مربوط به سال 91 ثبت شده است ؟
B10: 6 | D10: آیا سند ذخیره هزینه های تحقق یافته پرداخت نشده به صورت تعهدی ثبت شده است ؟
B11: 7 | C11: بستانکاران تدارکات | D11: آیا اسناد پرداخت نشده مربوط به تدارکات به حساب بستانکار ذینفعان در دفاتر ثبت شده است؟
B12: 8 | D12: آیا اسناد پرداخت نشده مربوط به تدارکات به حساب بستانکار ذینفعان به صورت تعهدی ثبت شده است؟
B13: 9 | C13: تعهدات پرسنلی | D13: آیا سند تعهدات پرسنلی تا پایان سال 91 در دفاتر ثبت شده است؟
B14: 10 | D14: آیا سند تعهدات پرسنلی تا پایان سال 91 به صورت تعهدی ثبت شده است؟
B15: 11 | C15: مطالبات احتمالی | D15: آیا سند مطالبات احتمالی غیر بیمه ای موسسه ثبت شده است ؟
B16: 12 | D16: آیا سند مطالبات احتمالی غیر بیمه ای موسسه به صورت تعهدی ثبت شده است ؟

Sheet کاربرگ  7
B1: دانشگاه علوم پزشکی و خدمات بهداشتی درمانی کرمان
B2: کاربرگ گام به گام بستن حسابهای سال 1393
B3: واحد : ....................
B4: ردیف | C4: شرح | E4: انجام شده | F4: بررسی توسط شرکت | G4: توضیحات
B5: 1 | C5: آیا کاربرگ نهایی درآمد جهت بررسی ارسال شده است ؟
B6: 2 | C6: کنترل افتتاحیه | D6: آیا مانده طلب از شرکتهای بیمه ای سال 1390 با کاربرگ ارسالی تطبیق دارد؟
B7: 3 | D7: آیا مانده نسخ ارسال نشده به بیمه سال 1390 با کاربرگ ارسالی تطبیق دارد؟
B8: 4 | C8: درآمد نقدی | D8: آیا درآمد نقدی خدمات ارائه شده در دفاتر ثبت شده است؟
B9: 5 | D9: آیا تیک نقدی و تعهدی رعایت شده است؟
B10: 6 | D10: آیا درآمد نقدی خدمات ارائه شده با کاربرگ ارسالی تطبیق داده شده است ؟
B11: 7 | C11: نسخ دریافتی | D11: آیا نسخ دریافتی ارسال نشده به ریز شرکتهای بیمه ای در دفاتر ثبت شده است ؟
B12: 8 | D12: آیا تیک نقدی و تعهدی رعایت شده است؟
B13: 9 | D13: آیا نسخ دریافتی ارسال نشده بیمه ای به ریز شرکتها با کاربرگ ارسالی کنترل شده است ؟
B14: 10 | C14: نسخ ارسالی | D14: آیا طلب از شرکتهای بیمه ای(نسخ ارسالی به بیمه) در دفاتر ثبت شده است ؟
B15: 11 | D15: آیا تیک نقدی و تعهدی رعایت شده است؟
B16: 12 | D16: آیا طلب از شرکتهای بیمه ای به ریز شرکتها با کاربرگ ارسالی کنترل شده است ؟
B17: 13 | C17: مصدومان ترافیکی | D17: آیا درآمد مصدومان ترافیکی در دفاتر ثبت شده است؟
B18: 14 | D18: آیا درآمد مصدومین ترافیکی ثبت شده با کاربرگ ارسالی تطبیق دارد؟
B19: 15 | D19: آیا تیک نقدی و تعهدی رعایت شده است؟
B20: 16 | D20: آیا ارسال اسناد مصدومان ترافیکی به ستاد در دفاتر ثبت شده است؟
B21: 17 | D21: آیا سند برگشت درآمد مصدومان ترافیکی بابت مبالغ دریافتی مصدومان ترافیکی در دفاتر ثبت شده است ؟
B22: 18 | D22: آیا رابط مصدومان ترافیکی با ستاد از نظر T1 تطبیق دارد ؟
B23: 19 | D23: آیا رابط مصدومان ترافیکی با ستاد از نظر T2 تطبیق دارد ؟
B24: 20 | D24: آیا رابط مصدومان ترافیکی با ستاد از نظر T3 تطبیق دارد ؟
B25: 21 | C25: درآمد وصولی از بیمه | D25: آیا وصول مطالبات از شرکتهای بیمه ای در دفاتر ثبت شده است؟
B26: 22 | D26: آیا وصول مطالبات از شرکتهای بیمه ای با کاربرگ ارسالی کنترل شده است؟
B27: 23 | D27: آیا تیک نقدی و تعهدی رعایت شده است؟
B28: 24 | D28: آیا مانده حساب دفاتر با مانده حساب در شرکت های بیمه ای تطبیق داده شده است؟
B29: 25 | D29: آیا وصول مطالبات از شرکتهای بیمه ای با کاربرگ ارسالی از نظر T1 کنترل شده است؟

Sheet کاربرگ 8
B1: دانشگاه علوم پزشکی و خدمات بهداشتی درمانی کرمان
B2: کاربرگ گام به گام بستن حسابهای سال 1393
B3: واحد : ....................
B4: ردیف | C4: شرح | E4: انجام شده | F4: بررسی توسط شرکت | G4: توضیحات
B5: 1 | C5: کنترل اسناد هزینه | D5: آیا اسناد رسید انبار از مرحله رسیدگی به شناسایی کد اعتبار ارسال شده است؟
B6: 2 | D6: آیا کلیه اسناد در مرحله شناسایی کد اعتبار به وصول مستندات ارسال شده است؟
B7: 3 | D7: آیا برای اسنادی که رسید انبار ندارند سند شناسایی دستی صادر شده است؟
B8: 4 | D8: آیا کنترل خرید کالا و خدمات از نظر T1 کنترل شده است؟
B9: 5 | D9: آیا مانده کنترل خرید کالا و خدمات پرداخت نشده به بستانکاران بسته شده است؟
B10: 6 | D10: آیا کلیه اسناد هزینه از نظر T2 بررسی گردیده است؟
B11: 7 | D11: آیا تراز هزینه ها از لحاظ خلاف ماهیت کنترل شده است ؟
B12: 8 | D12: آیا تراز هزینه ها به تفکیک T2 کنترل شده است؟

Sheet کاربرگ 9
B1: دانشگاه علوم پزشکی و خدمات بهداشتی درمانی کرمان
B2: کاربرگ گام به گام بستن حسابهای سال 1393
B3: واحد : ....................
B4: ردیف | C4: شرح | E4: انجام شده | F4: بررسی توسط شرکت | G4: توضیحات
B5: 1 | C5: صورت مغایرت بانکی | D5: آیا صورت مغایرت مربوطه به کلیه حسابهای بانکی انجام گرفته است؟
B6: 2 | D6: آیا صورت مغایرت انجام شده برای شرکت ارسال شده است؟
B7: 3 | D7: آیا مغایرتهای احتمالی در صورت مغایرت بانکی رفع شده است؟
B8: 4 | D8: آیا مانده بانکها از نظر نقدی و تعهدی کنترل شده است؟
B9: 5 | D9: آیا تراز T1بانکها کنترل شده است؟
B10: 6 | D10: آیا تراز T2 بانکها کنترل شده است؟
B11: 7 | D11: آیا تراز T1 به تفکیک T2 بانکها کنترل شده است؟

Sheet کاربرگ 1-9
B1: دانشگاه علوم پزشکی و خدمات بهداشتی درمانی کرمان
B2: کاربرگ گام به گام بستن حسابهای سال 1393
B3: واحد : ....................
B4: ردیف | C4: شماره حساب | D4: تاریخ | E4: مانده دفاتر دانشگاه | F4: مانده صورتحساب بانک | G4: مغایرت | H4: شماره نامه | I4: دربافت فایل
B5: 1
B6: 2
B7: 3
B8: 4
B9: 5
B10: 6
B11: 7
B12: 8
B13: 9
B14: 10
B15: 11
B16: 12
... B29: 25

Sheet کاربرگ 10
B1: دانشگاه علوم پزشکی و خدمات بهداشتی درمانی کرمان
B2: کاربرگ گام به گام بستن حسابهای سال 1393
B3: واحد : ....................
B4: ردیف | C4: نام واحد | D4: شناسه تولید سند | E4: شرح سند | F4: کد حساب تعدیلات | G4: نام حساب تعدیلات | H4: کد سرفصل جايگزين | I4: کد طرف حساب جزء معین | J4: نام طرف حساب جزء معين | K4: کد تفصیل یک طرف حساب | L4: نام تفصل يك طرف حساب | M4: منبع اعتباری | N4: مبلغ سند
