Workbook

Sheet کاربرگ کلی
B1: دانشگاه علوم پزشکی و خدمات بهداشتی درمانی کرمان
B2: کاربرگ گام به گام بستن حسابهای سال 1393
B3: ستاد دانشگاه
B5: ردیف | C5: شرح | E5: انجام شده | M5: بررسی توسط شرکت | U5: توضیحات | AC5: پیوست
E6: ستاد دانشگاه | F6: معاونت آموزشی | G6: معاونت بهداشتی | H6: معاونت پژوهشی | I6: معاونت توسعه | J6: معاونت غذا و دارو | K6: معاونت دانشجویی و فرهنگی | L6: معاونت درمان | M6: ستاد دانشگاه | N6: معاونت آموزشی | O6: معاونت بهداشتی | P6: معاونت پژوهشی | Q6: معاونت توسعه | R6: معاونت غذا و دارو | S6: معاونت دانشجویی و فرهنگی | T6: معاونت درمان | U6: ستاد دانشگاه | V6: معاونت آموزشی | W6: معاونت بهداشتی | X6: معاونت پژوهشی | Y6: معاونت توسعه | Z6: معاونت غذا و دارو | AA6: معاونت دانشجویی و فرهنگی | AB6: معاونت درمان
B7: 1 | C7: انبار | D7: آیا گزارش انبارگردانی جهت کنترل موجودی انبار ارسال شده است ؟ | E7: ='کاربرگ 1'!F5 -> 0 | F7: ='کاربرگ 1'!F19 -> 0 | G7: ='کاربرگ 1'!F33 -> 0 | H7: ='کاربرگ 1'!F47 -> 0 | I7: ='کاربرگ 1'!F61 -> 0 | J7: ='کاربرگ 1'!F75 -> 0 | K7: ='کاربرگ 1'!F89 -> 0 | L7: ='کاربرگ 1'!F103 -> 0 | M7: ='کاربرگ 1'!G5 -> 0 | N7: ='کاربرگ 1'!G19 -> 0 | O7: ='کاربرگ 1'!G33 -> 0 | P7: ='کاربرگ 1'!G47 -> 0 | Q7: ='کاربرگ 1'!G61 -> 0 | R7: ='کاربرگ 1'!G75 -> 0 | S7: ='کاربرگ 1'!G89 -> 0 | T7: ='کاربرگ 1'!G103 -> 0 | U7: ='کاربرگ 1'!H5 -> 0 | V7: ='کاربرگ 1'!H19 -> 0 | W7: ='کاربرگ 1'!H33 -> 0 | X7: ='کاربرگ 1'!H47 -> 0 | Y7: ='کاربرگ 1'!H61 -> 0 | Z7: ='کاربرگ 1'!H75 -> 0 | AA7: ='کاربرگ 1'!H89 -> 0 | AB7: ='کاربرگ 1'!H103 -> 0
B8: 2 | D8: آیا شمارش انبار گردانی کالا در سیستم ثبت شده است؟ | E8: ='کاربرگ 1'!F6 -> 0 | F8: ='کاربرگ 1'!F20 -> 0 | G8: ='کاربرگ 1'!F34 -> 0 | H8: ='کاربرگ 1'!F48 -> 0 | I8: ='کاربرگ 1'!F62 -> 0 | J8: ='کاربرگ 1'!F76 -> 0 | K8: ='کاربرگ 1'!F90 -> 0 | L8: ='کاربرگ 1'!F104 -> 0 | M8: ='کاربرگ 1'!G6 -> 0 | N8: ='کاربرگ 1'!G20 -> 0 | O8: ='کاربرگ 1'!G34 -> 0 | P8: ='کاربرگ 1'!G48 -> 0 | Q8: ='کاربرگ 1'!G62 -> 0 | R8: ='کاربرگ 1'!G76 -> 0 | S8: ='کاربرگ 1'!G90 -> 0 | T8: ='کاربرگ 1'!G104 -> 0 | U8: ='کاربرگ 1'!H6 -> 0 | V8: ='کاربرگ 1'!H20 -> 0 | W8: ='کاربرگ 1'!H34 -> 0 | X8: ='کاربرگ 1'!H48 -> 0 | Y8: ='کاربرگ 1'!H62 -> 0 | Z8: ='کاربرگ 1'!H76 -> 0 | AA8: ='کاربرگ 1'!H90 -> 0 | AB8: ='کاربرگ 1'!H104 -> 0
B9: 3 | D9: آیا رسید و حواله کسر و اضافه انبارگردانی صادر و تأیید شده است؟ | E9: ='کاربرگ 1'!F7 -> 0 | F9: ='کاربرگ 1'!F21 -> 0 | G9: ='کاربرگ 1'!F35 -> 0 | H9: ='کاربرگ 1'!F49 -> 0 | I9: ='کاربرگ 1'!F63 -> 0 | J9: ='کاربرگ 1'!F77 -> 0 | K9: ='کاربرگ 1'!F91 -> 0 | L9: ='کاربرگ 1'!F105 -> 0 | M9: ='کاربرگ 1'!G7 -> 0 | N9: ='کاربرگ 1'!G21 -> 0 | O9: ='کاربرگ 1'!G35 -> 0 | P9: ='کاربرگ 1'!G49 -> 0 | Q9: ='کاربرگ 1'!G63 -> 0 | R9: ='کاربرگ 1'!G77 -> 0 | S9: ='کاربرگ 1'!G91 -> 0 | T9: ='کاربرگ 1'!G105 -> 0 | U9: ='کاربرگ 1'!H7 -> 0 | V9: ='کاربرگ 1'!H21 -> 0 | W9: ='کاربرگ 1'!H35 -> 0 | X9: ='کاربرگ 1'!H49 -> 0 | Y9: ='کاربرگ 1'!H63 -> 0 | Z9: ='کاربرگ 1'!H77 -> 0 | AA9: ='کاربرگ 1'!H91 -> 0 | AB9: ='کاربرگ 1'!H105 -> 0
B10: 4 | D10: آیا کليه رسیدهای کالاهای ارسالی از واحدهای تابعه و ستاد صادر شده است؟ | E10: ='کاربرگ 1'!F8 -> 0 | F10: ='کاربرگ 1'!F22 -> 0 | G10: ='کاربرگ 1'!F36 -> 0 | H10: ='کاربرگ 1'!F50 -> 0 | I10: ='کاربرگ 1'!F64 -> 0 | J10: ='کاربرگ 1'!F78 -> 0 | K10: ='کاربرگ 1'!F92 -> 0 | L10: ='کاربرگ 1'!F106 -> 0 | M10: ='کاربرگ 1'!G8 -> 0 | N10: ='کاربرگ 1'!G22 -> 0 | O10: ='کاربرگ 1'!G36 -> 0 | P10: ='کاربرگ 1'!G50 -> 0 | Q10: ='کاربرگ 1'!G64 -> 0 | R10: ='کاربرگ 1'!G78 -> 0 | S10: ='کاربرگ 1'!G92 -> 0 | T10: ='کاربرگ 1'!G106 -> 0 | U10: ='کاربرگ 1'!H8 -> 0 | V10: ='کاربرگ 1'!H22 -> 0 | W10: ='کاربرگ 1'!H36 -> 0 | X10: ='کاربرگ 1'!H50 -> 0 | Y10: ='کاربرگ 1'!H64 -> 0 | Z10: ='کاربرگ 1'!H78 -> 0 | AA10: ='کاربرگ 1'!H92 -> 0 | AB10: ='کاربرگ 1'!H106 -> 0
B11: 5 | D11: آیا کلیه رسید ها از مرحله تأیید نشده رد شده است؟ | E11: ='کاربرگ 1'!F9 -> 0 | F11: ='کاربرگ 1'!F23 -> 0 | G11: ='کاربرگ 1'!F37 -> 0 | H11: ='کاربرگ 1'!F51 -> 0 | I11: ='کاربرگ 1'!F65 -> 0 | J11: ='کاربرگ 1'!F79 -> 0 | K11: ='کاربرگ 1'!F93 -> 0 | L11: ='کاربرگ 1'!F107 -> 0 | M11: ='کاربرگ 1'!G9 -> 0 | N11: ='کاربرگ 1'!G23 -> 0 | O11: ='کاربرگ 1'!G37 -> 0 | P11: ='کاربرگ 1'!G51 -> 0 | Q11: ='کاربرگ 1'!G65 -> 0 | R11: ='کاربرگ 1'!G79 -> 0 | S11: ='کاربرگ 1'!G93 -> 0 | T11: ='کاربرگ 1'!G107 -> 0 | U11: ='کاربرگ 1'!H9 -> 0 | V11: ='کاربرگ 1'!H23 -> 0 | W11: ='کاربرگ 1'!H37 -> 0 | X11: ='کاربرگ 1'!H51 -> 0 | Y11: ='کاربرگ 1'!H65 -> 0 | Z11: ='کاربرگ 1'!H79 -> 0 | AA11: ='کاربرگ 1'!H93 -> 0 | AB11: ='کاربرگ 1'!H107 -> 0
B12: 6 | D12: آیا کلیه رسیدها نرخ گذاری و تأیید شده است؟ | E12: ='کاربرگ 1'!F10 -> 0 | F12: ='کاربرگ 1'!F24 -> 0 | G12: ='کاربرگ 1'!F38 -> 0 | H12: ='کاربرگ 1'!F52 -> 0 | I12: ='کاربرگ 1'!F66 -> 0 | J12: ='کاربرگ 1'!F80 -> 0 | K12: ='کاربرگ 1'!F94 -> 0 | L12: ='کاربرگ 1'!F108 -> 0 | M12: ='کاربرگ 1'!G10 -> 0 | N12: ='کاربرگ 1'!G24 -> 0 | O12: ='کاربرگ 1'!G38 -> 0 | P12: ='کاربرگ 1'!G52 -> 0 | Q12: ='کاربرگ 1'!G66 -> 0 | R12: ='کاربرگ 1'!G80 -> 0 | S12: ='کاربرگ 1'!G94 -> 0 | T12: ='کاربرگ 1'!G108 -> 0 | U12: ='کاربرگ 1'!H10 -> 0 | V12: ='کاربرگ 1'!H24 -> 0 | W12: ='کاربرگ 1'!H38 -> 0 | X12: ='کاربرگ 1'!H52 -> 0 | Y12: ='کاربرگ 1'!H66 -> 0 | Z12: ='کاربرگ 1'!H80 -> 0 | AA12: ='کاربرگ 1'!H94 -> 0 | AB12: ='کاربرگ 1'!H108 -> 0
B13: 7 | D13: آیا سند حسابداری رسیدهای انبار صادر شده است؟ | E13: ='کاربرگ 1'!F11 -> 0 | F13: ='کاربرگ 1'!F25 -> 0 | G13: ='کاربرگ 1'!F39 -> 0 | H13: ='کاربرگ 1'!F53 -> 0 | I13: ='کاربرگ 1'!F67 -> 0 | J13: ='کاربرگ 1'!F81 -> 0 | K13: ='کاربرگ 1'!F95 -> 0 | L13: ='کاربرگ 1'!F109 -> 0 | M13: ='کاربرگ 1'!G11 -> 0 | N13: ='کاربرگ 1'!G25 -> 0 | O13: ='کاربرگ 1'!G39 -> 0 | P13: ='کاربرگ 1'!G53 -> 0 | Q13: ='کاربرگ 1'!G67 -> 0 | R13: ='کاربرگ 1'!G81 -> 0 | S13: ='کاربرگ 1'!G95 -> 0 | T13: ='کاربرگ 1'!G109 -> 0 | U13: ='کاربرگ 1'!H11 -> 0 | V13: ='کاربرگ 1'!H25 -> 0 | W13: ='کاربرگ 1'!H39 -> 0 | X13: ='کاربرگ 1'!H53 -> 0 | Y13: ='کاربرگ 1'!H67 -> 0 | Z13: ='کاربرگ 1'!H81 -> 0 | AA13: ='کاربرگ 1'!H95 -> 0 | AB13: ='کاربرگ 1'!H109 -> 0
B14: 8 | D14: آیا کلیه حواله های انبار از مرحله تأیید نشده رد شده است؟ | E14: ='کاربرگ 1'!F12 -> 0 | F14: ='کاربرگ 1'!F26 -> 0 | G14: ='کاربرگ 1'!F40 -> 0 | H14: ='کاربرگ 1'!F54 -> 0 | I14: ='کاربرگ 1'!F68 -> 0 | J14: ='کاربرگ 1'!F82 -> 0 | K14: ='کاربرگ 1'!F96 -> 0 | L14: ='کاربرگ 1'!F110 -> 0 | M14: ='کاربرگ 1'!G12 -> 0 | N14: ='کاربرگ 1'!G26 -> 0 | O14: ='کاربرگ 1'!G40 -> 0 | P14: ='کاربرگ 1'!G54 -> 0 | Q14: ='کاربرگ 1'!G68 -> 0 | R14: ='کاربرگ 1'!G82 -> 0 | S14: ='کاربرگ 1'!G96 -> 0 | T14: ='کاربرگ 1'!G110 -> 0 | U14: ='کاربرگ 1'!H12 -> 0 | V14: ='کاربرگ 1'!H26 -> 0 | W14: ='کاربرگ 1'!H40 -> 0 | X14: ='کاربرگ 1'!H54 -> 0 | Y14: ='کاربرگ 1'!H68 -> 0 | Z14: ='کاربرگ 1'!H82 -> 0 | AA14: ='کاربرگ 1'!H96 -> 0 | AB14: ='کاربرگ 1'!H110 -> 0
B15: 9 | D15: آیا سند حسابداری حواله های انبار صادر شده است؟ | E15: ='کاربرگ 1'!F13 -> 0 | F15: ='کاربرگ 1'!F27 -> 0 | G15: ='کاربرگ 1'!F41 -> 0 | H15: ='کاربرگ 1'!F55 -> 0 | I15: ='کاربرگ 1'!F69 -> 0 | J15: ='کاربرگ 1'!F83 -> 0 | K15: ='کاربرگ 1'!F97 -> 0 | L15: ='کاربرگ 1'!F111 -> 0 | M15: ='کاربرگ 1'!G13 -> 0 | N15: ='کاربرگ 1'!G27 -> 0 | O15: ='کاربرگ 1'!G41 -> 0 | P15: ='کاربرگ 1'!G55 -> 0 | Q15: ='کاربرگ 1'!G69 -> 0 | R15: ='کاربرگ 1'!G83 -> 0 | S15: ='کاربرگ 1'!G97 -> 0 | T15: ='کاربرگ 1'!G111 -> 0 | U15: ='کاربرگ 1'!H13 -> 0 | V15: ='کاربرگ 1'!H27 -> 0 | W15: ='کاربرگ 1'!H41 -> 0 | X15: ='کاربرگ 1'!H55 -> 0 | Y15: ='کاربرگ 1'!H69 -> 0 | Z15: ='کاربرگ 1'!H83 -> 0 | AA15: ='کاربرگ 1'!H97 -> 0 | AB15: ='کاربرگ 1'!H111 -> 0
B16: 10 | D16: آیا موجودی انبار پایان دوره با انبارگردانی کنترل شده است؟ | E16: ='کاربرگ 1'!F14 -> 0 | F16: ='کاربرگ 1'!F28 -> 0 | G16: ='کاربرگ 1'!F42 -> 0 | H16: ='کاربرگ 1'!F56 -> 0 | I16: ='کاربرگ 1'!F70 -> 0 | J16: ='کاربرگ 1'!F84 -> 0 | K16: ='کاربرگ 1'!F98 -> 0 | L16: ='کاربرگ 1'!F112 -> 0 | M16: ='کاربرگ 1'!G14 -> 0 | N16: ='کاربرگ 1'!G28 -> 0 | O16: ='کاربرگ 1'!G42 -> 0 | P16: ='کاربرگ 1'!G56 -> 0 | Q16: ='کاربرگ 1'!G70 -> 0 | R16: ='کاربرگ 1'!G84 -> 0 | S16: ='کاربرگ 1'!G98 -> 0 | T16: ='کاربرگ 1'!G112 -> 0 | U16: ='کاربرگ 1'!H14 -> 0 | V16: ='کاربرگ 1'!H28 -> 0 | W16: ='کاربرگ 1'!H42 -> 0 | X16: ='کاربرگ 1'!H56 -> 0 | Y16: ='کاربرگ 1'!H70 -> 0 | Z16: ='کاربرگ 1'!H84 -> 0 | AA16: ='کاربرگ 1'!H98 -> 0 | AB16: ='کاربرگ 1'!H112 -> 0
B17: 11 | C17: اموال | D17: آیا تأییدیه اتمام ثبت اموال واحد به همراه آخرین شناسه اموال ثبت شده ارسال شده است؟ | E17: ='کاربرگ 1'!F15 -> 0 | F17: ='کاربرگ 1'!F29 -> 0 | G17: ='کاربرگ 1'!F43 -> 0 | H17: ='کاربرگ 1'!F57 -> 0 | I17: ='کاربرگ 1'!F71 -> 0 | J17: ='کاربرگ 1'!F85 -> 0 | K17: ='کاربرگ 1'!F99 -> 0 | L17: ='کاربرگ 1'!F113 -> 0 | M17: ='کاربرگ 1'!G15 -> 0 | N17: ='کاربرگ 1'!G29 -> 0 | O17: ='کاربرگ 1'!G43 -> 0 | P17: ='کاربرگ 1'!G57 -> 0 | Q17: ='کاربرگ 1'!G71 -> 0 | R17: ='کاربرگ 1'!G85 -> 0 | S17: ='کاربرگ 1'!G99 -> 0 | T17: ='کاربرگ 1'!G113 -> 0 | U17: ='کاربرگ 1'!H15 -> 0 | V17: ='کاربرگ 1'!H29 -> 0 | W17: ='کاربرگ 1'!H43 -> 0 | X17: ='کاربرگ 1'!H57 -> 0 | Y17: ='کاربرگ 1'!H71 -> 0 | Z17: ='کاربرگ 1'!H85 -> 0 | AA17: ='کاربرگ 1'!H99 -> 0 | AB17: ='کاربرگ 1'!H113 -> 0
B18: 12 | D18: آیا سند حسابداری اموال ابتدای دوره صادر شده است؟ | E18: ='کاربرگ 1'!F16 -> 0 | F18: ='کاربرگ 1'!F30 -> 0 | G18: ='کاربرگ 1'!F44 -> 0 | H18: ='کاربرگ 1'!F58 -> 0 | I18: ='کاربرگ 1'!F72 -> 0 | J18: ='کاربرگ 1'!F86 -> 0 | K18: ='کاربرگ 1'!F100 -> 0 | L18: ='کاربرگ 1'!F114 -> 0 | M18: ='کاربرگ 1'!G16 -> 0 | N18: ='کاربرگ 1'!G30 -> 0 | O18: ='کاربرگ 1'!G44 -> 0 | P18: ='کاربرگ 1'!G58 -> 0 | Q18: ='کاربرگ 1'!G72 -> 0 | R18: ='کاربرگ 1'!G86 -> 0 | S18: ='کاربرگ 1'!G100 -> 0 | T18: ='کاربرگ 1'!G114 -> 0 | U18: ='کاربرگ 1'!H16 -> 0 | V18: ='کاربرگ 1'!H30 -> 0 | W18: ='کاربرگ 1'!H44 -> 0 | X18: ='کاربرگ 1'!H58 -> 0 | Y18: ='کاربرگ 1'!H72 -> 0 | Z18: ='کاربرگ 1'!H86 -> 0 | AA18: ='کاربرگ 1'!H100 -> 0 | AB18: ='کاربرگ 1'!H114 -> 0
B19: 13 | D19: آیا کارتهای اموال ایجاد شده از حواله های انبار نهایی شده است ؟ | E19: ='کاربرگ 1'!F17 -> 0 | F19: ='کاربرگ 1'!F31 -> 0 | G19: ='کاربرگ 1'!F45 -> 0 | H19: ='کاربرگ 1'!F59 -> 0 | I19: ='کاربرگ 1'!F73 -> 0 | J19: ='کاربرگ 1'!F87 -> 0 | K19: ='کاربرگ 1'!F101 -> 0 | L19: ='کاربرگ 1'!F115 -> 0 | M19: ='کاربرگ 1'!G17 -> 0 | N19: ='کاربرگ 1'!G31 -> 0 | O19: ='کاربرگ 1'!G45 -> 0 | P19: ='کاربرگ 1'!G59 -> 0 | Q19: ='کاربرگ 1'!G73 -> 0 | R19: ='کاربرگ 1'!G87 -> 0 | S19: ='کاربرگ 1'!G101 -> 0 | T19: ='کاربرگ 1'!G115 -> 0 | U19: ='کاربرگ 1'!H17 -> 0 | V19: ='کاربرگ 1'!H31 -> 0 | W19: ='کاربرگ 1'!H45 -> 0 | X19: ='کاربرگ 1'!H59 -> 0 | Y19: ='کاربرگ 1'!H73 -> 0 | Z19: ='کاربرگ 1'!H87 -> 0 | AA19: ='کاربرگ 1'!H101 -> 0 | AB19: ='کاربرگ 1'!H115 -> 0
B20: 14 | D20: آیا فرم شماره 16 در اتاق ها نصب شده و با نرم افزار تطابق دارد؟ | E20: ='کاربرگ 1'!F18 -> 0 | F20: ='کاربرگ 1'!F32 -> 0 | G20: ='کاربرگ 1'!F46 -> 0 | H20: ='کاربرگ 1'!F60 -> 0 | I20: ='کاربرگ 1'!F74 -> 0 | J20: ='کاربرگ 1'!F88 -> 0 | K20: ='کاربرگ 1'!F102 -> 0 | L20: ='کاربرگ 1'!F116 -> 0 | M20: ='کاربرگ 1'!G18 -> 0 | N20: ='کاربرگ 1'!G32 -> 0 | O20: ='کاربرگ 1'!G46 -> 0 | P20: ='کاربرگ 1'!G60 -> 0 | Q20: ='کاربرگ 1'!G74 -> 0 | R20: ='کاربرگ 1'!G88 -> 0 | S20: ='کاربرگ 1'!G102 -> 0 | T20: ='کاربرگ 1'!G116 -> 0 | U20: ='کاربرگ 1'!H18 -> 0 | V20: ='کاربرگ 1'!H32 -> 0 | W20: ='کاربرگ 1'!H46 -> 0 | X20: ='کاربرگ 1'!H60 -> 0 | Y20: ='کاربرگ 1'!H74 -> 0 | Z20: ='کاربرگ 1'!H88 -> 0 | AA20: ='کاربرگ 1'!H102 -> 0 | AB20: ='کاربرگ 1'!H116 -> 0
B21: 15 | C21: آیا کاربرگ نهایی حقوق خزانه جهت بررسی ارسال شده است؟ | E21: ='کاربرگ 2'!F5 -> 0 | F21: ='کاربرگ 2'!F26 -> 0 | G21: ='کاربرگ 2'!F47 -> 0 | H21: ='کاربرگ 2'!F68 -> 0 | I21: ='کاربرگ 2'!F89 -> 0 | J21: ='کاربرگ 2'!F110 -> 0 | K21: ='کاربرگ 2'!F131 -> 0 | L21: ='کاربرگ 2'!F152 -> 0 | M21: ='کاربرگ 2'!G5 -> 0 | N21: ='کاربرگ 2'!G26 -> 0 | O21: ='کاربرگ 2'!G47 -> 0 | P21: ='کاربرگ 2'!G68 -> 0 | Q21: ='کاربرگ 2'!G89 -> 0 | R21: ='کاربرگ 2'!G110 -> 0 | S21: ='کاربرگ 2'!G131 -> 0 | T21: ='کاربرگ 2'!G152 -> 0 | U21: ='کاربرگ 2'!H5 -> 0 | V21: ='کاربرگ 2'!H26 -> 0 | W21: ='کاربرگ 2'!H47 -> 0 | X21: ='کاربرگ 2'!H68 -> 0 | Y21: ='کاربرگ 2'!H89 -> 0 | Z21: ='کاربرگ 2'!H110 -> 0 | AA21: ='کاربرگ 2'!H131 -> 0 | AB21: ='کاربرگ 2'!H152 -> 0
B22: 16 | C22: شناسایی حقوق | D22: آیا سند شناسایی حقوق خزانه ثبت شده است؟ | E22: ='کاربرگ 2'!F6 -> 0 | F22: ='کاربرگ 2'!F27 -> 0 | G22: ='کاربرگ 2'!F48 -> 0 | H22: ='کاربرگ 2'!F69 -> 0 | I22: ='کاربرگ 2'!F90 -> 0 | J22: ='کاربرگ 2'!F111 -> 0 | K22: ='کاربرگ 2'!F132 -> 0 | L22: ='کاربرگ 2'!F153 -> 0 | M22: ='کاربرگ 2'!G6 -> 0 | N22: ='کاربرگ 2'!G27 -> 0 | O22: ='کاربرگ 2'!G48 -> 0 | P22: ='کاربرگ 2'!G69 -> 0 | Q22: ='کاربرگ 2'!G90 -> 0 | R22: ='کاربرگ 2'!G111 -> 0 | S22: ='کاربرگ 2'!G132 -> 0 | T22: ='کاربرگ 2'!G153 -> 0 | U22: ='کاربرگ 2'!H6 -> 0 | V22: ='کاربرگ 2'!H27 -> 0 | W22: ='کاربرگ 2'!H48 -> 0 | X22: ='کاربرگ 2'!H69 -> 0 | Y22: ='کاربرگ 2'!H90 -> 0 | Z22: ='کاربرگ 2'!H111 -> 0 | AA22: ='کاربرگ 2'!H132 -> 0 | AB22: ='کاربرگ 2'!H153 -> 0
B23: 17 | D23: آیا سند شناسایی حقوق خزانه از لحاظ نقدی و تعهدی بررسی شده است ؟ | E23: ='کاربرگ 2'!F7 -> 0 | F23: ='کاربرگ 2'!F28 -> 0 | G23: ='کاربرگ 2'!F49 -> 0 | H23: ='کاربرگ 2'!F70 -> 0 | I23: ='کاربرگ 2'!F91 -> 0 | J23: ='کاربرگ 2'!F112 -> 0 | K23: ='کاربرگ 2'!F133 -> 0 | L23: ='کاربرگ 2'!F154 -> 0 | M23: ='کاربرگ 2'!G7 -> 0 | N23: ='کاربرگ 2'!G28 -> 0 | O23: ='کاربرگ 2'!G49 -> 0 | P23: ='کاربرگ 2'!G70 -> 0 | Q23: ='کاربرگ 2'!G91 -> 0 | R23: ='کاربرگ 2'!G112 -> 0 | S23: ='کاربرگ 2'!G133 -> 0 | T23: ='کاربرگ 2'!G154 -> 0 | U23: ='کاربرگ 2'!H7 -> 0 | V23: ='کاربرگ 2'!H28 -> 0 | W23: ='کاربرگ 2'!H49 -> 0 | X23: ='کاربرگ 2'!H70 -> 0 | Y23: ='کاربرگ 2'!H91 -> 0 | Z23: ='کاربرگ 2'!H112 -> 0 | AA23: ='کاربرگ 2'!H133 -> 0 | AB23: ='کاربرگ 2'!H154 -> 0
B24: 18 | D24: آیا سند شناسایی حقوق خزانه با کاربرگ حقوق خزانه از نظر مبلغ کنترل شده است؟ | E24: ='کاربرگ 2'!F8 -> 0 | F24: ='کاربرگ 2'!F29 -> 0 | G24: ='کاربرگ 2'!F50 -> 0 | H24: ='کاربرگ 2'!F71 -> 0 | I24: ='کاربرگ 2'!F92 -> 0 | J24: ='کاربرگ 2'!F113 -> 0 | K24: ='کاربرگ 2'!F134 -> 0 | L24: ='کاربرگ 2'!F155 -> 0 | M24: ='کاربرگ 2'!G8 -> 0 | N24: ='کاربرگ 2'!G29 -> 0 | O24: ='کاربرگ 2'!G50 -> 0 | P24: ='کاربرگ 2'!G71 -> 0 | Q24: ='کاربرگ 2'!G92 -> 0 | R24: ='کاربرگ 2'!G113 -> 0 | S24: ='کاربرگ 2'!G134 -> 0 | T24: ='کاربرگ 2'!G155 -> 0 | U24: ='کاربرگ 2'!H8 -> 0 | V24: ='کاربرگ 2'!H29 -> 0 | W24: ='کاربرگ 2'!H50 -> 0 | X24: ='کاربرگ 2'!H71 -> 0 | Y24: ='کاربرگ 2'!H92 -> 0 | Z24: ='کاربرگ 2'!H113 -> 0 | AA24: ='کاربرگ 2'!H134 -> 0 | AB24: ='کاربرگ 2'!H155 -> 0
B25: 19 | D25: آیا سند شناسایی حقوق خزانه با کاربرگ حقوق خزانه از نظر T1 کنترل شده است؟ | E25: ='کاربرگ 2'!F9 -> 0 | F25: ='کاربرگ 2'!F30 -> 0 | G25: ='کاربرگ 2'!F51 -> 0 | H25: ='کاربرگ 2'!F72 -> 0 | I25: ='کاربرگ 2'!F93 -> 0 | J25: ='کاربرگ 2'!F114 -> 0 | K25: ='کاربرگ 2'!F135 -> 0 | L25: ='کاربرگ 2'!F156 -> 0 | M25: ='کاربرگ 2'!G9 -> 0 | N25: ='کاربرگ 2'!G30 -> 0 | O25: ='کاربرگ 2'!G51 -> 0 | P25: ='کاربرگ 2'!G72 -> 0 | Q25: ='کاربرگ 2'!G93 -> 0 | R25: ='کاربرگ 2'!G114 -> 0 | S25: ='کاربرگ 2'!G135 -> 0 | T25: ='کاربرگ 2'!G156 -> 0 | U25: ='کاربرگ 2'!H9 -> 0 | V25: ='کاربرگ 2'!H30 -> 0 | W25: ='کاربرگ 2'!H51 -> 0 | X25: ='کاربرگ 2'!H72 -> 0 | Y25: ='کاربرگ 2'!H93 -> 0 | Z25: ='کاربرگ 2'!H114 -> 0 | AA25: ='کاربرگ 2'!H135 -> 0 | AB25: ='کاربرگ 2'!H156 -> 0
B26: 20 | D26: آیا سند شناسایی حقوق خزانه با کاربرگ حقوق خزانه از نظر T2 کنترل شده است؟ | E26: ='کاربرگ 2'!F10 -> 0 | F26: ='کاربرگ 2'!F31 -> 0 | G26: ='کاربرگ 2'!F52 -> 0 | H26: ='کاربرگ 2'!F73 -> 0 | I26: ='کاربرگ 2'!F94 -> 0 | J26: ='کاربرگ 2'!F115 -> 0 | K26: ='کاربرگ 2'!F136 -> 0 | L26: ='کاربرگ 2'!F157 -> 0 | M26: ='کاربرگ 2'!G10 -> 0 | N26: ='کاربرگ 2'!G31 -> 0 | O26: ='کاربرگ 2'!G52 -> 0 | P26: ='کاربرگ 2'!G73 -> 0 | Q26: ='کاربرگ 2'!G94 -> 0 | R26: ='کاربرگ 2'!G115 -> 0 | S26: ='کاربرگ 2'!G136 -> 0 | T26: ='کاربرگ 2'!G157 -> 0 | U26: ='کاربرگ 2'!H10 -> 0 | V26: ='کاربرگ 2'!H31 -> 0 | W26: ='کاربرگ 2'!H52 -> 0 | X26: ='کاربرگ 2'!H73 -> 0 | Y26: ='کاربرگ 2'!H94 -> 0 | Z26: ='کاربرگ 2'!H115 -> 0 | AA26: ='کاربرگ 2'!H136 -> 0 | AB26: ='کاربرگ 2'!H157 -> 0
B27: 21 | C27: خالص پرداختی | D27: آیا سند خالص پرداخت حقوق خزانه ثبت شده است؟ | E27: ='کاربرگ 2'!F11 -> 0 | F27: ='کاربرگ 2'!F32 -> 0 | G27: ='کاربرگ 2'!F53 -> 0 | H27: ='کاربرگ 2'!F74 -> 0 | I27: ='کاربرگ 2'!F95 -> 0 | J27: ='کاربرگ 2'!F116 -> 0 | K27: ='کاربرگ 2'!F137 -> 0 | L27: ='کاربرگ 2'!F158 -> 0 | M27: ='کاربرگ 2'!G11 -> 0 | N27: ='کاربرگ 2'!G32 -> 0 | O27: ='کاربرگ 2'!G53 -> 0 | P27: ='کاربرگ 2'!G74 -> 0 | Q27: ='کاربرگ 2'!G95 -> 0 | R27: ='کاربرگ 2'!G116 -> 0 | S27: ='کاربرگ 2'!G137 -> 0 | T27: ='کاربرگ 2'!G158 -> 0 | U27: ='کاربرگ 2'!H11 -> 0 | V27: ='کاربرگ 2'!H32 -> 0 | W27: ='کاربرگ 2'!H53 -> 0 | X27: ='کاربرگ 2'!H74 -> 0 | Y27: ='کاربرگ 2'!H95 -> 0 | Z27: ='کاربرگ 2'!H116 -> 0 | AA27: ='کاربرگ 2'!H137 -> 0 | AB27: ='کاربرگ 2'!H158 -> 0
B28: 22 | D28: آیا سند خالص پرداخت حقوق خزانه از لحاظ نقدی و تعهدی بررسی شده است ؟ | E28: ='کاربرگ 2'!F12 -> 0 | F28: ='کاربرگ 2'!F33 -> 0 | G28: ='کاربرگ 2'!F54 -> 0 | H28: ='کاربرگ 2'!F75 -> 0 | I28: ='کاربرگ 2'!F96 -> 0 | J28: ='کاربرگ 2'!F117 -> 0 | K28: ='کاربرگ 2'!F138 -> 0 | L28: ='کاربرگ 2'!F159 -> 0 | M28: ='کاربرگ 2'!G12 -> 0 | N28: ='کاربرگ 2'!G33 -> 0 | O28: ='کاربرگ 2'!G54 -> 0 | P28: ='کاربرگ 2'!G75 -> 0 | Q28: ='کاربرگ 2'!G96 -> 0 | R28: ='کاربرگ 2'!G117 -> 0 | S28: ='کاربرگ 2'!G138 -> 0 | T28: ='کاربرگ 2'!G159 -> 0 | U28: ='کاربرگ 2'!H12 -> 0 | V28: ='کاربرگ 2'!H33 -> 0 | W28: ='کاربرگ 2'!H54 -> 0 | X28: ='کاربرگ 2'!H75 -> 0 | Y28: ='کاربرگ 2'!H96 -> 0 | Z28: ='کاربرگ 2'!H117 -> 0 | AA28: ='کاربرگ 2'!H138 -> 0 | AB28: ='کاربرگ 2'!H159 -> 0
B29: 23 | D29: آیا سند خالص پرداختی حقوق خزانه با کاربرگ حقوق خزانه از نظر مبلغ کنترل شده است؟ | E29: ='کاربرگ 2'!F13 -> 0 | F29: ='کاربرگ 2'!F34 -> 0 | G29: ='کاربرگ 2'!F55 -> 0 | H29: ='کاربرگ 2'!F76 -> 0 | I29: ='کاربرگ 2'!F97 -> 0 | J29: ='کاربرگ 2'!F118 -> 0 | K29: ='کاربرگ 2'!F139 -> 0 | L29: ='کاربرگ 2'!F160 -> 0 | M29: ='کاربرگ 2'!G13 -> 0 | N29: ='کاربرگ 2'!G34 -> 0 | O29: ='کاربرگ 2'!G55 -> 0 | P29: ='کاربرگ 2'!G76 -> 0 | Q29: ='کاربرگ 2'!G97 -> 0 | R29: ='کاربرگ 2'!G118 -> 0 | S29: ='کاربرگ 2'!G139 -> 0 | T29: ='کاربرگ 2'!G160 -> 0 | U29: ='کاربرگ 2'!H13 -> 0 | V29: ='کاربرگ 2'!H34 -> 0 | W29: ='کاربرگ 2'!H55 -> 0 | X29: ='کاربرگ 2'!H76 -> 0 | Y29: ='کاربرگ 2'!H97 -> 0 | Z29: ='کاربرگ 2'!H118 -> 0 | AA29: ='کاربرگ 2'!H139 -> 0 | AB29: ='کاربرگ 2'!H160 -> 0
B30: 24 | D30: آیا سند خالص پرداختی حقوق خزانه با کاربرگ حقوق خزانه از نظر T1 کنترل شده است؟ | E30: ='کاربرگ 2'!F14 -> 0 | F30: ='کاربرگ 2'!F35 -> 0 | G30: ='کاربرگ 2'!F56 -> 0 | H30: ='کاربرگ 2'!F77 -> 0 | I30: ='کاربرگ 2'!F98 -> 0 | J30: ='کاربرگ 2'!F119 -> 0 | K30: ='کاربرگ 2'!F140 -> 0 | L30: ='کاربرگ 2'!F161 -> 0 | M30: ='کاربرگ 2'!G14 -> 0 | N30: ='کاربرگ 2'!G35 -> 0 | O30: ='کاربرگ 2'!G56 -> 0 | P30: ='کاربرگ 2'!G77 -> 0 | Q30: ='کاربرگ 2'!G98 -> 0 | R30: ='کاربرگ 2'!G119 -> 0 | S30: ='کاربرگ 2'!G140 -> 0 | T30: ='کاربرگ 2'!G161 -> 0 | U30: ='کاربرگ 2'!H14 -> 0 | V30: ='کاربرگ 2'!H35 -> 0 | W30: ='کاربرگ 2'!H56 -> 0 | X30: ='کاربرگ 2'!H77 -> 0 | Y30: ='کاربرگ 2'!H98 -> 0 | Z30: ='کاربرگ 2'!H119 -> 0 | AA30: ='کاربرگ 2'!H140 -> 0 | AB30: ='کاربرگ 2'!H161 -> 0
B31: 25 | D31: آیا سند خالص پرداختی حقوق خزانه با کاربرگ حقوق خزانه از نظر T2 کنترل شده است؟ | E31: ='کاربرگ 2'!F15 -> 0 | F31: ='کاربرگ 2'!F36 -> 0 | G31: ='کاربرگ 2'!F57 -> 0 | H31: ='کاربرگ 2'!F78 -> 0 | I31: ='کاربرگ 2'!F99 -> 0 | J31: ='کاربرگ 2'!F120 -> 0 | K31: ='کاربرگ 2'!F141 -> 0 | L31: ='کاربرگ 2'!F162 -> 0 | M31: ='کاربرگ 2'!G15 -> 0 | N31: ='کاربرگ 2'!G36 -> 0 | O31: ='کاربرگ 2'!G57 -> 0 | P31: ='کاربرگ 2'!G78 -> 0 | Q31: ='کاربرگ 2'!G99 -> 0 | R31: ='کاربرگ 2'!G120 -> 0 | S31: ='کاربرگ 2'!G141 -> 0 | T31: ='کاربرگ 2'!G162 -> 0 | U31: ='کاربرگ 2'!H15 -> 0 | V31: ='کاربرگ 2'!H36 -> 0 | W31: ='کاربرگ 2'!H57 -> 0 | X31: ='کاربرگ 2'!H78 -> 0 | Y31: ='کاربرگ 2'!H99 -> 0 | Z31: ='کاربرگ 2'!H120 -> 0 | AA31: ='کاربرگ 2'!H141 -> 0 | AB31: ='کاربرگ 2'!H162 -> 0
B32: 26 | C32: سایر کسور | D32: آیا سند سایر کسور حقوق خزانه ثبت شده است؟ | E32: ='کاربرگ 2'!F16 -> 0 | F32: ='کاربرگ 2'!F37 -> 0 | G32: ='کاربرگ 2'!F58 -> 0 | H32: ='کاربرگ 2'!F79 -> 0 | I32: ='کاربرگ 2'!F100 -> 0 | J32: ='کاربرگ 2'!F121 -> 0 | K32: ='کاربرگ 2'!F142 -> 0 | L32: ='کاربرگ 2'!F163 -> 0 | M32: ='کاربرگ 2'!G16 -> 0 | N32: ='کاربرگ 2'!G37 -> 0 | O32: ='کاربرگ 2'!G58 -> 0 | P32: ='کاربرگ 2'!G79 -> 0 | Q32: ='کاربرگ 2'!G100 -> 0 | R32: ='کاربرگ 2'!G121 -> 0 | S32: ='کاربرگ 2'!G142 -> 0 | T32: ='کاربرگ 2'!G163 -> 0 | U32: ='کاربرگ 2'!H16 -> 0 | V32: ='کاربرگ 2'!H37 -> 0 | W32: ='کاربرگ 2'!H58 -> 0 | X32: ='کاربرگ 2'!H79 -> 0 | Y32: ='کاربرگ 2'!H100 -> 0 | Z32: ='کاربرگ 2'!H121 -> 0 | AA32: ='کاربرگ 2'!H142 -> 0 | AB32: ='کاربرگ 2'!H163 -> 0
B33: 27 | D33: آیا سند سایر کسور حقوق خزانه از لحاظ نقدی و تعهدی بررسی شده است ؟ | E33: ='کاربرگ 2'!F17 -> 0 | F33: ='کاربرگ 2'!F38 -> 0 | G33: ='کاربرگ 2'!F59 -> 0 | H33: ='کاربرگ 2'!F80 -> 0 | I33: ='کاربرگ 2'!F101 -> 0 | J33: ='کاربرگ 2'!F122 -> 0 | K33: ='کاربرگ 2'!F143 -> 0 | L33: ='کاربرگ 2'!F164 -> 0 | M33: ='کاربرگ 2'!G17 -> 0 | N33: ='کاربرگ 2'!G38 -> 0 | O33: ='کاربرگ 2'!G59 -> 0 | P33: ='کاربرگ 2'!G80 -> 0 | Q33: ='کاربرگ 2'!G101 -> 0 | R33: ='کاربرگ 2'!G122 -> 0 | S33: ='کاربرگ 2'!G143 -> 0 | T33: ='کاربرگ 2'!G164 -> 0 | U33: ='کاربرگ 2'!H17 -> 0 | V33: ='کاربرگ 2'!H38 -> 0 | W33: ='کاربرگ 2'!H59 -> 0 | X33: ='کاربرگ 2'!H80 -> 0 | Y33: ='کاربرگ 2'!H101 -> 0 | Z33: ='کاربرگ 2'!H122 -> 0 | AA33: ='کاربرگ 2'!H143 -> 0 | AB33: ='کاربرگ 2'!H164 -> 0
B34: 28 | D34: آیا سند سایر کسور حقوق خزانه با کاربرگ حقوق خزانه از نظر مبلغ کنترل شده است؟ | E34: ='کاربرگ 2'!F18 -> 0 | F34: ='کاربرگ 2'!F39 -> 0 | G34: ='کاربرگ 2'!F60 -> 0 | H34: ='کاربرگ 2'!F81 -> 0 | I34: ='کاربرگ 2'!F102 -> 0 | J34: ='کاربرگ 2'!F123 -> 0 | K34: ='کاربرگ 2'!F144 -> 0 | L34: ='کاربرگ 2'!F165 -> 0 | M34: ='کاربرگ 2'!G18 -> 0 | N34: ='کاربرگ 2'!G39 -> 0 | O34: ='کاربرگ 2'!G60 -> 0 | P34: ='کاربرگ 2'!G81 -> 0 | Q34: ='کاربرگ 2'!G102 -> 0 | R34: ='کاربرگ 2'!G123 -> 0 | S34: ='کاربرگ 2'!G144 -> 0 | T34: ='کاربرگ 2'!G165 -> 0 | U34: ='کاربرگ 2'!H18 -> 0 | V34: ='کاربرگ 2'!H39 -> 0 | W34: ='کاربرگ 2'!H60 -> 0 | X34: ='کاربرگ 2'!H81 -> 0 | Y34: ='کاربرگ 2'!H102 -> 0 | Z34: ='کاربرگ 2'!H123 -> 0 | AA34: ='کاربرگ 2'!H144 -> 0 | AB34: ='کاربرگ 2'!H165 -> 0
B35: 29 | D35: آیا سند خالص پرداختی حقوق خزانه با کاربرگ حقوق خزانه از نظر T1 کنترل شده است؟ | E35: ='کاربرگ 2'!F19 -> 0 | F35: ='کاربرگ 2'!F40 -> 0 | G35: ='کاربرگ 2'!F61 -> 0 | H35: ='کاربرگ 2'!F82 -> 0 | I35: ='کاربرگ 2'!F103 -> 0 | J35: ='کاربرگ 2'!F124 -> 0 | K35: ='کاربرگ 2'!F145 -> 0 | L35: ='کاربرگ 2'!F166 -> 0 | M35: ='کاربرگ 2'!G19 -> 0 | N35: ='کاربرگ 2'!G40 -> 0 | O35: ='کاربرگ 2'!G61 -> 0 | P35: ='کاربرگ 2'!G82 -> 0 | Q35: ='کاربرگ 2'!G103 -> 0 | R35: ='کاربرگ 2'!G124 -> 0 | S35: ='کاربرگ 2'!G145 -> 0 | T35: ='کاربرگ 2'!G166 -> 0 | U35: ='کاربرگ 2'!H19 -> 0 | V35: ='کاربرگ 2'!H40 -> 0 | W35: ='کاربرگ 2'!H61 -> 0 | X35: ='کاربرگ 2'!H82 -> 0 | Y35: ='کاربرگ 2'!H103 -> 0 | Z35: ='کاربرگ 2'!H124 -> 0 | AA35: ='کاربرگ 2'!H145 -> 0 | AB35: ='کاربرگ 2'!H166 -> 0
B36: 30 | D36: آیا سند خالص پرداختی حقوق خزانه با کاربرگ حقوق خزانه از نظر T2 کنترل شده است؟ | E36: ='کاربرگ 2'!F20 -> 0 | F36: ='کاربرگ 2'!F41 -> 0 | G36: ='کاربرگ 2'!F62 -> 0 | H36: ='کاربرگ 2'!F83 -> 0 | I36: ='کاربرگ 2'!F104 -> 0 | J36: ='کاربرگ 2'!F125 -> 0 | K36: ='کاربرگ 2'!F146 -> 0 | L36: ='کاربرگ 2'!F167 -> 0 | M36: ='کاربرگ 2'!G20 -> 0 | N36: ='کاربرگ 2'!G41 -> 0 | O36: ='کاربرگ 2'!G62 -> 0 | P36: ='کاربرگ 2'!G83 -> 0 | Q36: ='کاربرگ 2'!G104 -> 0 | R36: ='کاربرگ 2'!G125 -> 0 | S36: ='کاربرگ 2'!G146 -> 0 | T36: ='کاربرگ 2'!G167 -> 0 | U36: ='کاربرگ 2'!H20 -> 0 | V36: ='کاربرگ 2'!H41 -> 0 | W36: ='کاربرگ 2'!H62 -> 0 | X36: ='کاربرگ 2'!H83 -> 0 | Y36: ='کاربرگ 2'!H104 -> 0 | Z36: ='کاربرگ 2'!H125 -> 0 | AA36: ='کاربرگ 2'!H146 -> 0 | AB36: ='کاربرگ 2'!H167 -> 0
B37: 31 | C37: کسور قانونی | D37: آیا سند کسور قانونی حقوق خزانه ثبت شده است؟ | E37: ='کاربرگ 2'!F21 -> 0 | F37: ='کاربرگ 2'!F42 -> 0 | G37: ='کاربرگ 2'!F63 -> 0 | H37: ='کاربرگ 2'!F84 -> 0 | I37: ='کاربرگ 2'!F105 -> 0 | J37: ='کاربرگ 2'!F126 -> 0 | K37: ='کاربرگ 2'!F147 -> 0 | L37: ='کاربرگ 2'!F168 -> 0 | M37: ='کاربرگ 2'!G21 -> 0 | N37: ='کاربرگ 2'!G42 -> 0 | O37: ='کاربرگ 2'!G63 -> 0 | P37: ='کاربرگ 2'!G84 -> 0 | Q37: ='کاربرگ 2'!G105 -> 0 | R37: ='کاربرگ 2'!G126 -> 0 | S37: ='کاربرگ 2'!G147 -> 0 | T37: ='کاربرگ 2'!G168 -> 0 | U37: ='کاربرگ 2'!H21 -> 0 | V37: ='کاربرگ 2'!H42 -> 0 | W37: ='کاربرگ 2'!H63 -> 0 | X37: ='کاربرگ 2'!H84 -> 0 | Y37: ='کاربرگ 2'!H105 -> 0 | Z37: ='کاربرگ 2'!H126 -> 0 | AA37: ='کاربرگ 2'!H147 -> 0 | AB37: ='کاربرگ 2'!H168 -> 0
B38: 32 | D38: آیا سند کسور قانونی حقوق خزانه از لحاظ نقدی و تعهدی بررسی شده است ؟ | E38: ='کاربرگ 2'!F22 -> 0 | F38: ='کاربرگ 2'!F43 -> 0 | G38: ='کاربرگ 2'!F64 -> 0 | H38: ='کاربرگ 2'!F85 -> 0 | I38: ='کاربرگ 2'!F106 -> 0 | J38: ='کاربرگ 2'!F127 -> 0 | K38: ='کاربرگ 2'!F148 -> 0 | L38: ='کاربرگ 2'!F169 -> 0 | M38: ='کاربرگ 2'!G22 -> 0 | N38: ='کاربرگ 2'!G43 -> 0 | O38: ='کاربرگ 2'!G64 -> 0 | P38: ='کاربرگ 2'!G85 -> 0 | Q38: ='کاربرگ 2'!G106 -> 0 | R38: ='کاربرگ 2'!G127 -> 0 | S38: ='کاربرگ 2'!G148 -> 0 | T38: ='کاربرگ 2'!G169 -> 0 | U38: ='کاربرگ 2'!H22 -> 0 | V38: ='کاربرگ 2'!H43 -> 0 | W38: ='کاربرگ 2'!H64 -> 0 | X38: ='کاربرگ 2'!H85 -> 0 | Y38: ='کاربرگ 2'!H106 -> 0 | Z38: ='کاربرگ 2'!H127 -> 0 | AA38: ='کاربرگ 2'!H148 -> 0 | AB38: ='کاربرگ 2'!H169 -> 0
B39: 33 | D39: آیا سند کسور قانونی حقوق خزانه با کاربرگ حقوق خزانه از نظر مبلغ کنترل شده است؟ | E39: ='کاربرگ 2'!F23 -> 0 | F39: ='کاربرگ 2'!F44 -> 0 | G39: ='کاربرگ 2'!F65 -> 0 | H39: ='کاربرگ 2'!F86 -> 0 | I39: ='کاربرگ 2'!F107 -> 0 | J39: ='کاربرگ 2'!F128 -> 0 | K39: ='کاربرگ 2'!F149 -> 0 | L39: ='کاربرگ 2'!F170 -> 0 | M39: ='کاربرگ 2'!G23 -> 0 | N39: ='کاربرگ 2'!G44 -> 0 | O39: ='کاربرگ 2'!G65 -> 0 | P39: ='کاربرگ 2'!G86 -> 0 | Q39: ='کاربرگ 2'!G107 -> 0 | R39: ='کاربرگ 2'!G128 -> 0 | S39: ='کاربرگ 2'!G149 -> 0 | T39: ='کاربرگ 2'!G170 -> 0 | U39: ='کاربرگ 2'!H23 -> 0 | V39: ='کاربرگ 2'!H44 -> 0 | W39: ='کاربرگ 2'!H65 -> 0 | X39: ='کاربرگ 2'!H86 -> 0 | Y39: ='کاربرگ 2'!H107 -> 0 | Z39: ='کاربرگ 2'!H128 -> 0 | AA39: ='کاربرگ 2'!H149 -> 0 | AB39: ='کاربرگ 2'!H170 -> 0
B40: 34 | D40: آیا سند کسور حقوق خزانه با کاربرگ حقوق خزانه از نظر T1 کنترل شده است؟ | E40: ='کاربرگ 2'!F24 -> 0 | F40: ='کاربرگ 2'!F45 -> 0 | G40: ='کاربرگ 2'!F66 -> 0 | H40: ='کاربرگ 2'!F87 -> 0 | I40: ='کاربرگ 2'!F108 -> 0 | J40: ='کاربرگ 2'!F129 -> 0 | K40: ='کاربرگ 2'!F150 -> 0 | L40: ='کاربرگ 2'!F171 -> 0 | M40: ='کاربرگ 2'!G24 -> 0 | N40: ='کاربرگ 2'!G45 -> 0 | O40: ='کاربرگ 2'!G66 -> 0 | P40: ='کاربرگ 2'!G87 -> 0 | Q40: ='کاربرگ 2'!G108 -> 0 | R40: ='کاربرگ 2'!G129 -> 0 | S40: ='کاربرگ 2'!G150 -> 0 | T40: ='کاربرگ 2'!G171 -> 0 | U40: ='کاربرگ 2'!H24 -> 0 | V40: ='کاربرگ 2'!H45 -> 0 | W40: ='کاربرگ 2'!H66 -> 0 | X40: ='کاربرگ 2'!H87 -> 0 | Y40: ='کاربرگ 2'!H108 -> 0 | Z40: ='کاربرگ 2'!H129 -> 0 | AA40: ='کاربرگ 2'!H150 -> 0 | AB40: ='کاربرگ 2'!H171 -> 0
B41: 35 | D41: آیا سند کسور حقوق خزانه با کاربرگ حقوق خزانه از نظر T2 کنترل شده است؟ | E41: ='کاربرگ 2'!F25 -> 0 | F41: ='کاربرگ 2'!F46 -> 0 | G41: ='کاربرگ 2'!F67 -> 0 | H41: ='کاربرگ 2'!F88 -> 0 | I41: ='کاربرگ 2'!F109 -> 0 | J41: ='کاربرگ 2'!F130 -> 0 | K41: ='کاربرگ 2'!F151 -> 0 | L41: ='کاربرگ 2'!F172 -> 0 | M41: ='کاربرگ 2'!G25 -> 0 | N41: ='کاربرگ 2'!G46 -> 0 | O41: ='کاربرگ 2'!G67 -> 0 | P41: ='کاربرگ 2'!G88 -> 0 | Q41: ='کاربرگ 2'!G109 -> 0 | R41: ='کاربرگ 2'!G130 -> 0 | S41: ='کاربرگ 2'!G151 -> 0 | T41: ='کاربرگ 2'!G172 -> 0 | U41: ='کاربرگ 2'!H25 -> 0 | V41: ='کاربرگ 2'!H46 -> 0 | W41: ='کاربرگ 2'!H67 -> 0 | X41: ='کاربرگ 2'!H88 -> 0 | Y41: ='کاربرگ 2'!H109 -> 0 | Z41: ='کاربرگ 2'!H130 -> 0 | AA41: ='کاربرگ 2'!H151 -> 0 | AB41: ='کاربرگ 2'!H172 -> 0
B42: 36 | C42: رابط حقوق | D42: آیا رابط حقوق از لحاظ مبلغ با کاربرگ کنترل شده است ؟ | E42: ='کاربرگ 3'!E5 -> 0 | M42: ='کاربرگ 3'!M5 -> 0 | U42: ='کاربرگ 3'!U5 -> 0
B43: 37 | D43: آیا رابط حقوق از لحاظ T2 با کاربرگ حقوق کنترل شده است ؟ | E43: ='کاربرگ 3'!E6 -> 0 | M43: ='کاربرگ 3'!M6 -> 0 | U43: ='کاربرگ 3'!U6 -> 0
B44: 38 | D44: آیا رابط حقوق از لحاظ T3 کنترل شده است ؟ | E44: ='کاربرگ 3'!E7 -> 0 | M44: ='کاربرگ 3'!M7 -> 0 | U44: ='کاربرگ 3'!U7 -> 0
B45: 39 | C45: رابط اعتبار | D45: آیا سند اعتبارات سایر دریافتی ثبت شده است ؟ | E45: ='کاربرگ 4'!E5 -> 0 | M45: ='کاربرگ 4'!M5 -> 0 | U45: ='کاربرگ 4'!U5 -> 0
B46: 40 | D46: آیا سند اعتبارات سایر دریافتی از لحاظ نقدی و تعهدی بررسی شده است ؟ | E46: ='کاربرگ 4'!E6 -> 0 | M46: ='کاربرگ 4'!M6 -> 0 | U46: ='کاربرگ 4'!U6 -> 0
B47: 41 | D47: آیا رابط اعتبار ستاد و واحد از لحاظ مبلغ باهم کنترل شده است ؟ | E47: ='کاربرگ 4'!E7 -> 0 | M47: ='کاربرگ 4'!M7 -> 0 | U47: ='کاربرگ 4'!U7 -> 0
B48: 42 | D48: آیا تخصیص اعتبار رابط بودجه ای در واحدها ثبت شده است؟ | E48: ='کاربرگ 4'!E8 -> 0 | M48: ='کاربرگ 4'!M8 -> 0 | U48: ='کاربرگ 4'!U8 -> 0
B49: 43 | D49: آیا رابط اعتبار ستاد و واحد از لحاظT2 باهم کنترل شده است ؟ | E49: ='کاربرگ 4'!E9 -> 0 | M49: ='کاربرگ 4'!M9 -> 0 | U49: ='کاربرگ 4'!U9 -> 0
B50: 44 | D50: آیا رابط اعتبار از لحاظ T3 کنترل شده است ؟ | E50: ='کاربرگ 4'!E10 -> 0 | M50: ='کاربرگ 4'!M10 -> 0 | U50: ='کاربرگ 4'!U10 -> 0
B51: 45 | C51: رابط موجودی کالا | D51: آیا رابط موجودی کالای واحدهای ارسال کننده با این واحد از لحاظ مبلغ باهم کنترل شده است ؟ | E51: ='کاربرگ 5'!E5 -> 0 | M51: ='کاربرگ 5'!M5 -> 0 | U51: ='کاربرگ 5'!U5 -> 0
B52: 46 | D52: آیا سند رابط موجودی کالا از لحاظ نقدی و تعهدی بررسی شده است ؟ | E52: ='کاربرگ 5'!E6 -> 0 | M52: ='کاربرگ 5'!M6 -> 0 | U52: ='کاربرگ 5'!U6 -> 0
B53: 47 | D53: آیا رابط موجودی کالای واحدهای ارسال کننده با این واحد از لحاظT2 باهم کنترل شده است ؟ | E53: ='کاربرگ 5'!E7 -> 0 | M53: ='کاربرگ 5'!M7 -> 0 | U53: ='کاربرگ 5'!U7 -> 0
B54: 48 | D54: آیا رابط موجودی کالای واحدهای ارسال کننده با این واحد از لحاظ T3 کنترل شده است ؟ | E54: ='کاربرگ 5'!E8 -> 0 | M54: ='کاربرگ 5'!M8 -> 0 | U54: ='کاربرگ 5'!U8 -> 0
B55: 49 | C55: رابط اموال | D55: آیا رابط اموال واحدهای ارسال کننده با این واحد از لحاظ مبلغ باهم کنترل شده است ؟ | E55: ='کاربرگ 5'!E9 -> 0 | M55: ='کاربرگ 5'!M9 -> 0 | U55: ='کاربرگ 5'!U9 -> 0
B56: 50 | D56: آیا سند رابط اموال از لحاظ نقدی و تعهدی بررسی شده است ؟ | E56: ='کاربرگ 5'!E10 -> 0 | M56: ='کاربرگ 5'!M10 -> 0 | U56: ='کاربرگ 5'!U10 -> 0
B57: 51 | D57: آیا رابط اموال واحدهای ارسال کننده با این واحد از لحاظT2 باهم کنترل شده است ؟ | E57: ='کاربرگ 5'!E11 -> 0 | M57: ='کاربرگ 5'!M11 -> 0 | U57: ='کاربرگ 5'!U11 -> 0
B58: 52 | D58: آیا رابط اموال واحدهای ارسال کننده با این واحد از لحاظ T3 کنترل شده است ؟ | E58: ='کاربرگ 5'!E12 -> 0 | M58: ='کاربرگ 5'!M12 -> 0 | U58: ='کاربرگ 5'!U12 -> 0
B59: 53 | C59: رابط سپرده | D59: آیا سند ارسال وجوه سپرده ها به ستاد ثبت شده است ؟ | E59: ='کاربرگ 5'!E13 -> 0 | M59: ='کاربرگ 5'!M13 -> 0 | U59: ='کاربرگ 5'!U13 -> 0
B60: 54 | D60: آیا سند رابط سپرده از لحاظ نقدی و تعهدی بررسی شده است ؟ | E60: ='کاربرگ 5'!E14 -> 0 | M60: ='کاربرگ 5'!M14 -> 0 | U60: ='کاربرگ 5'!U14 -> 0
B61: 55 | D61: آیا رابط سپرده با حساب سپرده با هم کنترل شده است؟ | E61: ='کاربرگ 5'!E15 -> 0 | M61: ='کاربرگ 5'!M15 -> 0 | U61: ='کاربرگ 5'!U15 -> 0
B62: 56 | D62: آیا رابط سپرده ستاد و واحد از لحاظ مبلغ باهم کنترل شده است ؟ | E62: ='کاربرگ 5'!E16 -> 0 | M62: ='کاربرگ 5'!M16 -> 0 | U62: ='کاربرگ 5'!U16 -> 0
B63: 57 | D63: آیا رابط سپرده ستاد و واحد از لحاظT1 باهم کنترل شده است ؟ | E63: ='کاربرگ 5'!E17 -> 0 | M63: ='کاربرگ 5'!M17 -> 0 | U63: ='کاربرگ 5'!U17 -> 0
B64: 58 | D64: آیا رابط سپرده ستاد و واحد از لحاظT2 باهم کنترل شده است ؟ | E64: ='کاربرگ 5'!E18 -> 0 | M64: ='کاربرگ 5'!M18 -> 0 | U64: ='کاربرگ 5'!U18 -> 0
B65: 59 | D65: آیا رابط سپرده از لحاظ T3 کنترل شده است ؟ | E65: ='کاربرگ 5'!E19 -> 0 | M65: ='کاربرگ 5'!M19 -> 0 | U65: ='کاربرگ 5'!U19 -> 0
B66: 60 | C66: رابط سایر | D66: آیا اسناد رابط سایر (معاملات فی مابین واحدها) ثبت شده است ؟ | E66: ='کاربرگ 5'!E20 -> 0 | M66: ='کاربرگ 5'!M20 -> 0 | U66: ='کاربرگ 5'!U20 -> 0
B67: 61 | D67: آیا سند رابط سایر از لحاظ نقدی و تعهدی بررسی شده است ؟ | E67: ='کاربرگ 5'!E21 -> 0 | M67: ='کاربرگ 5'!M21 -> 0 | U67: ='کاربرگ 5'!U21 -> 0
B68: 62 | D68: آیا رابط سایر واحدهای ذینفع با این واحد از لحاظ مبلغ باهم کنترل شده است ؟ | E68: ='کاربرگ 5'!E22 -> 0 | M68: ='کاربرگ 5'!M22 -> 0 | U68: ='کاربرگ 5'!U22 -> 0
B69: 63 | D69: آیا رابط سایر واحدهای ذینفع با این واحد از لحاظT1 باهم کنترل شده است ؟ | E69: ='کاربرگ 5'!E23 -> 0 | M69: ='کاربرگ 5'!M23 -> 0 | U69: ='کاربرگ 5'!U23 -> 0
B70: 64 | D70: آیا رابط سایر واحدهای ذینفع با این واحد از لحاظT2 باهم کنترل شده است ؟ | E70: ='کاربرگ 5'!E24 -> 0 | M70: ='کاربرگ 5'!M24 -> 0 | U70: ='کاربرگ 5'!U24 -> 0
B71: 65 | D71: آیا رابط سایر واحدهای ذینفع با این واحد از لحاظT3 باهم کنترل شده است ؟ | E71: ='کاربرگ 5'!E25 -> 0 | M71: ='کاربرگ 5'!M25 -> 0 | U71: ='کاربرگ 5'!U25 -> 0
B72: 66 | C72: رابط درآمد | D72: آیا سند درآمد ارسالی به ستاد در دفاتر ثبت شده است ؟ | E72: ='کاربرگ 5'!E26 -> 0 | M72: ='کاربرگ 5'!M26 -> 0 | U72: ='کاربرگ 5'!U26 -> 0
B73: 67 | D73: آیا تیک نقدی و تعهدی رعایت شده است؟ | E73: ='کاربرگ 5'!E27 -> 0 | M73: ='کاربرگ 5'!M27 -> 0 | U73: ='کاربرگ 5'!U27 -> 0
B74: 68 | D74: آیا رابط درآمد ستاد و واحد از لحاظ مبلغ باهم کنترل شده است ؟ | E74: ='کاربرگ 5'!E28 -> 0 | M74: ='کاربرگ 5'!M28 -> 0 | U74: ='کاربرگ 5'!U28 -> 0
B75: 69 | D75: آیا رابط درآمد ستاد و واحد از لحاظT1 باهم کنترل شده است ؟ | E75: ='کاربرگ 5'!E29 -> 0 | M75: ='کاربرگ 5'!M29 -> 0 | U75: ='کاربرگ 5'!U29 -> 0
B76: 70 | D76: آیا رابط درآمد ستاد و واحد از لحاظT2 باهم کنترل شده است ؟ | E76: ='کاربرگ 5'!E30 -> 0 | M76: ='کاربرگ 5'!M30 -> 0 | U76: ='کاربرگ 5'!U30 -> 0
B77: 71 | D77: آیا رابط درآمد از لحاظ T3 کنترل شده است ؟ | E77: ='کاربرگ 5'!E31 -> 0 | M77: ='کاربرگ 5'!M31 -> 0 | U77: ='کاربرگ 5'!U31 -> 0
B78: 72 | C78: بازخرید خدمت | D78: آیا سند ذخیره بازخرید خدمت کارکنان مربوط به سال 91 ثبت شده است؟ | E78: ='کاربرگ 6'!F5 -> 0 | F78: ='کاربرگ 6'!F17 -> 0 | G78: ='کاربرگ 6'!F29 -> 0 | H78: ='کاربرگ 6'!F41 -> 0 | I78: ='کاربرگ 6'!F53 -> 0 | J78: ='کاربرگ 6'!F65 -> 0 | K78: ='کاربرگ 6'!F77 -> 0 | L78: ='کاربرگ 6'!F89 -> 0 | M78: ='کاربرگ 6'!G5 -> 0 | N78: ='کاربرگ 6'!G17 -> 0 | O78: ='کاربرگ 6'!G29 -> 0 | P78: ='کاربرگ 6'!G41 -> 0 | Q78: ='کاربرگ 6'!G53 -> 0 | R78: ='کاربرگ 6'!G65 -> 0 | S78: ='کاربرگ 6'!G77 -> 0 | T78: ='کاربرگ 6'!G89 -> 0 | U78: ='کاربرگ 6'!H5 -> 0 | V78: ='کاربرگ 6'!H17 -> 0 | W78: ='کاربرگ 6'!H29 -> 0 | X78: ='کاربرگ 6'!H41 -> 0 | Y78: ='کاربرگ 6'!H53 -> 0 | Z78: ='کاربرگ 6'!H65 -> 0 | AA78: ='کاربرگ 6'!H77 -> 0 | AB78: ='کاربرگ 6'!H89 -> 0
B79: 73 | D79: آیا سند ذخیره بازخرید خدمت کارکنان به صورت تعهدی ثبت شده است؟ | E79: ='کاربرگ 6'!F6 -> 0 | F79: ='کاربرگ 6'!F18 -> 0 | G79: ='کاربرگ 6'!F30 -> 0 | H79: ='کاربرگ 6'!F42 -> 0 | I79: ='کاربرگ 6'!F54 -> 0 | J79: ='کاربرگ 6'!F66 -> 0 | K79: ='کاربرگ 6'!F78 -> 0 | L79: ='کاربرگ 6'!F90 -> 0 | M79: ='کاربرگ 6'!G6 -> 0 | N79: ='کاربرگ 6'!G18 -> 0 | O79: ='کاربرگ 6'!G30 -> 0 | P79: ='کاربرگ 6'!G42 -> 0 | Q79: ='کاربرگ 6'!G54 -> 0 | R79: ='کاربرگ 6'!G66 -> 0 | S79: ='کاربرگ 6'!G78 -> 0 | T79: ='کاربرگ 6'!G90 -> 0 | U79: ='کاربرگ 6'!H6 -> 0 | V79: ='کاربرگ 6'!H18 -> 0 | W79: ='کاربرگ 6'!H30 -> 0 | X79: ='کاربرگ 6'!H42 -> 0 | Y79: ='کاربرگ 6'!H54 -> 0 | Z79: ='کاربرگ 6'!H66 -> 0 | AA79: ='کاربرگ 6'!H78 -> 0 | AB79: ='کاربرگ 6'!H90 -> 0
B80: 74 | C80: ذخیره پیش پرداخت و علی الحساب | D80: آیا سند ذخیره مربوط به کار انجام شده پیش پرداختها و علی الحسابها صادر شده است؟ | E80: ='کاربرگ 6'!F7 -> 0 | F80: ='کاربرگ 6'!F19 -> 0 | G80: ='کاربرگ 6'!F31 -> 0 | H80: ='کاربرگ 6'!F43 -> 0 | I80: ='کاربرگ 6'!F55 -> 0 | J80: ='کاربرگ 6'!F67 -> 0 | K80: ='کاربرگ 6'!F79 -> 0 | L80: ='کاربرگ 6'!F91 -> 0 | M80: ='کاربرگ 6'!G7 -> 0 | N80: ='کاربرگ 6'!G19 -> 0 | O80: ='کاربرگ 6'!G31 -> 0 | P80: ='کاربرگ 6'!G43 -> 0 | Q80: ='کاربرگ 6'!G55 -> 0 | R80: ='کاربرگ 6'!G67 -> 0 | S80: ='کاربرگ 6'!G79 -> 0 | T80: ='کاربرگ 6'!G91 -> 0 | U80: ='کاربرگ 6'!H7 -> 0 | V80: ='کاربرگ 6'!H19 -> 0 | W80: ='کاربرگ 6'!H31 -> 0 | X80: ='کاربرگ 6'!H43 -> 0 | Y80: ='کاربرگ 6'!H55 -> 0 | Z80: ='کاربرگ 6'!H67 -> 0 | AA80: ='کاربرگ 6'!H79 -> 0 | AB80: ='کاربرگ 6'!H91 -> 0
B81: 75 | D81: آیا سند ذخیره مربوط به کار انجام شده پیش پرداختها و علی الحسابها به صورت تعهدی صادر شده است؟ | E81: ='کاربرگ 6'!F8 -> 0 | F81: ='کاربرگ 6'!F20 -> 0 | G81: ='کاربرگ 6'!F32 -> 0 | H81: ='کاربرگ 6'!F44 -> 0 | I81: ='کاربرگ 6'!F56 -> 0 | J81: ='کاربرگ 6'!F68 -> 0 | K81: ='کاربرگ 6'!F80 -> 0 | L81: ='کاربرگ 6'!F92 -> 0 | M81: ='کاربرگ 6'!G8 -> 0 | N81: ='کاربرگ 6'!G20 -> 0 | O81: ='کاربرگ 6'!G32 -> 0 | P81: ='کاربرگ 6'!G44 -> 0 | Q81: ='کاربرگ 6'!G56 -> 0 | R81: ='کاربرگ 6'!G68 -> 0 | S81: ='کاربرگ 6'!G80 -> 0 | T81: ='کاربرگ 6'!G92 -> 0 | U81: ='کاربرگ 6'!H8 -> 0 | V81: ='کاربرگ 6'!H20 -> 0 | W81: ='کاربرگ 6'!H32 -> 0 | X81: ='کاربرگ 6'!H44 -> 0 | Y81: ='کاربرگ 6'!H56 -> 0 | Z81: ='کاربرگ 6'!H68 -> 0 | AA81: ='کاربرگ 6'!H80 -> 0 | AB81: ='کاربرگ 6'!H92 -> 0
B82: 76 | C82: ذ.ه. تحقق یافته پرداخت نشده | D82: آیا سند ذخیره هزینه های تحقق یافته پرداخت نشده مربوط به سال 91 ثبت شده است ؟ | E82: ='کاربرگ 6'!F9 -> 0 | F82: ='کاربرگ 6'!F21 -> 0 | G82: ='کاربرگ 6'!F33 -> 0 | H82: ='کاربرگ 6'!F45 -> 0 | I82: ='کاربرگ 6'!F57 -> 0 | J82: ='کاربرگ 6'!F69 -> 0 | K82: ='کاربرگ 6'!F81 -> 0 | L82: ='کاربرگ 6'!F93 -> 0 | M82: ='کاربرگ 6'!G9 -> 0 | N82: ='کاربرگ 6'!G21 -> 0 | O82: ='کاربرگ 6'!G33 -> 0 | P82: ='کاربرگ 6'!G45 -> 0 | Q82: ='کاربرگ 6'!G57 -> 0 | R82: ='کاربرگ 6'!G69 -> 0 | S82: ='کاربرگ 6'!G81 -> 0 | T82: ='کاربرگ 6'!G93 -> 0 | U82: ='کاربرگ 6'!H9 -> 0 | V82: ='کاربرگ 6'!H21 -> 0 | W82: ='کاربرگ 6'!H33 -> 0 | X82: ='کاربرگ 6'!H45 -> 0 | Y82: ='کاربرگ 6'!H57 -> 0 | Z82: ='کاربرگ 6'!H69 -> 0 | AA82: ='کاربرگ 6'!H81 -> 0 | AB82: ='کاربرگ 6'!H93 -> 0
B83: 77 | D83: آیا سند ذخیره هزینه های تحقق یافته پرداخت نشده به صورت تعهدی ثبت شده است ؟ | E83: ='کاربرگ 6'!F10 -> 0 | F83: ='کاربرگ 6'!F22 -> 0 | G83: ='کاربرگ 6'!F34 -> 0 | H83: ='کاربرگ 6'!F46 -> 0 | I83: ='کاربرگ 6'!F58 -> 0 | J83: ='کاربرگ 6'!F70 -> 0 | K83: ='کاربرگ 6'!F82 -> 0 | L83: ='کاربرگ 6'!F94 -> 0 | M83: ='کاربرگ 6'!G10 -> 0 | N83: ='کاربرگ 6'!G22 -> 0 | O83: ='کاربرگ 6'!G34 -> 0 | P83: ='کاربرگ 6'!G46 -> 0 | Q83: ='کاربرگ 6'!G58 -> 0 | R83: ='کاربرگ 6'!G70 -> 0 | S83: ='کاربرگ 6'!G82 -> 0 | T83: ='کاربرگ 6'!G94 -> 0 | U83: ='کاربرگ 6'!H10 -> 0 | V83: ='کاربرگ 6'!H22 -> 0 | W83: ='کاربرگ 6'!H34 -> 0 | X83: ='کاربرگ 6'!H46 -> 0 | Y83: ='کاربرگ 6'!H58 -> 0 | Z83: ='کاربرگ 6'!H70 -> 0 | AA83: ='کاربرگ 6'!H82 -> 0 | AB83: ='کاربرگ 6'!H94 -> 0
B84: 78 | C84: بستانکاران تدارکات | D84: آیا اسناد پرداخت نشده مربوط به تدارکات به حساب بستانکار ذینفعان در دفاتر ثبت شده است؟ | E84: ='کاربرگ 6'!F11 -> 0 | F84: ='کاربرگ 6'!F23 -> 0 | G84: ='کاربرگ 6'!F35 -> 0 | H84: ='کاربرگ 6'!F47 -> 0 | I84: ='کاربرگ 6'!F59 -> 0 | J84: ='کاربرگ 6'!F71 -> 0 | K84: ='کاربرگ 6'!F83 -> 0 | L84: ='کاربرگ 6'!F95 -> 0 | M84: ='کاربرگ 6'!G11 -> 0 | N84: ='کاربرگ 6'!G23 -> 0 | O84: ='کاربرگ 6'!G35 -> 0 | P84: ='کاربرگ 6'!G47 -> 0 | Q84: ='کاربرگ 6'!G59 -> 0 | R84: ='کاربرگ 6'!G71 -> 0 | S84: ='کاربرگ 6'!G83 -> 0 | T84: ='کاربرگ 6'!G95 -> 0 | U84: ='کاربرگ 6'!H11 -> 0 | V84: ='کاربرگ 6'!H23 -> 0 | W84: ='کاربرگ 6'!H35 -> 0 | X84: ='کاربرگ 6'!H47 -> 0 | Y84: ='کاربرگ 6'!H59 -> 0 | Z84: ='کاربرگ 6'!H71 -> 0 | AA84: ='کاربرگ 6'!H83 -> 0 | AB84: ='کاربرگ 6'!H95 -> 0
B85: 79 | D85: آیا اسناد پرداخت نشده مربوط به تدارکات به حساب بستانکار ذینفعان به صورت تعهدی ثبت شده است؟ | E85: ='کاربرگ 6'!F12 -> 0 | F85: ='کاربرگ 6'!F24 -> 0 | G85: ='کاربرگ 6'!F36 -> 0 | H85: ='کاربرگ 6'!F48 -> 0 | I85: ='کاربرگ 6'!F60 -> 0 | J85: ='کاربرگ 6'!F72 -> 0 | K85: ='کاربرگ 6'!F84 -> 0 | L85: ='کاربرگ 6'!F96 -> 0 | M85: ='کاربرگ 6'!G12 -> 0 | N85: ='کاربرگ 6'!G24 -> 0 | O85: ='کاربرگ 6'!G36 -> 0 | P85: ='کاربرگ 6'!G48 -> 0 | Q85: ='کاربرگ 6'!G60 -> 0 | R85: ='کاربرگ 6'!G72 -> 0 | S85: ='کاربرگ 6'!G84 -> 0 | T85: ='کاربرگ 6'!G96 -> 0 | U85: ='کاربرگ 6'!H12 -> 0 | V85: ='کاربرگ 6'!H24 -> 0 | W85: ='کاربرگ 6'!H36 -> 0 | X85: ='کاربرگ 6'!H48 -> 0 | Y85: ='کاربرگ 6'!H60 -> 0 | Z85: ='کاربرگ 6'!H72 -> 0 | AA85: ='کاربرگ 6'!H84 -> 0 | AB85: ='کاربرگ 6'!H96 -> 0
B86: 80 | C86: تعهدات پرسنلی | D86: آیا سند تعهدات پرسنلی تا پایان سال 91 در دفاتر ثبت شده است؟ | E86: ='کاربرگ 6'!F13 -> 0 | F86: ='کاربرگ 6'!F25 -> 0 | G86: ='کاربرگ 6'!F37 -> 0 | H86: ='کاربرگ 6'!F49 -> 0 | I86: ='کاربرگ 6'!F61 -> 0 | J86: ='کاربرگ 6'!F73 -> 0 | K86: ='کاربرگ 6'!F85 -> 0 | L86: ='کاربرگ 6'!F97 -> 0 | M86: ='کاربرگ 6'!G13 -> 0 | N86: ='کاربرگ 6'!G25 -> 0 | O86: ='کاربرگ 6'!G37 -> 0 | P86: ='کاربرگ 6'!G49 -> 0 | Q86: ='کاربرگ 6'!G61 -> 0 | R86: ='کاربرگ 6'!G73 -> 0 | S86: ='کاربرگ 6'!G85 -> 0 | T86: ='کاربرگ 6'!G97 -> 0 | U86: ='کاربرگ 6'!H13 -> 0 | V86: ='کاربرگ 6'!H25 -> 0 | W86: ='کاربرگ 6'!H37 -> 0 | X86: ='کاربرگ 6'!H49 -> 0 | Y86: ='کاربرگ 6'!H61 -> 0 | Z86: ='کاربرگ 6'!H73 -> 0 | AA86: ='کاربرگ 6'!H85 -> 0 | AB86: ='کاربرگ 6'!H97 -> 0
B87: 81 | D87: آیا سند تعهدات پرسنلی تا پایان سال 91 به صورت تعهدی ثبت شده است؟ | E87: ='کاربرگ 6'!F14 -> 0 | F87: ='کاربرگ 6'!F26 -> 0 | G87: ='کاربرگ 6'!F38 -> 0 | H87: ='کاربرگ 6'!F50 -> 0 | I87: ='کاربرگ 6'!F62 -> 0 | J87: ='کاربرگ 6'!F74 -> 0 | K87: ='کاربرگ 6'!F86 -> 0 | L87: ='کاربرگ 6'!F98 -> 0 | M87: ='کاربرگ 6'!G14 -> 0 | N87: ='کاربرگ 6'!G26 -> 0 | O87: ='کاربرگ 6'!G38 -> 0 | P87: ='کاربرگ 6'!G50 -> 0 | Q87: ='کاربرگ 6'!G62 -> 0 | R87: ='کاربرگ 6'!G74 -> 0 | S87: ='کاربرگ 6'!G86 -> 0 | T87: ='کاربرگ 6'!G98 -> 0 | U87: ='کاربرگ 6'!H14 -> 0 | V87: ='کاربرگ 6'!H26 -> 0 | W87: ='کاربرگ 6'!H38 -> 0 | X87: ='کاربرگ 6'!H50 -> 0 | Y87: ='کاربرگ 6'!H62 -> 0 | Z87: ='کاربرگ 6'!H74 -> 0 | AA87: ='کاربرگ 6'!H86 -> 0 | AB87: ='کاربرگ 6'!H98 -> 0
B88: 82 | C88: مطالبات احتمالی | D88: آیا سند مطالبات احتمالی غیر بیمه ای موسسه ثبت شده است ؟ | E88: ='کاربرگ 6'!F15 -> 0 | F88: ='کاربرگ 6'!F27 -> 0 | G88: ='کاربرگ 6'!F39 -> 0 | H88: ='کاربرگ 6'!F51 -> 0 | I88: ='کاربرگ 6'!F63 -> 0 | J88: ='کاربرگ 6'!F75 -> 0 | K88: ='کاربرگ 6'!F87 -> 0 | L88: ='کاربرگ 6'!F99 -> 0 | M88: ='کاربرگ 6'!G15 -> 0 | N88: ='کاربرگ 6'!G27 -> 0 | O88: ='کاربرگ 6'!G39 -> 0 | P88: ='کاربرگ 6'!G51 -> 0 | Q88: ='کاربرگ 6'!G63 -> 0 | R88: ='کاربرگ 6'!G75 -> 0 | S88: ='کاربرگ 6'!G87 -> 0 | T88: ='کاربرگ 6'!G99 -> 0 | U88: ='کاربرگ 6'!H15 -> 0 | V88: ='کاربرگ 6'!H27 -> 0 | W88: ='کاربرگ 6'!H39 -> 0 | X88: ='کاربرگ 6'!H51 -> 0 | Y88: ='کاربرگ 6'!H63 -> 0 | Z88: ='کاربرگ 6'!H75 -> 0 | AA88: ='کاربرگ 6'!H87 -> 0 | AB88: ='کاربرگ 6'!H99 -> 0
B89: 83 | D89: آیا سند مطالبات احتمالی غیر بیمه ای موسسه به صورت تعهدی ثبت شده است ؟ | E89: ='کاربرگ 6'!F16 -> 0 | F89: ='کاربرگ 6'!F28 -> 0 | G89: ='کاربرگ 6'!F40 -> 0 | H89: ='کاربرگ 6'!F52 -> 0 | I89: ='کاربرگ 6'!F64 -> 0 | J89: ='کاربرگ 6'!F76 -> 0 | K89: ='کاربرگ 6'!F88 -> 0 | L89: ='کاربرگ 6'!F100 -> 0 | M89: ='کاربرگ 6'!G16 -> 0 | N89: ='کاربرگ 6'!G28 -> 0 | O89: ='کاربرگ 6'!G40 -> 0 | P89: ='کاربرگ 6'!G52 -> 0 | Q89: ='کاربرگ 6'!G64 -> 0 | R89: ='کاربرگ 6'!G76 -> 0 | S89: ='کاربرگ 6'!G88 -> 0 | T89: ='کاربرگ 6'!G100 -> 0 | U89: ='کاربرگ 6'!H16 -> 0 | V89: ='کاربرگ 6'!H28 -> 0 | W89: ='کاربرگ 6'!H40 -> 0 | X89: ='کاربرگ 6'!H52 -> 0 | Y89: ='کاربرگ 6'!H64 -> 0 | Z89: ='کاربرگ 6'!H76 -> 0 | AA89: ='کاربرگ 6'!H88 -> 0 | AB89: ='کاربرگ 6'!H100 -> 0
B90: 84 | C90: آیا کاربرگ نهایی درآمد جهت بررسی ارسال شده است ؟ | E90: ='کاربرگ 7'!E5 -> 0 | M90: ='کاربرگ 7'!M5 -> 0 | U90: ='کاربرگ 7'!U5 -> 0
B91: 85 | C91: کنترل افتتاحیه | D91: آیا مانده طلب از شرکتهای بیمه ای سال 1390 با کاربرگ ارسالی تطبیق دارد؟ | E91: ='کاربرگ 7'!E6 -> 0 | M91: ='کاربرگ 7'!M6 -> 0 | U91: ='کاربرگ 7'!U6 -> 0
B92: 86 | D92: آیا مانده نسخ ارسال نشده به بیمه سال 1390 با کاربرگ ارسالی تطبیق دارد؟ | E92: ='کاربرگ 7'!E7 -> 0 | M92: ='کاربرگ 7'!M7 -> 0 | U92: ='کاربرگ 7'!U7 -> 0
B93: 87 | C93: درآمد نقدی | D93: آیا درآمد نقدی خدمات ارائه شده در دفاتر ثبت شده است؟ | E93: ='کاربرگ 7'!E8 -> 0 | M93: ='کاربرگ 7'!M8 -> 0 | U93: ='کاربرگ 7'!U8 -> 0
B94: 88 | D94: آیا تیک نقدی و تعهدی رعایت شده است؟ | E94: ='کاربرگ 7'!E9 -> 0 | M94: ='کاربرگ 7'!M9 -> 0 | U94: ='کاربرگ 7'!U9 -> 0
B95: 89 | D95: آیا درآمد نقدی خدمات ارائه شده با کاربرگ ارسالی تطبیق داده شده است ؟ | E95: ='کاربرگ 7'!E10 -> 0 | M95: ='کاربرگ 7'!M10 -> 0 | U95: ='کاربرگ 7'!U10 -> 0
B96: 90 | C96: نسخ دریافتی | D96: آیا نسخ دریافتی ارسال نشده به ریز شرکتهای بیمه ای در دفاتر ثبت شده است ؟ | E96: ='کاربرگ 7'!E11 -> 0 | M96: ='کاربرگ 7'!M11 -> 0 | U96: ='کاربرگ 7'!U11 -> 0
B97: 91 | D97: آیا تیک نقدی و تعهدی رعایت شده است؟ | E97: ='کاربرگ 7'!E12 -> 0 | M97: ='کاربرگ 7'!M12 -> 0 | U97: ='کاربرگ 7'!U12 -> 0
B98: 92 | D98: آیا نسخ دریافتی ارسال نشده بیمه ای به ریز شرکتها با کاربرگ ارسالی کنترل شده است ؟ | E98: ='کاربرگ 7'!E13 -> 0 | M98: ='کاربرگ 7'!M13 -> 0 | U98: ='کاربرگ 7'!U13 -> 0
B99: 93 | C99: نسخ ارسالی | D99: آیا طلب از شرکتهای بیمه ای(نسخ ارسالی به بیمه) در دفاتر ثبت شده است ؟ | E99: ='کاربرگ 7'!E14 -> 0 | M99: ='کاربرگ 7'!M14 -> 0 | U99: ='کاربرگ 7'!U14 -> 0
B100: 94 | D100: آیا تیک نقدی و تعهدی رعایت شده است؟ | E100: ='کاربرگ 7'!E15 -> 0 | M100: ='کاربرگ 7'!M15 -> 0 | U100: ='کاربرگ 7'!U15 -> 0
B101: 95 | D101: آیا طلب از شرکتهای بیمه ای به ریز شرکتها با کاربرگ ارسالی کنترل شده است ؟ | E101: ='کاربرگ 7'!E16 -> 0 | M101: ='کاربرگ 7'!M16 -> 0 | U101: ='کاربرگ 7'!U16 -> 0
...

Sheet کاربرگ 1
B1: دانشگاه علوم پزشکی و خدمات بهداشتی درمانی کرمان
B2: کاربرگ گام به گام بستن حسابهای سال 1393
B3: ستاد دانشگاه
B4: ردیف | C4: شرح | F4: انجام شده | G4: بررسی توسط شرکت | H4: توضیحات | I4: نکته : در تکمیل این کاربرگ به تعداد انبارهای فیزیکی دقت نمائید .
B5: 1 | C5: ستاد دانشگاه | D5: انبار | E5: آیا گزارش انبارگردانی جهت کنترل موجودی انبار ارسال شده است ؟
B6: 2 | E6: آیا شمارش انبار گردانی کالا در سیستم ثبت شده است؟
B7: 3 | E7: آیا رسید و حواله کسر و اضافه انبارگردانی صادر و تأیید شده است؟
B8: 4 | E8: آیا کله رسیدهای کالاهای ارسالی از واحدهای تابعه و ستاد صادر شده است؟
B9: 5 | E9: آیا کلیه رسید ها از مرحله تأیید نشده رد شده است؟
B10: 6 | E10: آیا کلیه رسیدها نرخ گذاری و تأیید شده است؟
B11: 7 | E11: آیا سند حسابداری رسیدهای انبار صادر شده است؟
B12: 8 | E12: آیا کلیه حواله های انبار از مرحله تأیید نشده رد شده است؟
B13: 9 | E13: آیا سند حسابداری حواله های انبار صادر شده است؟
B14: 10 | E14: آیا موجودی انبار پایان دوره با انبارگردانی کنترل شده است؟
B15: 11 | D15: اموال | E15: آیا تأییدیه اتمام ثبت اموال واحد به همراه آخرین شناسه اموال ثبت شده ارسال شده است؟
B16: 12 | E16: آیا سند حسابداری اموال ابتدای دوره صادر شده است؟
B17: 13 | E17: آیا کارتهای اموال ایجاد شده از حواله های انبار نهایی شده است ؟
B18: 14 | E18: آیا فرم شماره 16 در اتاق ها نصب شده و با نرم افزار تطابق دارد؟
B19: 15 | C19: معاونت آموزشی | D19: انبار | E19: آیا گزارش انبارگردانی جهت کنترل موجودی انبار ارسال شده است ؟
B20: 16 | E20: آیا شمارش انبار گردانی کالا در سیستم ثبت شده است؟
B21: 17 | E21: آیا رسید و حواله کسر و اضافه انبارگردانی صادر و تأیید شده است؟
B22: 18 | E22: آیا کله رسیدهای کالاهای ارسالی از واحدهای تابعه و ستاد صادر شده است؟
B23: 19 | E23: آیا کلیه رسید ها از مرحله تأیید نشده رد شده است؟
B24: 20 | E24: آیا کلیه رسیدها نرخ گذاری و تأیید شده است؟
B25: 21 | E25: آیا سند حسابداری رسیدهای انبار صادر شده است؟
B26: 22 | E26: آیا کلیه حواله های انبار از مرحله تأیید نشده رد شده است؟
B27: 23 | E27: آیا سند حسابداری حواله های انبار صادر شده است؟
B28: 24 | E28: آیا موجودی انبار پایان دوره با انبارگردانی کنترل شده است؟
B29: 24 | D29: اموال | E29: آیا تأییدیه اتمام ثبت اموال واحد به همراه آخرین شناسه اموال ثبت شده ارسال شده است؟
B30: 25 | E30: آیا سند حسابداری اموال ابتدای دوره صادر شده است؟
B31: 26 | E31: آیا کارتهای اموال ایجاد شده از حواله های انبار نهایی شده است ؟
B32: 27 | E32: آیا فرم شماره 16 در اتاق ها نصب شده و با نرم افزار تطابق دارد؟
B33: 28 | C33: معاونت بهداشتی | D33: انبار | E33: آیا گزارش انبارگردانی جهت کنترل موجودی انبار ارسال شده است ؟
B34: 29 | E34: آیا شمارش انبار گردانی کالا در سیستم ثبت شده است؟
B35: 30 | E35: آیا رسید و حواله کسر و اضافه انبارگردانی صادر و تأیید شده است؟
B36: 31 | E36: آیا کله رسیدهای کالاهای ارسالی از واحدهای تابعه و ستاد صادر شده است؟
B37: 32 | E37: آیا کلیه رسید ها از مرحله تأیید نشده رد شده است؟
B38: 33 | E38: آیا کلیه رسیدها نرخ گذاری و تأیید شده است؟
B39: 34 | E39: آیا سند حسابداری رسیدهای انبار صادر شده است؟
B40: 35 | E40: آیا کلیه حواله های انبار از مرحله تأیید نشده رد شده است؟
B41: 36 | E41: آیا سند حسابداری حواله های انبار صادر شده است؟
B42: 37 | E42: آیا موجودی انبار پایان دوره با انبارگردانی کنترل شده است؟
B43: 37 | D43: اموال | E43: آیا تأییدیه اتمام ثبت اموال واحد به همراه آخرین شناسه اموال ثبت شده ارسال شده است؟
B44: 38 | E44: آیا سند حسابداری اموال ابتدای دوره صادر شده است؟
B45: 39 | E45: آیا کارتهای اموال ایجاد شده از حواله های انبار نهایی شده است ؟
B46: 40 | E46: آیا فرم شماره 16 در اتاق ها نصب شده و با نرم افزار تطابق دارد؟
B47: 41 | C47: معاونت پژوهشی | D47: انبار | E47: آیا گزارش انبارگردانی جهت کنترل موجودی انبار ارسال شده است ؟
B48: 42 | E48: آیا شمارش انبار گردانی کالا در سیستم ثبت شده است؟
B49: 43 | E49: آیا رسید و حواله کسر و اضافه انبارگردانی صادر و تأیید شده است؟
B50: 44 | E50: آیا کله رسیدهای کالاهای ارسالی از واحدهای تابعه و ستاد صادر شده است؟
B51: 45 | E51: آیا کلیه رسید ها از مرحله تأیید نشده رد شده است؟
B52: 46 | E52: آیا کلیه رسیدها نرخ گذاری و تأیید شده است؟
B53: 47 | E53: آیا سند حسابداری رسیدهای انبار صادر شده است؟
B54: 48 | E54: آیا کلیه حواله های انبار از مرحله تأیید نشده رد شده است؟
B55: 49 | E55: آیا سند حسابداری حواله های انبار صادر شده است؟
B56: 50 | E56: آیا موجودی انبار پایان دوره با انبارگردانی کنترل شده است؟
B57: 51 | D57: اموال | E57: آیا تأییدیه اتمام ثبت اموال واحد به همراه آخرین شناسه اموال ثبت شده ارسال شده است؟
B58: 52 | E58: آیا سند حسابداری اموال ابتدای دوره صادر شده است؟
B59: 53 | E59: آیا کارتهای اموال ایجاد شده از حواله های انبار نهایی شده است ؟
B60: 54 | E60: آیا فرم شماره 16 در اتاق ها نصب شده و با نرم افزار تطابق دارد؟
B61: 55 | C61: معاونت توسعه | D61: انبار | E61: آیا گزارش انبارگردانی جهت کنترل موجودی انبار ارسال شده است ؟
B62: 56 | E62: آیا شمارش انبار گردانی کالا در سیستم ثبت شده است؟
B63: 57 | E63: آیا رسید و حواله کسر و اضافه انبارگردانی صادر و تأیید شده است؟
B64: 58 | E64: آیا کله رسیدهای کالاهای ارسالی از واحدهای تابعه و ستاد صادر شده است؟
B65: 59 | E65: آیا کلیه رسید ها از مرحله تأیید نشده رد شده است؟
B66: 60 | E66: آیا کلیه رسیدها نرخ گذاری و تأیید شده است؟
B67: 61 | E67: آیا سند حسابداری رسیدهای انبار صادر شده است؟
B68: 62 | E68: آیا کلیه حواله های انبار از مرحله تأیید نشده رد شده است؟
B69: 63 | E69: آیا سند حسابداری حواله های انبار صادر شده است؟
B70: 64 | E70: آیا موجودی انبار پایان دوره با انبارگردانی کنترل شده است؟
B71: 65 | D71: اموال | E71: آیا تأییدیه اتمام ثبت اموال واحد به همراه آخرین شناسه اموال ثبت شده ارسال شده است؟
B72: 66 | E72: آیا سند حسابداری اموال ابتدای دوره صادر شده است؟
B73: 67 | E73: آیا کارتهای اموال ایجاد شده از حواله های انبار نهایی شده است ؟
B74: 68 | E74: آیا فرم شماره 16 در اتاق ها نصب شده و با نرم افزار تطابق دارد؟
B75: 69 | C75: معاونت غذا و دارو | D75: انبار | E75: آیا گزارش انبارگردانی جهت کنترل موجودی انبار ارسال شده است ؟
B76: 70 | E76: آیا شمارش انبار گردانی کالا در سیستم ثبت شده است؟
B77: 71 | E77: آیا رسید و حواله کسر و اضافه انبارگردانی صادر و تأیید شده است؟
B78: 72 | E78: آیا کله رسیدهای کالاهای ارسالی از واحدهای تابعه و ستاد صادر شده است؟
B79: 73 | E79: آیا کلیه رسید ها از مرحله تأیید نشده رد شده است؟
B80: 74 | E80: آیا کلیه رسیدها نرخ گذاری و تأیید شده است؟
B81: 75 | E81: آیا سند حسابداری رسیدهای انبار صادر شده است؟
B82: 76 | E82: آیا کلیه حواله های انبار از مرحله تأیید نشده رد شده است؟
B83: 77 | E83: آیا سند حسابداری حواله های انبار صادر شده است؟
B84: 78 | E84: آیا موجودی انبار پایان دوره با انبارگردانی کنترل شده است؟
B85: 79 | D85: اموال | E85: آیا تأییدیه اتمام ثبت اموال واحد به همراه آخرین شناسه اموال ثبت شده ارسال شده است؟
B86: 80 | E86: آیا سند حسابداری اموال ابتدای دوره صادر شده است؟
B87: 81 | E87: آیا کارتهای اموال ایجاد شده از حواله های انبار نهایی شده است ؟
B88: 82 | E88: آیا فرم شماره 16 در اتاق ها نصب شده و با نرم افزار تطابق دارد؟
B89: 83 | C89: معاونت دانشجویی و فرهنگی | D89: انبار | E89: آیا گزارش انبارگردانی جهت کنترل موجودی انبار ارسال شده است ؟
B90: 84 | E90: آیا شمارش انبار گردانی کالا در سیستم ثبت شده است؟
B91: 85 | E91: آیا رسید و حواله کسر و اضافه انبارگردانی صادر و تأیید شده است؟
B92: 86 | E92: آیا کله رسیدهای کالاهای ارسالی از واحدهای تابعه و ستاد صادر شده است؟
B93: 87 | E93: آیا کلیه رسید ها از مرحله تأیید نشده رد شده است؟
B94: 88 | E94: آیا کلیه رسیدها نرخ گذاری و تأیید شده است؟
B95: 89 | E95: آیا سند حسابداری رسیدهای انبار صادر شده است؟
B96: 90 | E96: آیا کلیه حواله های انبار از مرحله تأیید نشده رد شده است؟
B97: 91 | E97: آیا سند حسابداری حواله های انبار صادر شده است؟
B98: 92 | E98: آیا موجودی انبار پایان دوره با انبارگردانی کنترل شده است؟
B99: 93 | D99: اموال | E99: آیا تأییدیه اتمام ثبت اموال واحد به همراه آخرین شناسه اموال ثبت شده ارسال شده است؟
B100: 94 | E100: آیا سند حسابداری اموال ابتدای دوره صادر شده است؟
...

Sheet کاربرگ 2
A1: دانشگاه علوم پزشکی و خدمات بهداشتی درمانی کرمان
A2: کاربرگ گام به گام بستن حسابهای سال 1393
A3: ستاد دانشگاه
B4: ردیف | C4: شرح | F4: انجام شده | G4: بررسی توسط شرکت | H4: توضیحات
B5: 1 | C5: ستاد دانشگاه | D5: آیا کاربرگ نهایی حقوق خزانه جهت بررسی ارسال شده است؟
B6: 2 | D6: شناسایی حقوق | E6: آیا سند شناسایی حقوق خزانه ثبت شده است؟
B7: 3 | E7: آیا سند شناسایی حقوق خزانه از لحاظ نقدی و تعهدی بررسی شده است ؟
B8: 4 | E8: آیا سند شناسایی حقوق خزانه با کاربرگ حقوق خزانه از نظر مبلغ کنترل شده است؟
B9: 5 | E9: آیا سند شناسایی حقوق خزانه با کاربرگ حقوق خزانه از نظر T1 کنترل شده است؟
B10: 6 | E10: آیا سند شناسایی حقوق خزانه با کاربرگ حقوق خزانه از نظر T2 کنترل شده است؟
B11: 7 | D11: خالص پرداختی | E11: آیا سند خالص پرداخت حقوق خزانه ثبت شده است؟
B12: 8 | E12: آیا سند خالص پرداخت حقوق خزانه از لحاظ نقدی و تعهدی بررسی شده است ؟
B13: 9 | E13: آیا سند خالص پرداختی حقوق خزانه با کاربرگ حقوق خزانه از نظر مبلغ کنترل شده است؟
B14: 10 | E14: آیا سند خالص پرداختی حقوق خزانه با کاربرگ حقوق خزانه از نظر T1 کنترل شده است؟
B15: 11 | E15: آیا سند خالص پرداختی حقوق خزانه با کاربرگ حقوق خزانه از نظر T2 کنترل شده است؟
B16: 12 | D16: سایر کسور | E16: آیا سند سایر کسور حقوق خزانه ثبت شده است؟
B17: 13 | E17: آیا سند سایر کسور حقوق خزانه از لحاظ نقدی و تعهدی بررسی شده است ؟
B18: 14 | E18: آیا سند سایر کسور حقوق خزانه با کاربرگ حقوق خزانه از نظر مبلغ کنترل شده است؟
B19: 15 | E19: آیا سند خالص پرداختی حقوق خزانه با کاربرگ حقوق خزانه از نظر T1 کنترل شده است؟
B20: 16 | E20: آیا سند خالص پرداختی حقوق خزانه با کاربرگ حقوق خزانه از نظر T2 کنترل شده است؟
B21: 17 | D21: کسور قانونی | E21: آیا سند کسور قانونی حقوق خزانه ثبت شده است؟
B22: 18 | E22: آیا سند کسور قانونی حقوق خزانه از لحاظ نقدی و تعهدی بررسی شده است ؟
B23: 19 | E23: آیا سند کسور قانونی حقوق خزانه با کاربرگ حقوق خزانه از نظر مبلغ کنترل شده است؟
B24: 20 | E24: آیا سند کسور حقوق خزانه با کاربرگ حقوق خزانه از نظر T1 کنترل شده است؟
B25: 21 | E25: آیا سند کسور حقوق خزانه با کاربرگ حقوق خزانه از نظر T2 کنترل شده است؟
B26: 22 | C26: معاونت آموزشی | D26: آیا کاربرگ نهایی حقوق خزانه جهت بررسی ارسال شده است؟
B27: 23 | D27: شناسایی حقوق | E27: آیا سند شناسایی حقوق خزانه ثبت شده است؟
B28: 24 | E28: آیا سند شناسایی حقوق خزانه از لحاظ نقدی و تعهدی بررسی شده است ؟
B29: 25 | E29: آیا سند شناسایی حقوق خزانه با کاربرگ حقوق خزانه از نظر مبلغ کنترل شده است؟
B30: 26 | E30: آیا سند شناسایی حقوق خزانه با کاربرگ حقوق خزانه از نظر T1 کنترل شده است؟
B31: 27 | E31: آیا سند شناسایی حقوق خزانه با کاربرگ حقوق خزانه از نظر T2 کنترل شده است؟
B32: 28 | D32: خالص پرداختی | E32: آیا سند خالص پرداخت حقوق خزانه ثبت شده است؟
B33: 29 | E33: آیا سند خالص پرداخت حقوق خزانه از لحاظ نقدی و تعهدی بررسی شده است ؟
B34: 30 | E34: آیا سند خالص پرداختی حقوق خزانه با کاربرگ حقوق خزانه از نظر مبلغ کنترل شده است؟
B35: 31 | E35: آیا سند خالص پرداختی حقوق خزانه با کاربرگ حقوق خزانه از نظر T1 کنترل شده است؟
B36: 32 | E36: آیا سند خالص پرداختی حقوق خزانه با کاربرگ حقوق خزانه از نظر T2 کنترل شده است؟
B37: 33 | D37: سایر کسور | E37: آیا سند سایر کسور حقوق خزانه ثبت شده است؟
B38: 34 | E38: آیا سند سایر کسور حقوق خزانه از لحاظ نقدی و تعهدی بررسی شده است ؟
B39: 35 | E39: آیا سند سایر کسور حقوق خزانه با کاربرگ حقوق خزانه از نظر مبلغ کنترل شده است؟
B40: 36 | E40: آیا سند خالص پرداختی حقوق خزانه با کاربرگ حقوق خزانه از نظر T1 کنترل شده است؟
B41: 37 | E41: آیا سند خالص پرداختی حقوق خزانه با کاربرگ حقوق خزانه از نظر T2 کنترل شده است؟
B42: 38 | D42: کسور قانونی | E42: آیا سند کسور قانونی حقوق خزانه ثبت شده است؟
B43: 39 | E43: آیا سند کسور قانونی حقوق خزانه از لحاظ نقدی و تعهدی بررسی شده است ؟
B44: 40 | E44: آیا سند کسور قانونی حقوق خزانه با کاربرگ حقوق خزانه از نظر مبلغ کنترل شده است؟
B45: 41 | E45: آیا سند کسور حقوق خزانه با کاربرگ حقوق خزانه از نظر T1 کنترل شده است؟
B46: 42 | E46: آیا سند کسور حقوق خزانه با کاربرگ حقوق خزانه از نظر T2 کنترل شده است؟
B47: 43 | C47: معاونت بهداشتی | D47: آیا کاربرگ نهایی حقوق خزانه جهت بررسی ارسال شده است؟
B48: 44 | D48: شناسایی حقوق | E48: آیا سند شناسایی حقوق خزانه ثبت شده است؟
B49: 45 | E49: آیا سند شناسایی حقوق خزانه از لحاظ نقدی و تعهدی بررسی شده است ؟
B50: 46 | E50: آیا سند شناسایی حقوق خزانه با کاربرگ حقوق خزانه از نظر مبلغ کنترل شده است؟
B51: 47 | E51: آیا سند شناسایی حقوق خزانه با کاربرگ حقوق خزانه از نظر T1 کنترل شده است؟
B52: 48 | E52: آیا سند شناسایی حقوق خزانه با کاربرگ حقوق خزانه از نظر T2 کنترل شده است؟
B53: 49 | D53: خالص پرداختی | E53: آیا سند خالص پرداخت حقوق خزانه ثبت شده است؟
B54: 50 | E54: آیا سند خالص پرداخت حقوق خزانه از لحاظ نقدی و تعهدی بررسی شده است ؟
B55: 51 | E55: آیا سند خالص پرداختی حقوق خزانه با کاربرگ حقوق خزانه از نظر مبلغ کنترل شده است؟
B56: 52 | E56: آیا سند خالص پرداختی حقوق خزانه با کاربرگ حقوق خزانه از نظر T1 کنترل شده است؟
B57: 53 | E57: آیا سند خالص پرداختی حقوق خزانه با کاربرگ حقوق خزانه از نظر T2 کنترل شده است؟
B58: 54 | D58: سایر کسور | E58: آیا سند سایر کسور حقوق خزانه ثبت شده است؟
B59: 55 | E59: آیا سند سایر کسور حقوق خزانه از لحاظ نقدی و تعهدی بررسی شده است ؟
B60: 56 | E60: آیا سند سایر کسور حقوق خزانه با کاربرگ حقوق خزانه از نظر مبلغ کنترل شده است؟
B61: 57 | E61: آیا سند خالص پرداختی حقوق خزانه با کاربرگ حقوق خزانه از نظر T1 کنترل شده است؟
B62: 58 | E62: آیا سند خالص پرداختی حقوق خزانه با کاربرگ حقوق خزانه از نظر T2 کنترل شده است؟
B63: 59 | D63: کسور قانونی | E63: آیا سند کسور قانونی حقوق خزانه ثبت شده است؟
B64: 60 | E64: آیا سند کسور قانونی حقوق خزانه از لحاظ نقدی و تعهدی بررسی شده است ؟
B65: 61 | E65: آیا سند کسور قانونی حقوق خزانه با کاربرگ حقوق خزانه از نظر مبلغ کنترل شده است؟
B66: 62 | E66: آیا سند کسور حقوق خزانه با کاربرگ حقوق خزانه از نظر T1 کنترل شده است؟
B67: 63 | E67: آیا سند کسور حقوق خزانه با کاربرگ حقوق خزانه از نظر T2 کنترل شده است؟
B68: 64 | C68: معاونت پژوهشی | D68: آیا کاربرگ نهایی حقوق خزانه جهت بررسی ارسال شده است؟
B69: 65 | D69: شناسایی حقوق | E69: آیا سند شناسایی حقوق خزانه ثبت شده است؟
B70: 66 | E70: آیا سند شناسایی حقوق خزانه از لحاظ نقدی و تعهدی بررسی شده است ؟
B71: 67 | E71: آیا سند شناسایی حقوق خزانه با کاربرگ حقوق خزانه از نظر مبلغ کنترل شده است؟
B72: 68 | E72: آیا سند شناسایی حقوق خزانه با کاربرگ حقوق خزانه از نظر T1 کنترل شده است؟
B73: 69 | E73: آیا سند شناسایی حقوق خزانه با کاربرگ حقوق خزانه از نظر T2 کنترل شده است؟
B74: 70 | D74: خالص پرداختی | E74: آیا سند خالص پرداخت حقوق خزانه ثبت شده است؟
B75: 71 | E75: آیا سند خالص پرداخت حقوق خزانه از لحاظ نقدی و تعهدی بررسی شده است ؟
B76: 72 | E76: آیا سند خالص پرداختی حقوق خزانه با کاربرگ حقوق خزانه از نظر مبلغ کنترل شده است؟
B77: 73 | E77: آیا سند خالص پرداختی حقوق خزانه با کاربرگ حقوق خزانه از نظر T1 کنترل شده است؟
B78: 74 | E78: آیا سند خالص پرداختی حقوق خزانه با کاربرگ حقوق خزانه از نظر T2 کنترل شده است؟
B79: 75 | D79: سایر کسور | E79: آیا سند سایر کسور حقوق خزانه ثبت شده است؟
B80: 76 | E80: آیا سند سایر کسور حقوق خزانه از لحاظ نقدی و تعهدی بررسی شده است ؟
B81: 77 | E81: آیا سند سایر کسور حقوق خزانه با کاربرگ حقوق خزانه از نظر مبلغ کنترل شده است؟
B82: 78 | E82: آیا سند خالص پرداختی حقوق خزانه با کاربرگ حقوق خزانه از نظر T1 کنترل شده است؟
B83: 79 | E83: آیا سند خالص پرداختی حقوق خزانه با کاربرگ حقوق خزانه از نظر T2 کنترل شده است؟
B84: 80 | D84: کسور قانونی | E84: آیا سند کسور قانونی حقوق خزانه ثبت شده است؟
B85: 81 | E85: آیا سند کسور قانونی حقوق خزانه از لحاظ نقدی و تعهدی بررسی شده است ؟
B86: 82 | E86: آیا سند کسور قانونی حقوق خزانه با کاربرگ حقوق خزانه از نظر مبلغ کنترل شده است؟
B87: 83 | E87: آیا سند کسور حقوق خزانه با کاربرگ حقوق خزانه از نظر T1 کنترل شده است؟
B88: 84 | E88: آیا سند کسور حقوق خزانه با کاربرگ حقوق خزانه از نظر T2 کنترل شده است؟
B89: 85 | C89: معاونت توسعه | D89: آیا کاربرگ نهایی حقوق خزانه جهت بررسی ارسال شده است؟
B90: 86 | D90: شناسایی حقوق | E90: آیا سند شناسایی حقوق خزانه ثبت شده است؟
B91: 87 | E91: آیا سند شناسایی حقوق خزانه از لحاظ نقدی و تعهدی بررسی شده است ؟
B92: 88 | E92: آیا سند شناسایی حقوق خزانه با کاربرگ حقوق خزانه از نظر مبلغ کنترل شده است؟
B93: 89 | E93: آیا سند شناسایی حقوق خزانه با کاربرگ حقوق خزانه از نظر T1 کنترل شده است؟
B94: 90 | E94: آیا سند شناسایی حقوق خزانه با کاربرگ حقوق خزانه از نظر T2 کنترل شده است؟
B95: 91 | D95: خالص پرداختی | E95: آیا سند خالص پرداخت حقوق خزانه ثبت شده است؟
B96: 92 | E96: آیا سند خالص پرداخت حقوق خزانه از لحاظ نقدی و تعهدی بررسی شده است ؟
B97: 93 | E97: آیا سند خالص پرداختی حقوق خزانه با کاربرگ حقوق خزانه از نظر مبلغ کنترل شده است؟
B98: 94 | E98: آیا سند خالص پرداختی حقوق خزانه با کاربرگ حقوق خزانه از نظر T1 کنترل شده است؟
B99: 95 | E99: آیا سند خالص پرداختی حقوق خزانه با کاربرگ حقوق خزانه از نظر T2 کنترل شده است؟
B100: 96 | D100: سایر کسور | E100: آیا سند سایر کسور حقوق خزانه ثبت شده است؟
...

Sheet کاربرگ  3
B1: دانشگاه علوم پزشکی و خدمات بهداشتی درمانی کرمان
B2: کاربرگ گام به گام بستن حسابهای سال 1393
B3: ستاد دانشگاه
B4: ردیف | C4: شرح | E4: انجام شده | F4: بررسی توسط شرکت | G4: توضیحات
B5: 1 | C5: آیا رابط حقوق از لحاظ مبلغ با کاربرگ کنترل شده است ؟
B6: 2 | C6: آیا رابط حقوق از لحاظ T2 با کاربرگ حقوق کنترل شده است ؟
B7: 3 | C7: آیا رابط حقوق از لحاظ T3 کنترل شده است ؟

Sheet کاربرگ  1-3
B1: دانشگاه علوم پزشکی و خدمات بهداشتی درمانی کرمان
B2: کاربرگ گام به گام بستن حسابهای سال 1393
B3: ستاد دانشگاه
B4: رديف | C4: كد حساب | D4: شرح | E4: شناسه فعالیت در ستاد | F4: گردش | H4: مانده
F5: بدهكار | G5: بستانكار | H5: بدهكار | I5: بستانكار
B6: 1
B7: 2
B8: 3
B9: 4
B10: 5
B11: 6
B12: 7
B13: 8
B14: 9
B15: 10
B16: 11
B17: 12
... B30: 25

Sheet کاربرگ 4
B1: دانشگاه علوم پزشکی و خدمات بهداشتی درمانی کرمان
B2: کاربرگ گام به گام بستن حسابهای سال 1393
B3: ستاد دانشگاه
B4: ردیف | C4: شرح | E4: انجام شده | F4: بررسی توسط شرکت | G4: توضیحات
B5: 1 | C5: رابط اعتبار | D5: آیا سند اعتبارات سایر دریافتی ثبت شده است ؟
B6: 2 | D6: آیا سند اعتبارات سایر دریافتی از لحاظ نقدی و تعهدی بررسی شده است ؟
B7: 3 | D7: آیا رابط اعتبار ستاد و واحد از لحاظ مبلغ باهم کنترل شده است ؟
B8: 4 | D8: آیا تخصیص اعتبار رابط بودجه ای در واحدها ثبت شده است؟
B9: 5 | D9: آیا رابط اعتبار ستاد و واحد از لحاظT2 باهم کنترل شده است ؟
B10: 6 | D10: آیا رابط اعتبار از لحاظ T3 کنترل شده است ؟

Sheet کاربرگ  1-4
B1: دانشگاه علوم پزشکی و خدمات بهداشتی درمانی کرمان
B2: کاربرگ گام به گام بستن حسابهای سال 1393
B3: ستاد دانشگاه
B4: رديف | C4: كد حساب | D4: شرح | E4: شناسه فعالیت در ستاد | F4: گردش | H4: مانده
F5: بدهكار | G5: بستانكار | H5: بدهكار | I5: بستانكار
B6: 1
B7: 2
B8: 3
B9: 4
B10: 5
B11: 6
B12: 7
B13: 8
B14: 9
B15: 10
B16: 11
B17: 12
... B30: 25

Sheet کاربرگ 5
B1: دانشگاه علوم پزشکی و خدمات بهداشتی درمانی کرمان
B2: کاربرگ گام به گام بستن حسابهای سال 1393
B3: ستاد دانشگاه
B4: ردیف | C4: شرح | E4: انجام شده | F4: بررسی توسط شرکت | G4: توضیحات
B5: 1 | C5: رابط موجودی کالا | D5: آیا رابط موجودی کالای واحدهای ارسال کننده با این واحد از لحاظ مبلغ باهم کنترل شده است ؟
B6: 2 | D6: آیا سند رابط موجودی کالا از لحاظ نقدی و تعهدی بررسی شده است ؟
B7: 3 | D7: آیا رابط موجودی کالای واحدهای ارسال کننده با این واحد از لحاظT2 باهم کنترل شده است ؟
B8: 4 | D8: آیا رابط موجودی کالای واحدهای ارسال کننده با این واحد از لحاظ T3 کنترل شده است ؟
B9: 5 | C9: رابط اموال | D9: آیا رابط اموال واحدهای ارسال کننده با این واحد از لحاظ مبلغ باهم کنترل شده است ؟
B10: 6 | D10: آیا سند رابط اموال از لحاظ نقدی و تعهدی بررسی شده است ؟
B11: 7 | D11: آیا رابط اموال واحدهای ارسال کننده با این واحد از لحاظT2 باهم کنترل شده است ؟
B12: 8 | D12: آیا رابط اموال واحدهای ارسال کننده با این واحد از لحاظ T3 کنترل شده است ؟
B13: 9 | C13: رابط سپرده | D13: آیا سند ارسال وجوه سپرده ها به ستاد ثبت شده است ؟
B14: 10 | D14: آیا سند رابط سپرده از لحاظ نقدی و تعهدی بررسی شده است ؟
B15: 11 | D15: آیا رابط سپرده با حساب سپرده با هم کنترل شده است؟
B16: 12 | D16: آیا رابط سپرده ستاد و واحد از لحاظ مبلغ باهم کنترل شده است ؟
B17: 13 | D17: آیا رابط سپرده ستاد و واحد از لحاظT1 باهم کنترل شده است ؟
B18: 14 | D18: آیا رابط سپرده ستاد و واحد از لحاظT2 باهم کنترل شده است ؟
B19: 15 | D19: آیا رابط سپرده از لحاظ T3 کنترل شده است ؟
B20: 16 | C20: رابط سایر | D20: آیا اسناد رابط سایر (معاملات فی مابین واحدها) ثبت شده است ؟
B21: 17 | D21: آیا سند رابط سایر از لحاظ نقدی و تعهدی بررسی شده است ؟
B22: 18 | D22: آیا رابط سایر واحدهای ذینفع با این واحد از لحاظ مبلغ باهم کنترل شده است ؟
B23: 19 | D23: آیا رابط سایر واحدهای ذینفع با این واحد از لحاظT1 باهم کنترل شده است ؟
B24: 20 | D24: آیا رابط سایر واحدهای ذینفع با این واحد از لحاظT2 باهم کنترل شده است ؟
B25: 21 | D25: آیا رابط سایر واحدهای ذینفع با این واحد از لحاظT3 باهم کنترل شده است ؟
B26: 22 | C26: رابط درآمد | D26: آیا سند درآمد ارسالی به ستاد در دفاتر ثبت شده است ؟
B27: 23 | D27: آیا تیک نقدی و تعهدی رعایت شده است؟
B28: 24 | D28: آیا رابط درآمد ستاد و واحد از لحاظ مبلغ باهم کنترل شده است ؟
B29: 25 | D29: آیا رابط درآمد ستاد و واحد از لحاظT1 باهم کنترل شده است ؟
B30: 26 | D30: آیا رابط درآمد ستاد و واحد از لحاظT2 باهم کنترل شده است ؟
B31: 27 | D31: آیا رابط درآمد از لحاظ T3 کنترل شده است ؟

Sheet کاربرگ  1-5
B1: دانشگاه علوم پزشکی و خدمات بهداشتی درمانی کرمان
B2: کاربرگ گام به گام بستن حسابهای سال 1393
B3: ستاد دانشگاه
B4: رديف | C4: كد حساب | D4: شرح | E4: شناسه فعالیت در ستاد | F4: نقدی / تعهدی | G4: گردش | I4: مانده
G5: بدهكار | H5: بستانكار | I5: بدهكار | J5: بستانكار
B6: 1
B7: 2
B8: 3
B9: 4
B10: 5
B11: 6
B12: 7
B13: 8
B14: 9
B15: 10
B16: 11
B17: 12
... B30: 25

Sheet کاربرگ 6
B1: دانشگاه علوم پزشکی و خدمات بهداشتی درمانی کرمان
B2: کاربرگ گام به گام بستن حسابهای سال 1393
B3: ستاد دانشگاه
B4: ردیف | C4: شرح | F4: انجام شده | G4: بررسی توسط شرکت | H4: توضیحات
B5: 1 | C5: ستاد دانشگاه | D5: بازخرید خدمت | E5: آیا سند ذخیره بازخرید خدمت کارکنان مربوط به سال 91 ثبت شده است؟
B6: 2 | E6: آیا سند ذخیره بازخرید خدمت کارکنان به صورت تعهدی ثبت شده است؟
B7: 3 | D7: ذخیره پیش پرداخت و علی الحساب | E7: آیا سند ذخیره مربوط به کار انجام شده پیش پرداختها و علی الحسابها صادر شده است؟
B8: 4 | E8: آیا سند ذخیره مربوط به کار انجام شده پیش پرداختها و علی الحسابها به صورت تعهدی صادر شده است؟
B9: 5 | D9: ذ.ه. تحقق یافته پرداخت نشده | E9: آیا سند ذخیره هزینه های تحقق یافته پرداخت نشده مربوط به سال 91 ثبت شده است ؟
B10: 6 | E10: آیا سند ذخیره هزینه های تحقق یافته پرداخت نشده به صورت تعهدی ثبت شده است ؟
B11: 7 | D11: بستانکاران تدارکات | E11: آیا اسناد پرداخت نشده مربوط به تدارکات به حساب بستانکار ذینفعان در دفاتر ثبت شده است؟
B12: 8 | E12: آیا اسناد پرداخت نشده مربوط به تدارکات به حساب بستانکار ذینفعان به صورت تعهدی ثبت شده است؟
B13: 9 | D13: تعهدات پرسنلی | E13: آیا سند تعهدات پرسنلی تا پایان سال 91 در دفاتر ثبت شده است؟
B14: 10 | E14: آیا سند تعهدات پرسنلی تا پایان سال 91 به صورت تعهدی ثبت شده است؟
B15: 11 | D15: مطالبات احتمالی | E15: آیا سند مطالبات احتمالی غیر بیمه ای موسسه ثبت شده است ؟
B16: 12 | E16: آیا سند مطالبات احتمالی غیر بیمه ای موسسه به صورت تعهدی ثبت شده است ؟
B17: 13 | C17: معاونت آموزشی | D17: بازخرید خدمت | E17: آیا سند ذخیره بازخرید خدمت کارکنان مربوط به سال 91 ثبت شده است؟
B18: 14 | E18: آیا سند ذخیره بازخرید خدمت کارکنان به صورت تعهدی ثبت شده است؟
B19: 15 | D19: ذخیره پیش پرداخت و علی الحساب | E19: آیا سند ذخیره مربوط به کار انجام شده پیش پرداختها و علی الحسابها صادر شده است؟
B20: 16 | E20: آیا سند ذخیره مربوط به کار انجام شده پیش پرداختها و علی الحسابها به صورت تعهدی صادر شده است؟
B21: 17 | D21: ذ.ه. تحقق یافته پرداخت نشده | E21: آیا سند ذخیره هزینه های تحقق یافته پرداخت نشده مربوط به سال 91 ثبت شده است ؟
B22: 18 | E22: آیا سند ذخیره هزینه های تحقق یافته پرداخت نشده به صورت تعهدی ثبت شده است ؟
B23: 19 | D23: بستانکاران تدارکات | E23: آیا اسناد پرداخت نشده مربوط به تدارکات به حساب بستانکار ذینفعان در دفاتر ثبت شده است؟
B24: 20 | E24: آیا اسناد پرداخت نشده مربوط به تدارکات به حساب بستانکار ذینفعان به صورت تعهدی ثبت شده است؟
B25: 21 | D25: تعهدات پرسنلی | E25: آیا سند تعهدات پرسنلی تا پایان سال 91 در دفاتر ثبت شده است؟
B26: 22 | E26: آیا سند تعهدات پرسنلی تا پایان سال 91 به صورت تعهدی ثبت شده است؟
B27: 23 | D27: مطالبات احتمالی | E27: آیا سند مطالبات احتمالی غیر بیمه ای موسسه ثبت شده است ؟
B28: 24 | E28: آیا سند مطالبات احتمالی غیر بیمه ای موسسه به صورت تعهدی ثبت شده است ؟
B29: 25 | C29: معاونت بهداشتی | D29: بازخرید خدمت | E29: آیا سند ذخیره بازخرید خدمت کارکنان مربوط به سال 91 ثبت شده است؟
B30: 26 | E30: آیا سند ذخیره بازخرید خدمت کارکنان به صورت تعهدی ثبت شده است؟
B31: 27 | D31: ذخیره پیش پرداخت و علی الحساب | E31: آیا سند ذخیره مربوط به کار انجام شده پیش پرداختها و علی الحسابها صادر شده است؟
B32: 28 | E32: آیا سند ذخیره مربوط به کار انجام شده پیش پرداختها و علی الحسابها به صورت تعهدی صادر شده است؟
B33: 29 | D33: ذ.ه. تحقق یافته پرداخت نشده | E33: آیا سند ذخیره هزینه های تحقق یافته پرداخت نشده مربوط به سال 91 ثبت شده است ؟
B34: 30 | E34: آیا سند ذخیره هزینه های تحقق یافته پرداخت نشده به صورت تعهدی ثبت شده است ؟
B35: 31 | D35: بستانکاران تدارکات | E35: آیا اسناد پرداخت نشده مربوط به تدارکات به حساب بستانکار ذینفعان در دفاتر ثبت شده است؟
B36: 32 | E36: آیا اسناد پرداخت نشده مربوط به تدارکات به حساب بستانکار ذینفعان به صورت تعهدی ثبت شده است؟
B37: 33 | D37: تعهدات پرسنلی | E37: آیا سند تعهدات پرسنلی تا پایان سال 91 در دفاتر ثبت شده است؟
B38: 34 | E38: آیا سند تعهدات پرسنلی تا پایان سال 91 به صورت تعهدی ثبت شده است؟
B39: 35 | D39: مطالبات احتمالی | E39: آیا سند مطالبات احتمالی غیر بیمه ای موسسه ثبت شده است ؟
B40: 36 | E40: آیا سند مطالبات احتمالی غیر بیمه ای موسسه به صورت تعهدی ثبت شده است ؟
B41: 37 | C41: معاونت پژوهشی | D41: بازخرید خدمت | E41: آیا سند ذخیره بازخرید خدمت کارکنان مربوط به سال 91 ثبت شده است؟
B42: 38 | E42: آیا سند ذخیره بازخرید خدمت کارکنان به صورت تعهدی ثبت شده است؟
B43: 39 | D43: ذخیره پیش پرداخت و علی الحساب | E43: آیا سند ذخیره مربوط به کار انجام شده پیش پرداختها و علی الحسابها صادر شده است؟
B44: 40 | E44: آیا سند ذخیره مربوط به کار انجام شده پیش پرداختها و علی الحسابها به صورت تعهدی صادر شده است؟
B45: 41 | D45: ذ.ه. تحقق یافته پرداخت نشده | E45: آیا سند ذخیره هزینه های تحقق یافته پرداخت نشده مربوط به سال 91 ثبت شده است ؟
B46: 42 | E46: آیا سند ذخیره هزینه های تحقق یافته پرداخت نشده به صورت تعهدی ثبت شده است ؟
B47: 43 | D47: بستانکاران تدارکات | E47: آیا اسناد پرداخت نشده مربوط به تدارکات به حساب بستانکار ذینفعان در دفاتر ثبت شده است؟
B48: 44 | E48: آیا اسناد پرداخت نشده مربوط به تدارکات به حساب بستانکار ذینفعان به صورت تعهدی ثبت شده است؟
B49: 45 | D49: تعهدات پرسنلی | E49: آیا سند تعهدات پرسنلی تا پایان سال 91 در دفاتر ثبت شده است؟
B50: 46 | E50: آیا سند تعهدات پرسنلی تا پایان سال 91 به صورت تعهدی ثبت شده است؟
B51: 47 | D51: مطالبات احتمالی | E51: آیا سند مطالبات احتمالی غیر بیمه ای موسسه ثبت شده است ؟
B52: 48 | E52: آیا سند مطالبات احتمالی غیر بیمه ای موسسه به صورت تعهدی ثبت شده است ؟
B53: 49 | C53: معاونت توسعه | D53: بازخرید خدمت | E53: آیا سند ذخیره بازخرید خدمت کارکنان مربوط به سال 91 ثبت شده است؟
B54: 50 | E54: آیا سند ذخیره بازخرید خدمت کارکنان به صورت تعهدی ثبت شده است؟
B55: 51 | D55: ذخیره پیش پرداخت و علی الحساب | E55: آیا سند ذخیره مربوط به کار انجام شده پیش پرداختها و علی الحسابها صادر شده است؟
B56: 52 | E56: آیا سند ذخیره مربوط به کار انجام شده پیش پرداختها و علی الحسابها به صورت تعهدی صادر شده است؟
B57: 53 | D57: ذ.ه. تحقق یافته پرداخت نشده | E57: آیا سند ذخیره هزینه های تحقق یافته پرداخت نشده مربوط به سال 91 ثبت شده است ؟
B58: 54 | E58: آیا سند ذخیره هزینه های تحقق یافته پرداخت نشده به صورت تعهدی ثبت شده است ؟
B59: 55 | D59: بستانکاران تدارکات | E59: آیا اسناد پرداخت نشده مربوط به تدارکات به حساب بستانکار ذینفعان در دفاتر ثبت شده است؟
B60: 56 | E60: آیا اسناد پرداخت نشده مربوط به تدارکات به حساب بستانکار ذینفعان به صورت تعهدی ثبت شده است؟
B61: 57 | D61: تعهدات پرسنلی | E61: آیا سند تعهدات پرسنلی تا پایان سال 91 در دفاتر ثبت شده است؟
B62: 58 | E62: آیا سند تعهدات پرسنلی تا پایان سال 91 به صورت تعهدی ثبت شده است؟
B63: 59 | D63: مطالبات احتمالی | E63: آیا سند مطالبات احتمالی غیر بیمه ای موسسه ثبت شده است ؟
B64: 60 | E64: آیا سند مطالبات احتمالی غیر بیمه ای موسسه به صورت تعهدی ثبت شده است ؟
B65: 61 | C65: معاونت غذا و دارو | D65: بازخرید خدمت | E65: آیا سند ذخیره بازخرید خدمت کارکنان مربوط به سال 91 ثبت شده است؟
B66: 62 | E66: آیا سند ذخیره بازخرید خدمت کارکنان به صورت تعهدی ثبت شده است؟
B67: 63 | D67: ذخیره پیش پرداخت و علی الحساب | E67: آیا سند ذخیره مربوط به کار انجام شده پیش پرداختها و علی الحسابها صادر شده است؟
B68: 64 | E68: آیا سند ذخیره مربوط به کار انجام شده پیش پرداختها و علی الحسابها به صورت تعهدی صادر شده است؟
B69: 65 | D69: ذ.ه. تحقق یافته پرداخت نشده | E69: آیا سند ذخیره هزینه های تحقق یافته پرداخت نشده مربوط به سال 91 ثبت شده است ؟
B70: 66 | E70: آیا سند ذخیره هزینه های تحقق یافته پرداخت نشده به صورت تعهدی ثبت شده است ؟
B71: 67 | D71: بستانکاران تدارکات | E71: آیا اسناد پرداخت نشده مربوط به تدارکات به حساب بستانکار ذینفعان در دفاتر ثبت شده است؟
B72: 68 | E72: آیا اسناد پرداخت نشده مربوط به تدارکات به حساب بستانکار ذینفعان به صورت تعهدی ثبت شده است؟
B73: 69 | D73: تعهدات پرسنلی | E73: آیا سند تعهدات پرسنلی تا پایان سال 91 در دفاتر ثبت شده است؟
B74: 70 | E74: آیا سند تعهدات پرسنلی تا پایان سال 91 به صورت تعهدی ثبت شده است؟
B75: 71 | D75: مطالبات احتمالی | E75: آیا سند مطالبات احتمالی غیر بیمه ای موسسه ثبت شده است ؟
B76: 72 | E76: آیا سند مطالبات احتمالی غیر بیمه ای موسسه به صورت تعهدی ثبت شده است ؟
B77: 73 | C77: معاونت دانشجویی و فرهنگی | D77: بازخرید خدمت | E77: آیا سند ذخیره بازخرید خدمت کارکنان مربوط به سال 91 ثبت شده است؟
B78: 74 | E78: آیا سند ذخیره بازخرید خدمت کارکنان به صورت تعهدی ثبت شده است؟
B79: 75 | D79: ذخیره پیش پرداخت و علی الحساب | E79: آیا سند ذخیره مربوط به کار انجام شده پیش پرداختها و علی الحسابها صادر شده است؟
B80: 76 | E80: آیا سند ذخیره مربوط به کار انجام شده پیش پرداختها و علی الحسابها به صورت تعهدی صادر شده است؟
B81: 77 | D81: ذ.ه. تحقق یافته پرداخت نشده | E81: آیا سند ذخیره هزینه های تحقق یافته پرداخت نشده مربوط به سال 91 ثبت شده است ؟
B82: 78 | E82: آیا سند ذخیره هزینه های تحقق یافته پرداخت نشده به صورت تعهدی ثبت شده است ؟
B83: 79 | D83: بستانکاران تدارکات | E83: آیا اسناد پرداخت نشده مربوط به تدارکات به حساب بستانکار ذینفعان در دفاتر ثبت شده است؟
B84: 80 | E84: آیا اسناد پرداخت نشده مربوط به تدارکات به حساب بستانکار ذینفعان به صورت تعهدی ثبت شده است؟
B85: 81 | D85: تعهدات پرسنلی | E85: آیا سند تعهدات پرسنلی تا پایان سال 91 در دفاتر ثبت شده است؟
B86: 82 | E86: آیا سند تعهدات پرسنلی تا پایان سال 91 به صورت تعهدی ثبت شده است؟
B87: 83 | D87: مطالبات احتمالی | E87: آیا سند مطالبات احتمالی غیر بیمه ای موسسه ثبت شده است ؟
B88: 84 | E88: آیا سند مطالبات احتمالی غیر بیمه ای موسسه به صورت تعهدی ثبت شده است ؟
B89: 85 | C89: معاونت درمان | D89: بازخرید خدمت | E89: آیا سند ذخیره بازخرید خدمت کارکنان مربوط به سال 91 ثبت شده است؟
B90: 86 | E90: آیا سند ذخیره بازخرید خدمت کارکنان به صورت تعهدی ثبت شده است؟
B91: 87 | D91: ذخیره پیش پرداخت و علی الحساب | E91: آیا سند ذخیره مربوط به کار انجام شده پیش پرداختها و علی الحسابها صادر شده است؟
B92: 88 | E92: آیا سند ذخیره مربوط به کار انجام شده پیش پرداختها و علی الحسابها به صورت تعهدی صادر شده است؟
B93: 89 | D93: ذ.ه. تحقق یافته پرداخت نشده | E93: آیا سند ذخیره هزینه های تحقق یافته پرداخت نشده مربوط به سال 91 ثبت شده است ؟
B94: 90 | E94: آیا سند ذخیره هزینه های تحقق یافته پرداخت نشده به صورت تعهدی ثبت شده است ؟
B95: 91 | D95: بستانکاران تدارکات | E95: آیا اسناد پرداخت نشده مربوط به تدارکات به حساب بستانکار ذینفعان در دفاتر ثبت شده است؟
B96: 92 | E96: آیا اسناد پرداخت نشده مربوط به تدارکات به حساب بستانکار ذینفعان به صورت تعهدی ثبت شده است؟
B97: 93 | D97: تعهدات پرسنلی | E97: آیا سند تعهدات پرسنلی تا پایان سال 91 در دفاتر ثبت شده است؟
B98: 94 | E98: آیا سند تعهدات پرسنلی تا پایان سال 91 به صورت تعهدی ثبت شده است؟
B99: 95 | D99: مطالبات احتمالی | E99: آیا سند مطالبات احتمالی غیر بیمه ای موسسه ثبت شده است ؟
B100: 96 | E100: آیا سند مطالبات احتمالی غیر بیمه ای موسسه به صورت تعهدی ثبت شده است ؟

Sheet کاربرگ  7
B1: دانشگاه علوم پزشکی و خدمات بهداشتی درمانی کرمان
B2: کاربرگ گام به گام بستن حسابهای سال 1393
B3: ستاد دانشگاه
B4: ردیف | C4: شرح | E4: انجام شده | F4: بررسی توسط شرکت | G4: توضیحات
B5: 1 | C5: آیا کاربرگ نهایی درآمد جهت بررسی ارسال شده است ؟
B6: 2 | C6: کنترل افتتاحیه | D6: آیا مانده طلب از شرکتهای بیمه ای سال 1390 با کاربرگ ارسالی تطبیق دارد؟
B7: 3 | D7: آیا مانده نسخ ارسال نشده به بیمه سال 1390 با کاربرگ ارسالی تطبیق دارد؟
B8: 4 | C8: درآمد نقدی | D8: آیا درآمد نقدی خدمات ارائه شده در دفاتر ثبت شده است؟
B9: 5 | D9: آیا تیک نقدی و تعهدی رعایت شده است؟
B10: 6 | D10: آیا درآمد نقدی خدمات ارائه شده با کاربرگ ارسالی تطبیق داده شده است ؟
B11: 7 | C11: نسخ دریافتی | D11: آیا نسخ دریافتی ارسال نشده به ریز شرکتهای بیمه ای در دفاتر ثبت شده است ؟
B12: 8 | D12: آیا تیک نقدی و تعهدی رعایت شده است؟
B13: 9 | D13: آیا نسخ دریافتی ارسال نشده بیمه ای به ریز شرکتها با کاربرگ ارسالی کنترل شده است ؟
B14: 10 | C14: نسخ ارسالی | D14: آیا طلب از شرکتهای بیمه ای(نسخ ارسالی به بیمه) در دفاتر ثبت شده است ؟
B15: 11 | D15: آیا تیک نقدی و تعهدی رعایت شده است؟
B16: 12 | D16: آیا طلب از شرکتهای بیمه ای به ریز شرکتها با کاربرگ ارسالی کنترل شده است ؟
B17: 13 | C17: مصدومان ترافیکی | D17: آیا درآمد مصدومان ترافیکی در دفاتر ثبت شده است؟
B18: 14 | D18: آیا درآمد مصدومین ترافیکی ثبت شده با کاربرگ ارسالی تطبیق دارد؟
B19: 15 | D19: آیا تیک نقدی و تعهدی رعایت شده است؟
B20: 16 | D20: آیا ارسال اسناد مصدومان ترافیکی به ستاد در دفاتر ثبت شده است؟
B21: 17 | D21: آیا سند برگشت درآمد مصدومان ترافیکی بابت مبالغ دریافتی مصدومان ترافیکی در دفاتر ثبت شده است ؟
B22: 18 | D22: آیا رابط مصدومان ترافیکی با ستاد از نظر T1 تطبیق دارد ؟
B23: 19 | D23: آیا رابط مصدومان ترافیکی با ستاد از نظر T2 تطبیق دارد ؟
B24: 20 | D24: آیا رابط مصدومان ترافیکی با ستاد از نظر T3 تطبیق دارد ؟
B25: 21 | C25: درآمد وصولی از بیمه | D25: آیا وصول مطالبات از شرکتهای بیمه ای در دفاتر ثبت شده است؟
B26: 22 | D26: آیا وصول مطالبات از شرکتهای بیمه ای با کاربرگ ارسالی کنترل شده است؟
B27: 23 | D27: آیا تیک نقدی و تعهدی رعایت شده است؟
B28: 24 | D28: آیا مانده حساب دفاتر با مانده حساب در شرکت های بیمه ای تطبیق داده شده است؟
B29: 25 | D29: آیا وصول مطالبات از شرکتهای بیمه ای با کاربرگ ارسالی از نظر T1 کنترل شده است؟

Sheet کاربرگ 8
B1: دانشگاه علوم پزشکی و خدمات بهداشتی درمانی کرمان
B2: کاربرگ گام به گام بستن حسابهای سال 1393
B3: ستاد دانشگاه
B4: ردیف | C4: شرح | F4: انجام شده | G4: بررسی توسط شرکت | H4: توضیحات
B5: 1 | C5: ستاد دانشگاه | D5: کنترل اسناد هزینه | E5: آیا اسناد رسید انبار از مرحله رسیدگی به شناسایی کد اعتبار ارسال شده است؟
B6: 2 | E6: آیا کلیه اسناد در مرحله شناسایی کد اعتبار به وصول مستندات ارسال شده است؟
B7: 3 | E7: آیا برای اسنادی که رسید انبار ندارند سند شناسایی دستی صادر شده است؟
B8: 4 | E8: آیا کنترل خرید کالا و خدمات از نظر T1 کنترل شده است؟
B9: 5 | E9: آیا مانده کنترل خرید کالا و خدمات پرداخت نشده به بستانکاران بسته شده است؟
B10: 6 | E10: آیا کلیه اسناد هزینه از نظر T2 بررسی گردیده است؟
B11: 7 | E11: آیا تراز هزینه ها از لحاظ خلاف ماهیت کنترل شده است ؟
B12: 8 | E12: آیا تراز هزینه ها به تفکیک T2 کنترل شده است؟
B13: 9 | C13: معاونت آموزشی | D13: کنترل اسناد هزینه | E13: آیا اسناد رسید انبار از مرحله رسیدگی به شناسایی کد اعتبار ارسال شده است؟
B14: 10 | E14: آیا کلیه اسناد در مرحله شناسایی کد اعتبار به وصول مستندات ارسال شده است؟
B15: 11 | E15: آیا برای اسنادی که رسید انبار ندارند سند شناسایی دستی صادر شده است؟
B16: 12 | E16: آیا کنترل خرید کالا و خدمات از نظر T1 کنترل شده است؟
B17: 13 | E17: آیا مانده کنترل خرید کالا و خدمات پرداخت نشده به بستانکاران بسته شده است؟
B18: 14 | E18: آیا کلیه اسناد هزینه از نظر T2 بررسی گردیده است؟
B19: 15 | E19: آیا تراز هزینه ها از لحاظ خلاف ماهیت کنترل شده است ؟
B20: 16 | E20: آیا تراز هزینه ها به تفکیک T2 کنترل شده است؟
B21: 17 | C21: معاونت بهداشتی | D21: کنترل اسناد هزینه | E21: آیا اسناد رسید انبار از مرحله رسیدگی به شناسایی کد اعتبار ارسال شده است؟
B22: 18 | E22: آیا کلیه اسناد در مرحله شناسایی کد اعتبار به وصول مستندات ارسال شده است؟
B23: 19 | E23: آیا برای اسنادی که رسید انبار ندارند سند شناسایی دستی صادر شده است؟
B24: 20 | E24: آیا کنترل خرید کالا و خدمات از نظر T1 کنترل شده است؟
B25: 21 | E25: آیا مانده کنترل خرید کالا و خدمات پرداخت نشده به بستانکاران بسته شده است؟
B26: 22 | E26: آیا کلیه اسناد هزینه از نظر T2 بررسی گردیده است؟
B27: 23 | E27: آیا تراز هزینه ها از لحاظ خلاف ماهیت کنترل شده است ؟
B28: 24 | E28: آیا تراز هزینه ها به تفکیک T2 کنترل شده است؟
B29: 25 | C29: معاونت پژوهشی | D29: کنترل اسناد هزینه | E29: آیا اسناد رسید انبار از مرحله رسیدگی به شناسایی کد اعتبار ارسال شده است؟
B30: 26 | E30: آیا کلیه اسناد در مرحله شناسایی کد اعتبار به وصول مستندات ارسال شده است؟
B31: 27 | E31: آیا برای اسنادی که رسید انبار ندارند سند شناسایی دستی صادر شده است؟
B32: 28 | E32: آیا کنترل خرید کالا و خدمات از نظر T1 کنترل شده است؟
B33: 29 | E33: آیا مانده کنترل خرید کالا و خدمات پرداخت نشده به بستانکاران بسته شده است؟
B34: 30 | E34: آیا کلیه اسناد هزینه از نظر T2 بررسی گردیده است؟
B35: 31 | E35: آیا تراز هزینه ها از لحاظ خلاف ماهیت کنترل شده است ؟
B36: 32 | E36: آیا تراز هزینه ها به تفکیک T2 کنترل شده است؟
B37: 33 | C37: معاونت توسعه | D37: کنترل اسناد هزینه | E37: آیا اسناد رسید انبار از مرحله رسیدگی به شناسایی کد اعتبار ارسال شده است؟
B38: 34 | E38: آیا کلیه اسناد در مرحله شناسایی کد اعتبار به وصول مستندات ارسال شده است؟
B39: 35 | E39: آیا برای اسنادی که رسید انبار ندارند سند شناسایی دستی صادر شده است؟
B40: 36 | E40: آیا کنترل خرید کالا و خدمات از نظر T1 کنترل شده است؟
B41: 37 | E41: آیا مانده کنترل خرید کالا و خدمات پرداخت نشده به بستانکاران بسته شده است؟
B42: 38 | E42: آیا کلیه اسناد هزینه از نظر T2 بررسی گردیده است؟
B43: 39 | E43: آیا تراز هزینه ها از لحاظ خلاف ماهیت کنترل شده است ؟
B44: 40 | E44: آیا تراز هزینه ها به تفکیک T2 کنترل شده است؟
B45: 41 | C45: معاونت غذا و دارو | D45: کنترل اسناد هزینه | E45: آیا اسناد رسید انبار از مرحله رسیدگی به شناسایی کد اعتبار ارسال شده است؟
B46: 42 | E46: آیا کلیه اسناد در مرحله شناسایی کد اعتبار به وصول مستندات ارسال شده است؟
B47: 43 | E47: آیا برای اسنادی که رسید انبار ندارند سند شناسایی دستی صادر شده است؟
B48: 44 | E48: آیا کنترل خرید کالا و خدمات از نظر T1 کنترل شده است؟
B49: 45 | E49: آیا مانده کنترل خرید کالا و خدمات پرداخت نشده به بستانکاران بسته شده است؟
B50: 46 | E50: آیا کلیه اسناد هزینه از نظر T2 بررسی گردیده است؟
B51: 47 | E51: آیا تراز هزینه ها از لحاظ خلاف ماهیت کنترل شده است ؟
B52: 48 | E52: آیا تراز هزینه ها به تفکیک T2 کنترل شده است؟
B53: 49 | C53: معاونت دانشجویی و فرهنگی | D53: کنترل اسناد هزینه | E53: آیا اسناد رسید انبار از مرحله رسیدگی به شناسایی کد اعتبار ارسال شده است؟
B54: 50 | E54: آیا کلیه اسناد در مرحله شناسایی کد اعتبار به وصول مستندات ارسال شده است؟
B55: 51 | E55: آیا برای اسنادی که رسید انبار ندارند سند شناسایی دستی صادر شده است؟
B56: 52 | E56: آیا کنترل خرید کالا و خدمات از نظر T1 کنترل شده است؟
B57: 53 | E57: آیا مانده کنترل خرید کالا و خدمات پرداخت نشده به بستانکاران بسته شده است؟
B58: 54 | E58: آیا کلیه اسناد هزینه از نظر T2 بررسی گردیده است؟
B59: 55 | E59: آیا تراز هزینه ها از لحاظ خلاف ماهیت کنترل شده است ؟
B60: 56 | E60: آیا تراز هزینه ها به تفکیک T2 کنترل شده است؟
B61: 57 | C61: معاونت درمان | D61: کنترل اسناد هزینه | E61: آیا اسناد رسید انبار از مرحله رسیدگی به شناسایی کد اعتبار ارسال شده است؟
B62: 58 | E62: آیا کلیه اسناد در مرحله شناسایی کد اعتبار به وصول مستندات ارسال شده است؟
B63: 59 | E63: آیا برای اسنادی که رسید انبار ندارند سند شناسایی دستی صادر شده است؟
B64: 60 | E64: آیا کنترل خرید کالا و خدمات از نظر T1 کنترل شده است؟
B65: 61 | E65: آیا مانده کنترل خرید کالا و خدمات پرداخت نشده به بستانکاران بسته شده است؟
B66: 62 | E66: آیا کلیه اسناد هزینه از نظر T2 بررسی گردیده است؟
B67: 63 | E67: آیا تراز هزینه ها از لحاظ خلاف ماهیت کنترل شده است ؟
B68: 64 | E68: آیا تراز هزینه ها به تفکیک T2 کنترل شده است؟

Sheet کاربرگ 9
B1: دانشگاه علوم پزشکی و خدمات بهداشتی درمانی کرمان
B2: کاربرگ گام به گام بستن حسابهای سال 1393
B3: ستاد دانشگاه
B4: ردیف | C4: شرح | F4: انجام شده | G4: بررسی توسط شرکت | H4: توضیحات
B5: 1 | C5: ستاد دانشگاه | D5: مغایرت بانکی | E5: آیا صورت مغایرت مربوطه به کلیه حسابهای بانکی انجام گرفته است؟
B6: 2 | E6: آیا صورت مغایرت انجام شده برای شرکت ارسال شده است؟
B7: 3 | E7: آیا مغایرتهای احتمالی در صورت مغایرت بانکی رفع شده است؟
B8: 4 | E8: آیا مانده بانکها از نظر نقدی و تعهدی کنترل شده است؟
B9: 5 | E9: آیا تراز T1بانکها کنترل شده است؟
B10: 6 | E10: آیا تراز T2 بانکها کنترل شده است؟
B11: 7 | E11: آیا تراز T1 به تفکیک T2 بانکها کنترل شده است؟
B12: 8 | C12: معاونت آموزشی | D12: مغایرت بانکی | E12: آیا صورت مغایرت مربوطه به کلیه حسابهای بانکی انجام گرفته است؟
B13: 9 | E13: آیا صورت مغایرت انجام شده برای شرکت ارسال شده است؟
B14: 10 | E14: آیا مغایرتهای احتمالی در صورت مغایرت بانکی رفع شده است؟
B15: 11 | E15: آیا مانده بانکها از نظر نقدی و تعهدی کنترل شده است؟
B16: 12 | E16: آیا تراز T1بانکها کنترل شده است؟
B17: 13 | E17: آیا تراز T2 بانکها کنترل شده است؟
B18: 14 | E18: آیا تراز T1 به تفکیک T2 بانکها کنترل شده است؟
B19: 15 | C19: معاونت بهداشتی | D19: مغایرت بانکی | E19: آیا صورت مغایرت مربوطه به کلیه حسابهای بانکی انجام گرفته است؟
B20: 16 | E20: آیا صورت مغایرت انجام شده برای شرکت ارسال شده است؟
B21: 17 | E21: آیا مغایرتهای احتمالی در صورت مغایرت بانکی رفع شده است؟
B22: 18 | E22: آیا مانده بانکها از نظر نقدی و تعهدی کنترل شده است؟
B23: 19 | E23: آیا تراز T1بانکها کنترل شده است؟
B24: 20 | E24: آیا تراز T2 بانکها کنترل شده است؟
B25: 21 | E25: آیا تراز T1 به تفکیک T2 بانکها کنترل شده است؟
B26: 22 | C26: معاونت پژوهشی | D26: مغایرت بانکی | E26: آیا صورت مغایرت مربوطه به کلیه حسابهای بانکی انجام گرفته است؟
B27: 23 | E27: آیا صورت مغایرت انجام شده برای شرکت ارسال شده است؟
B28: 24 | E28: آیا مغایرتهای احتمالی در صورت مغایرت بانکی رفع شده است؟
B29: 25 | E29: آیا مانده بانکها از نظر نقدی و تعهدی کنترل شده است؟
B30: 26 | E30: آیا تراز T1بانکها کنترل شده است؟
B31: 27 | E31: آیا تراز T2 بانکها کنترل شده است؟
B32: 28 | E32: آیا تراز T1 به تفکیک T2 بانکها کنترل شده است؟
B33: 29 | C33: معاونت توسعه | D33: مغایرت بانکی | E33: آیا صورت مغایرت مربوطه به کلیه حسابهای بانکی انجام گرفته است؟
B34: 30 | E34: آیا صورت مغایرت انجام شده برای شرکت ارسال شده است؟
B35: 31 | E35: آیا مغایرتهای احتمالی در صورت مغایرت بانکی رفع شده است؟
B36: 32 | E36: آیا مانده بانکها از نظر نقدی و تعهدی کنترل شده است؟
B37: 33 | E37: آیا تراز T1بانکها کنترل شده است؟
B38: 34 | E38: آیا تراز T2 بانکها کنترل شده است؟
B39: 35 | E39: آیا تراز T1 به تفکیک T2 بانکها کنترل شده است؟
B40: 36 | C40: معاونت غذا و دارو | D40: مغایرت بانکی | E40: آیا صورت مغایرت مربوطه به کلیه حسابهای بانکی انجام گرفته است؟
B41: 37 | E41: آیا صورت مغایرت انجام شده برای شرکت ارسال شده است؟
B42: 38 | E42: آیا مغایرتهای احتمالی در صورت مغایرت بانکی رفع شده است؟
B43: 39 | E43: آیا مانده بانکها از نظر نقدی و تعهدی کنترل شده است؟
B44: 40 | E44: آیا تراز T1بانکها کنترل شده است؟
B45: 41 | E45: آیا تراز T2 بانکها کنترل شده است؟
B46: 42 | E46: آیا تراز T1 به تفکیک T2 بانکها کنترل شده است؟
B47: 43 | C47: معاونت دانشجویی و فرهنگی | D47: مغایرت بانکی | E47: آیا صورت مغایرت مربوطه به کلیه حسابهای بانکی انجام گرفته است؟
B48: 44 | E48: آیا صورت مغایرت انجام شده برای شرکت ارسال شده است؟
B49: 45 | E49: آیا مغایرتهای احتمالی در صورت مغایرت بانکی رفع شده است؟
B50: 46 | E50: آیا مانده بانکها از نظر نقدی و تعهدی کنترل شده است؟
B51: 47 | E51: آیا تراز T1بانکها کنترل شده است؟
B52: 48 | E52: آیا تراز T2 بانکها کنترل شده است؟
B53: 49 | E53: آیا تراز T1 به تفکیک T2 بانکها کنترل شده است؟
B54: 50 | C54: معاونت درمان | D54: مغایرت بانکی | E54: آیا صورت مغایرت مربوطه به کلیه حسابهای بانکی انجام گرفته است؟
B55: 51 | E55: آیا صورت مغایرت انجام شده برای شرکت ارسال شده است؟
B56: 52 | E56: آیا مغایرتهای احتمالی در صورت مغایرت بانکی رفع شده است؟
B57: 53 | E57: آیا مانده بانکها از نظر نقدی و تعهدی کنترل شده است؟
B58: 54 | E58: آیا تراز T1بانکها کنترل شده است؟
B59: 55 | E59: آیا تراز T2 بانکها کنترل شده است؟
B60: 56 | E60: آیا تراز T1 به تفکیک T2 بانکها کنترل شده است؟

Sheet کاربرگ 1-9
B1: دانشگاه علوم پزشکی و خدمات بهداشتی درمانی کرمان
B2: کاربرگ گام به گام بستن حسابهای سال 1393
B3: ستاد دانشگاه
B4: ردیف | C4: شماره حساب | D4: تاریخ | E4: مانده دفاتر دانشگاه | F4: مانده صورتحساب بانک | G4: مغایرت | H4: شماره نامه | I4: دربافت فایل
B5: 1
B6: 2
B7: 3
B8: 4
B9: 5
B10: 6
B11: 7
B12: 8
B13: 9
B14: 10
B15: 11
B16: 12
... B29: 25

Sheet کاربرگ 10
B1: دانشگاه علوم پزشکی و خدمات بهداشتی درمانی کرمان
B2: کاربرگ گام به گام بستن حسابهای سال 1393
B3: ستاد دانشگاه
B4: ردیف | C4: نام واحد | D4: شناسه تولید سند | E4: شرح سند | F4: کد حساب تعدیلات | G4: نام حساب تعدیلات | H4: کد سرفصل جايگزين | I4: کد طرف حساب جزء معین | J4: نام طرف حساب جزء معين | K4: کد تفصیل یک طرف حساب | L4: نام تفصل يك طرف حساب | M4: منبع اعتباری | N4: مبلغ سند
